BEGIN:VCALENDAR
VERSION:2.0
PRODID:-//El Dorado, Arkansas - ECPv6.15.20//NONSGML v1.0//EN
CALSCALE:GREGORIAN
METHOD:PUBLISH
X-WR-CALNAME:El Dorado, Arkansas
X-ORIGINAL-URL:https://www.goeldorado.com
X-WR-CALDESC:Events for El Dorado, Arkansas
REFRESH-INTERVAL;VALUE=DURATION:PT1H
X-Robots-Tag:noindex
X-PUBLISHED-TTL:PT1H
BEGIN:VTIMEZONE
TZID:America/Chicago
BEGIN:DAYLIGHT
TZOFFSETFROM:-0600
TZOFFSETTO:-0500
TZNAME:CDT
DTSTART:20220313T080000
END:DAYLIGHT
BEGIN:STANDARD
TZOFFSETFROM:-0500
TZOFFSETTO:-0600
TZNAME:CST
DTSTART:20221106T070000
END:STANDARD
BEGIN:DAYLIGHT
TZOFFSETFROM:-0600
TZOFFSETTO:-0500
TZNAME:CDT
DTSTART:20230312T080000
END:DAYLIGHT
BEGIN:STANDARD
TZOFFSETFROM:-0500
TZOFFSETTO:-0600
TZNAME:CST
DTSTART:20231105T070000
END:STANDARD
BEGIN:DAYLIGHT
TZOFFSETFROM:-0600
TZOFFSETTO:-0500
TZNAME:CDT
DTSTART:20240310T080000
END:DAYLIGHT
BEGIN:STANDARD
TZOFFSETFROM:-0500
TZOFFSETTO:-0600
TZNAME:CST
DTSTART:20241103T070000
END:STANDARD
END:VTIMEZONE
BEGIN:VEVENT
DTSTART;TZID=America/Chicago:20231019T180000
DTEND;TZID=America/Chicago:20231019T193000
DTSTAMP:20260421T230532
CREATED:20231006T133524Z
LAST-MODIFIED:20231006T133524Z
UID:10014645-1697738400-1697743800@www.goeldorado.com
SUMMARY:Corks & Canvas w/ K Campbell @ SAAC
DESCRIPTION:
URL:https://www.goeldorado.com/event/corks-canvas-w-k-campbell-saac/
LOCATION:South Arkansas Arts Center
CATEGORIES:Arts & Culture
ATTACH;FMTTYPE=image/jpeg:https://www.goeldorado.com/wp-content/uploads/2023/10/383847888_698596705637734_7168308021022150576_n.jpg
END:VEVENT
BEGIN:VEVENT
DTSTART;TZID=America/Chicago:20231019T193000
DTEND;TZID=America/Chicago:20231019T210000
DTSTAMP:20260421T230533
CREATED:20230816T142504Z
LAST-MODIFIED:20230816T142504Z
UID:10014510-1697743800-1697749200@www.goeldorado.com
SUMMARY:Once Upon A Mattress @ South Arkansas Arts Center
DESCRIPTION:More details and ticket info coming soon
URL:https://www.goeldorado.com/event/once-upon-a-mattress-south-arkansas-arts-center/
LOCATION:South Arkansas Arts Center
CATEGORIES:Arts & Culture,Community,Family and Children
ATTACH;FMTTYPE=image/jpeg:https://www.goeldorado.com/wp-content/uploads/2023/08/once-upon-a-mattress.jpg
END:VEVENT
BEGIN:VEVENT
DTSTART;TZID=America/Chicago:20231019T200000
DTEND;TZID=America/Chicago:20231019T220000
DTSTAMP:20260421T230533
CREATED:20230414T131220Z
LAST-MODIFIED:20230414T131220Z
UID:10013203-1697745600-1697752800@www.goeldorado.com
SUMMARY:Smackwater LIVE @ Mad House 101
DESCRIPTION:  \n \nNo cover.\nSmackwater is a variety band based in the Monroe\, LA area. The members have a combined 200+ years of experience in playing live music. The band’s playlist consists of hundreds of songs including classic rock\, R&B\, Louisiana Soul\, Swamp Pop\, Funk\, Soul and country.
URL:https://www.goeldorado.com/event/smackwater-live-mad-house-101/
LOCATION:MAD House 101 Restuarant and Bar\, 101 E Locust\, El Dorado\, AR\, 71730\, United States
CATEGORIES:Live Music
ATTACH;FMTTYPE=image/jpeg:https://www.goeldorado.com/wp-content/uploads/2023/04/smackwater.jpg
END:VEVENT
BEGIN:VEVENT
DTSTART;TZID=America/Chicago:20231020T120000
DTEND;TZID=America/Chicago:20231020T120000
DTSTAMP:20260421T230533
CREATED:20230912T211459Z
LAST-MODIFIED:20230913T131153Z
UID:10014559-1697803200-1697803200@www.goeldorado.com
SUMMARY:12th Annual Tim Zimmerebner Pro-Am Benefiting HOPE Landing
DESCRIPTION:Friday\, October 20\, 2023 \nHot Springs Country Club \nHot Springs\, Arkansas \nCost is $150.00 per person \nShotgun tee-off at 12:00 pm \nLunch will be provided \nTo Register: Call  Barry Howard at Hot Springs Country Club @(501) 624-2661 \nPlay this beautiful course and support our mission to bring hope and purpose to the lives of children with disabilities by helping them achieve their God-given potential.  HOPE Landing is a non-profit  charitable corporation\, dedicated to providing  physical therapy\, occupational therapy\, speech – language therapy\, equine activities and therapy and aquatic therapy to children with cognitive and physical disabilities\, regardless of their family’s ability to pay. The facility is located on a beautiful \n80-acre ranch east of El Dorado\, Arkansas. \nFind more information at www.hopelanding.com \nor follow us on Facebook \n  \n 
URL:https://www.goeldorado.com/event/12th-annual-tim-zimmerebner-pro-am-benefiting-hope-landing/
LOCATION:AR
CATEGORIES:Recreation & Sports
END:VEVENT
BEGIN:VEVENT
DTSTART;TZID=America/Chicago:20231020T150000
DTEND;TZID=America/Chicago:20231020T163000
DTSTAMP:20260421T230533
CREATED:20230815T212148Z
LAST-MODIFIED:20230815T212148Z
UID:10014509-1697814000-1697819400@www.goeldorado.com
SUMMARY:El Dorado High School Homecoming Parade
DESCRIPTION:El Dorado High School Homecoming Parade \nRoute and more details TBA
URL:https://www.goeldorado.com/event/el-dorado-high-school-homecoming-parade/
LOCATION:AR
CATEGORIES:Clubs/Organizations,Family and Children,Recreation & Sports,Schools
END:VEVENT
BEGIN:VEVENT
DTSTART;TZID=America/Chicago:20231020T190000
DTEND;TZID=America/Chicago:20231020T220000
DTSTAMP:20260421T230533
CREATED:20230629T204009Z
LAST-MODIFIED:20230629T204009Z
UID:10014439-1697828400-1697839200@www.goeldorado.com
SUMMARY:EHS Wildcat HOMECOMING GAME vs. Sylvan Hills
DESCRIPTION:
URL:https://www.goeldorado.com/event/ehs-wildcat-homecoming-game-vs-sylvan-hills/
LOCATION:Memorial Stadium\, N West Ave\, El Dorado\, AR\, 71730\, United States
CATEGORIES:Community,Education,Family and Children,Recreation & Sports
END:VEVENT
BEGIN:VEVENT
DTSTART;TZID=America/Chicago:20231020T200000
DTEND;TZID=America/Chicago:20231020T220000
DTSTAMP:20260421T230533
CREATED:20230724T184711Z
LAST-MODIFIED:20230724T184711Z
UID:10014492-1697832000-1697839200@www.goeldorado.com
SUMMARY:Street Dance Party w/ Airstreams on the Square
DESCRIPTION:LIVE MUSIC/ Dance Party with bank “Remnants of Rock” a 60s-70s rock cover band
URL:https://www.goeldorado.com/event/street-dance-party-w-airstreams-on-the-square/
LOCATION:Downtown El Dorado\, 101 N. Washington\, El Dorado\, AR\, 71730
CATEGORIES:Community,Family and Children,Festivals & Celebrations,Live Music
END:VEVENT
BEGIN:VEVENT
DTSTART;TZID=America/Chicago:20231020T200000
DTEND;TZID=America/Chicago:20231020T220000
DTSTAMP:20260421T230533
CREATED:20230816T193435Z
LAST-MODIFIED:20230821T132732Z
UID:10014525-1697832000-1697839200@www.goeldorado.com
SUMMARY:Side Street Steppers LIVE @ MAD House 101
DESCRIPTION:  \nFREE Show! Join the Side Street Steppers after the Murphy USA Classic for a jolly good time!  
URL:https://www.goeldorado.com/event/side-street-steppers-live-mad-house-101/
LOCATION:MAD House 101 Restuarant and Bar\, 101 E Locust\, El Dorado\, AR\, 71730\, United States
CATEGORIES:Community,Live Music
ATTACH;FMTTYPE=image/jpeg:https://www.goeldorado.com/wp-content/uploads/2023/08/side-st-steppers.jpg
END:VEVENT
BEGIN:VEVENT
DTSTART;TZID=America/Chicago:20231021T080000
DTEND;TZID=America/Chicago:20231021T110000
DTSTAMP:20260421T230533
CREATED:20230414T212537Z
LAST-MODIFIED:20230626T140535Z
UID:10014360-1697875200-1697886000@www.goeldorado.com
SUMMARY:Farmers Market at MAD
DESCRIPTION:Shop local vendors at the MAD Amphitheater!
URL:https://www.goeldorado.com/event/farmers-market-at-mad-3/2023-10-21/
LOCATION:AR
CATEGORIES:Arts & Culture,Community,Family and Children
ATTACH;FMTTYPE=image/jpeg:https://www.goeldorado.com/wp-content/uploads/2023/04/famersmarketevent.jpg
END:VEVENT
BEGIN:VEVENT
DTSTART;TZID=America/Chicago:20231021T090000
DTEND;TZID=America/Chicago:20231021T110000
DTSTAMP:20260421T230533
CREATED:20230720T204727Z
LAST-MODIFIED:20230726T202326Z
UID:10014482-1697878800-1697886000@www.goeldorado.com
SUMMARY:Walk to End Alzheimers
DESCRIPTION:9am \nSAR Walk Flyer 2023 \nThe Alzheimer’s Association Walk to End Alzheimer’s is full of flowers-each carried by someone committed to raising fund and awareness to help end this disease. \n  \nVisit www.alz.org/walk for more information.
URL:https://www.goeldorado.com/event/walk-to-end-alzheimers-save-the-date/
LOCATION:El Dorado Conference Center\, 311 S West Ave\, El Dorado\, 71730\, United States
CATEGORIES:Clubs/Organizations,Community,Family and Children,Recreation & Sports
ATTACH;FMTTYPE=application/pdf:https://www.goeldorado.com/wp-content/uploads/2023/07/SAR-Walk-Flyer-2023-1.pdf
END:VEVENT
BEGIN:VEVENT
DTSTART;TZID=America/Chicago:20231021T130000
DTEND;TZID=America/Chicago:20231021T150000
DTSTAMP:20260421T230533
CREATED:20230123T203743Z
LAST-MODIFIED:20231016T163829Z
UID:10011768-1697893200-1697900400@www.goeldorado.com
SUMMARY:ICS Chili Cook Off w/ MainStreet El Dorado
DESCRIPTION:
URL:https://www.goeldorado.com/event/ics-chili-cook-off-w-mainstreet-el-dorado/
LOCATION:Main Street El Dorado/Union Square El Dorado\, downtown El Dorado
CATEGORIES:Community,Family and Children,Festivals & Celebrations
ATTACH;FMTTYPE=image/jpeg:https://www.goeldorado.com/wp-content/uploads/2023/01/392940917_652002323732221_660307482815000609_n.jpg
END:VEVENT
BEGIN:VEVENT
DTSTART;TZID=America/Chicago:20231021T140000
DTEND;TZID=America/Chicago:20231021T170000
DTSTAMP:20260421T230533
CREATED:20231004T224720Z
LAST-MODIFIED:20231017T193302Z
UID:10014637-1697896800-1697907600@www.goeldorado.com
SUMMARY:Murphy USA Football Classic
DESCRIPTION:The Muleriders of Southern Arkansas University take on the Bison of Harding University in a Great American Conference matchup at 2PM Saturday in Memorial Stadium. Tickets are available at Murphy USA locations in El Dorado and Magnolia at $5 for advance and $7 at the gate.
URL:https://www.goeldorado.com/event/murphy-usa-football-classic/
LOCATION:Memorial Stadium\, N West Ave\, El Dorado\, AR\, 71730\, United States
CATEGORIES:Festivals & Celebrations,Live Music,Recreation & Sports,Schools
ATTACH;FMTTYPE=image/jpeg:https://www.goeldorado.com/wp-content/uploads/2023/10/MUSA-1.jpg
END:VEVENT
BEGIN:VEVENT
DTSTART;TZID=America/Chicago:20231021T170000
DTEND;TZID=America/Chicago:20231021T213000
DTSTAMP:20260421T230533
CREATED:20230123T171108Z
LAST-MODIFIED:20230123T171108Z
UID:10011033-1697907600-1697923800@www.goeldorado.com
SUMMARY:Bingo @ The VFW
DESCRIPTION:The VFW will be hosting BINGO! Every Saturday night. \nQuarter Bingo starts at 5pm \nRegular Bingo starts at 7pm
URL:https://www.goeldorado.com/event/bingo-the-vfw/2023-10-21/
LOCATION:VFW\, 451 Industrial Rd\, El Dorado\, AR\, 71730\, United States
CATEGORIES:Clubs/Organizations,Community,Recreation & Sports
END:VEVENT
BEGIN:VEVENT
DTSTART;TZID=America/Chicago:20231021T190000
DTEND;TZID=America/Chicago:20231021T213000
DTSTAMP:20260421T230533
CREATED:20231006T150057Z
LAST-MODIFIED:20231006T150057Z
UID:10015016-1697914800-1697923800@www.goeldorado.com
SUMMARY:El Dorado Haunt
DESCRIPTION:  \n  \nA haunted walking trail. \nOpens nightly at 7pm until ???? \n$15 each \nVisit us at https://eldohaunt.com/ or on Facebook and Instagram for more details.
URL:https://www.goeldorado.com/event/el-dorado-haunt-3/2023-10-21/
LOCATION:AR
CATEGORIES:Clubs/Organizations,Community,Family and Children,Holiday
ATTACH;FMTTYPE=image/jpeg:https://www.goeldorado.com/wp-content/uploads/2023/10/haunt-calendar-2023.jpg
END:VEVENT
BEGIN:VEVENT
DTSTART;TZID=America/Chicago:20231021T190000
DTEND;TZID=America/Chicago:20231021T230000
DTSTAMP:20260421T230533
CREATED:20231005T211646Z
LAST-MODIFIED:20231005T211646Z
UID:10014639-1697914800-1697929200@www.goeldorado.com
SUMMARY:
DESCRIPTION:
URL:https://www.goeldorado.com/event/8537/
LOCATION:El Dorado Conference Center\, 311 S West Ave\, El Dorado\, 71730\, United States
CATEGORIES:Clubs/Organizations,Community
ATTACH;FMTTYPE=image/jpeg:https://www.goeldorado.com/wp-content/uploads/2023/10/381002371_687138933449295_3237131073986739745_n.jpg
END:VEVENT
BEGIN:VEVENT
DTSTART;TZID=America/Chicago:20231021T193000
DTEND;TZID=America/Chicago:20231021T213000
DTSTAMP:20260421T230533
CREATED:20230816T142559Z
LAST-MODIFIED:20230816T143141Z
UID:10014511-1697916600-1697923800@www.goeldorado.com
SUMMARY:Once Upon A Mattress @ South Arkansas Arts Center
DESCRIPTION:More details and ticket info coming soon
URL:https://www.goeldorado.com/event/once-upon-a-mattress-south-arkansas-arts-center-2/
LOCATION:South Arkansas Arts Center
CATEGORIES:Arts & Culture,Community,Family and Children
ATTACH;FMTTYPE=image/jpeg:https://www.goeldorado.com/wp-content/uploads/2023/08/once-upon-a-mattress.jpg
END:VEVENT
BEGIN:VEVENT
DTSTART;TZID=America/Chicago:20231022T143000
DTEND;TZID=America/Chicago:20231022T173000
DTSTAMP:20260421T230533
CREATED:20230816T142642Z
LAST-MODIFIED:20230816T143213Z
UID:10014512-1697985000-1697995800@www.goeldorado.com
SUMMARY:Once Upon A Mattress @ South Arkansas Arts Center
DESCRIPTION:More details and ticket info coming soon
URL:https://www.goeldorado.com/event/once-upon-a-mattress-south-arkansas-arts-center-3/
LOCATION:South Arkansas Arts Center
CATEGORIES:Arts & Culture,Community,Family and Children
ATTACH;FMTTYPE=image/jpeg:https://www.goeldorado.com/wp-content/uploads/2023/08/once-upon-a-mattress.jpg
END:VEVENT
BEGIN:VEVENT
DTSTART;TZID=America/Chicago:20231022T190000
DTEND;TZID=America/Chicago:20231022T213000
DTSTAMP:20260421T230533
CREATED:20231006T150057Z
LAST-MODIFIED:20231006T150057Z
UID:10015017-1698001200-1698010200@www.goeldorado.com
SUMMARY:El Dorado Haunt
DESCRIPTION:  \n  \nA haunted walking trail. \nOpens nightly at 7pm until ???? \n$15 each \nVisit us at https://eldohaunt.com/ or on Facebook and Instagram for more details.
URL:https://www.goeldorado.com/event/el-dorado-haunt-3/2023-10-22/
LOCATION:AR
CATEGORIES:Clubs/Organizations,Community,Family and Children,Holiday
ATTACH;FMTTYPE=image/jpeg:https://www.goeldorado.com/wp-content/uploads/2023/10/haunt-calendar-2023.jpg
END:VEVENT
BEGIN:VEVENT
DTSTART;VALUE=DATE:20231023
DTEND;VALUE=DATE:20231028
DTSTAMP:20260421T230533
CREATED:20230803T145646Z
LAST-MODIFIED:20230810T155658Z
UID:10014501-1698019200-1698451199@www.goeldorado.com
SUMMARY:Post It Purple Week - Virtual Domestic Violence Awareness
DESCRIPTION:This year\, Turning Point of South Arkansas will be doing our social media awareness campaign for an entire week instead of one day. \nSimply wear something purple on any day (or every day) this week and tag us in your photos on social media! \nLets flood social media with purple this week! \nFacebook: www.Facebook.com/TurningPointofSouthArkansas\nInstagram: @TurningPointAR www.Instagram.com/TurningPointAR
URL:https://www.goeldorado.com/event/post-it-purple-week-virtual-domestic-violence-awareness/
LOCATION:AR
CATEGORIES:Clubs/Organizations,Community
ATTACH;FMTTYPE=image/png:https://www.goeldorado.com/wp-content/uploads/2023/08/Copy-of-Post-It-Purple-Flyer.png
END:VEVENT
BEGIN:VEVENT
DTSTART;TZID=America/Chicago:20231023T170000
DTEND;TZID=America/Chicago:20231023T180000
DTSTAMP:20260421T230533
CREATED:20231017T140436Z
LAST-MODIFIED:20231017T140436Z
UID:10015784-1698080400-1698084000@www.goeldorado.com
SUMMARY:Red Ribbon Week Proclamation Reading
DESCRIPTION:
URL:https://www.goeldorado.com/event/red-ribbon-week-proclamation-reading/
LOCATION:Union County Courthouse\, 101 N. Washington\, El Dorado\, AR\, 71730
CATEGORIES:Clubs/Organizations,Education,Family and Children
ATTACH;FMTTYPE=image/jpeg:https://www.goeldorado.com/wp-content/uploads/2023/10/red-ribbon-week.jpg
END:VEVENT
BEGIN:VEVENT
DTSTART;TZID=America/Chicago:20231024T060000
DTEND;TZID=America/Chicago:20231024T100000
DTSTAMP:20260421T230533
CREATED:20230901T200236Z
LAST-MODIFIED:20230905T151947Z
UID:10014547-1698127200-1698141600@www.goeldorado.com
SUMMARY:UCRC Annual Reagan Rockefeller Dinner
DESCRIPTION:
URL:https://www.goeldorado.com/event/ucrc-annual-reagan-rockefeller-dinner/
LOCATION:AR
CATEGORIES:Community
ATTACH;FMTTYPE=image/jpeg:https://www.goeldorado.com/wp-content/uploads/2023/09/RR-2023-invite-5x7-jpeg-scaled.jpg
END:VEVENT
BEGIN:VEVENT
DTSTART;TZID=America/Chicago:20231024T130000
DTEND;TZID=America/Chicago:20231024T180000
DTSTAMP:20260421T230533
CREATED:20231004T171746Z
LAST-MODIFIED:20231004T222650Z
UID:10014635-1698152400-1698170400@www.goeldorado.com
SUMMARY:SouthArk STARS vs ASU Three Rivers Baseball Game
DESCRIPTION:Enjoy fall ball and cheer on the SouthArk STARS baseball team as they battle ASU Three Rivers!
URL:https://www.goeldorado.com/event/southark-stars-vs-asu-three-rivers-baseball-game/
LOCATION:El Dorado Recreation Complex\, 2409 Champagnolle Rd\, El Dorado\, AR\, 71730\, United States
CATEGORIES:Recreation & Sports
ATTACH;FMTTYPE=image/png:https://www.goeldorado.com/wp-content/uploads/2023/10/logo.png
END:VEVENT
BEGIN:VEVENT
DTSTART;TZID=America/Chicago:20231024T180000
DTEND;TZID=America/Chicago:20231024T210000
DTSTAMP:20260421T230533
CREATED:20230920T210722Z
LAST-MODIFIED:20230921T151010Z
UID:10014572-1698170400-1698181200@www.goeldorado.com
SUMMARY:Film Appreciation - The Universal Studios Horror Cycle 1930-1955
DESCRIPTION:Hosted by Dr. James Yates and Darrin Riley \nBrought to you by Community Education at Mahony Family Library and South Arkansas Historical Preservation Society \n  \nThe Universal Pictures horror cycle of the 1930s remains one of the high points of American film and the Horror genre’s existence. Over and over\, the studio —  One of Hollywood’s oldest — tackled classic works of gothic and horror literature to produce vivid\, stylish\, wondrous\, scary\, humorous films which were destined to become classics themselves. This cycle of films – actually begun in the 1920s – would dominate Universal Pictures’ output to the 1950s was instrumental in the shaping of horror cinema. With their often B-grade production values and hammy shocks\, it’s tempting to view the studio’s horror films as unsophisticated relics. Yet at their best they brim with wit\, invention and atmosphere\, including depictions of gothic icons such as Count Dracula and Frankenstein’s monster that are definitively ingrained in the cultural psyche. \nThis course will examine this cycle by focusing on four specific classics – Frankenstein\, Dracula\, The Mummy\, and The Wolfman – and discussing how these films were made and the impact they had on the studio and popular culture\, and analyzing  themes and key scenes. Each week\, a film will be introduced and discussed\, screened\, and analyzed.
URL:https://www.goeldorado.com/event/film-appreciation-the-universal-studios-horror-cycle-1930-1955/2023-10-24/
LOCATION:Mahony Family Library\, 300 Summit Ave\, El Dorado\, AR\, 71730\, United States
CATEGORIES:Arts & Culture,Community,Continuing Education
ORGANIZER;CN="South Arkansas Historical Preservation Society":MAILTO:info@soarkhistory.com
END:VEVENT
BEGIN:VEVENT
DTSTART;TZID=America/Chicago:20231025T120000
DTEND;TZID=America/Chicago:20231025T130000
DTSTAMP:20260421T230533
CREATED:20231016T131805Z
LAST-MODIFIED:20231018T162522Z
UID:10015786-1698235200-1698238800@www.goeldorado.com
SUMMARY:Kiwanis Meeting
DESCRIPTION:
URL:https://www.goeldorado.com/event/kiwanis-meeting-2-2/2023-10-25/
LOCATION:First Presbyterian Church\, 300 E. Main St\, El Dorado
CATEGORIES:Business,Clubs/Organizations
END:VEVENT
BEGIN:VEVENT
DTSTART;TZID=America/Chicago:20231026T180000
DTEND;TZID=America/Chicago:20231026T200000
DTSTAMP:20260421T230533
CREATED:20231013T130812Z
LAST-MODIFIED:20231016T163221Z
UID:10015773-1698343200-1698350400@www.goeldorado.com
SUMMARY:SouthArk's Meet the Stars
DESCRIPTION:Come out to the SouthArk Gymnasium on Thursday\, October 26th at 6:00 PM for Meet the Stars which will include player introductions\, a 3 point shootout\, and a slam dunk contest! You’ll have chances to win prizes and can get the autograph of your favorite Star. Free admission!
URL:https://www.goeldorado.com/event/southarks-meet-the-stars/
LOCATION:South Arkansas College Gym\, 311 S West Ave\, El Dorado\, AR\, 71730\, United States
CATEGORIES:Community,Family and Children,Recreation & Sports,Schools
ATTACH;FMTTYPE=image/png:https://www.goeldorado.com/wp-content/uploads/2023/10/Meet-the-Stars-2023.png
END:VEVENT
BEGIN:VEVENT
DTSTART;TZID=America/Chicago:20231026T193000
DTEND;TZID=America/Chicago:20231026T213000
DTSTAMP:20260421T230533
CREATED:20230816T142737Z
LAST-MODIFIED:20230816T143400Z
UID:10014513-1698348600-1698355800@www.goeldorado.com
SUMMARY:Once Upon A Mattress @ South Arkansas Arts Center
DESCRIPTION:More details and ticket info coming soon
URL:https://www.goeldorado.com/event/once-upon-a-mattress-south-arkansas-arts-center-4/
LOCATION:South Arkansas Arts Center
CATEGORIES:Arts & Culture,Community,Family and Children
ATTACH;FMTTYPE=image/jpeg:https://www.goeldorado.com/wp-content/uploads/2023/08/once-upon-a-mattress.jpg
END:VEVENT
BEGIN:VEVENT
DTSTART;TZID=America/Chicago:20231027T170000
DTEND;TZID=America/Chicago:20231027T190000
DTSTAMP:20260421T230533
CREATED:20230914T141805Z
LAST-MODIFIED:20230914T172530Z
UID:10014567-1698426000-1698433200@www.goeldorado.com
SUMMARY:EL DO ART WALK - EXTENDED HOURS
DESCRIPTION:Downtown businesses participating in the EL DO ART WALK will have extended hours until 7 PM on Oct. 27. \nMeet the artists\, purchase that piece you’ve had your eye on\, enjoy some refreshments\, and take a stroll around Downtown El Dorado! \nWe hope everyone will find the time to stop by one — OR ALL — of these businesses to help us celebrate local art. Stay tuned to the Downtown El Dorado Facebook page for more information on the event and participating businesses and artists!
URL:https://www.goeldorado.com/event/el-do-art-walk-extended-hours/
LOCATION:Downtown El Dorado\, 101 N. Washington\, El Dorado\, AR\, 71730
CATEGORIES:Arts & Culture,Community
ATTACH;FMTTYPE=image/png:https://www.goeldorado.com/wp-content/uploads/2023/09/OCT24.Oct_.-27-Announcement.png
END:VEVENT
BEGIN:VEVENT
DTSTART;TZID=America/Chicago:20231027T190000
DTEND;TZID=America/Chicago:20231027T213000
DTSTAMP:20260421T230533
CREATED:20231006T150205Z
LAST-MODIFIED:20231006T150205Z
UID:10015384-1698433200-1698442200@www.goeldorado.com
SUMMARY:El Dorado Haunt
DESCRIPTION:  \nA haunted walking trail. \nOpens nightly at 7pm until ???? \n$15 each \nVisit us at https://eldohaunt.com/ or on Facebook and Instagram for more details. \n 
URL:https://www.goeldorado.com/event/el-dorado-haunt-4/2023-10-27/
LOCATION:Camp Wotapi\, 4100 Wotapi Dr\, El Dorado\, AR\, 71730\, United States
CATEGORIES:Clubs/Organizations,Community,Family and Children,Holiday
ATTACH;FMTTYPE=image/jpeg:https://www.goeldorado.com/wp-content/uploads/2023/10/haunt-calendar-2023.jpg
ORGANIZER;CN="Campfire El Dorado":MAILTO:campfire@suddenlinkmail.com
END:VEVENT
BEGIN:VEVENT
DTSTART;TZID=America/Chicago:20231027T193000
DTEND;TZID=America/Chicago:20231027T213000
DTSTAMP:20260421T230533
CREATED:20230816T142822Z
LAST-MODIFIED:20230816T142822Z
UID:10014514-1698435000-1698442200@www.goeldorado.com
SUMMARY:Once Upon A Mattress @ South Arkansas Arts Center
DESCRIPTION:
URL:https://www.goeldorado.com/event/once-upon-a-mattress-south-arkansas-arts-center-5/
LOCATION:South Arkansas Arts Center
CATEGORIES:Arts & Culture,Community,Family and Children
ATTACH;FMTTYPE=image/jpeg:https://www.goeldorado.com/wp-content/uploads/2023/08/once-upon-a-mattress.jpg
END:VEVENT
BEGIN:VEVENT
DTSTART;TZID=America/Chicago:20231027T200000
DTEND;TZID=America/Chicago:20231027T220000
DTSTAMP:20260421T230533
CREATED:20230620T194037Z
LAST-MODIFIED:20230621T152018Z
UID:10014332-1698436800-1698444000@www.goeldorado.com
SUMMARY:"Night of the Living Newtons"
DESCRIPTION:South AR Historical Society’s second annual “Night at the Living Newtons” haunted downtown tour and Newton House Haunted Candlelight Walk-through. Details TBD
URL:https://www.goeldorado.com/event/night-of-the-living-newtons-2/
LOCATION:The Newton House\, 510 N. Jackson Ave.\, El Dorado\, AR\, 71730
CATEGORIES:Community,Family and Children,Holiday
ORGANIZER;CN="South Arkansas Historical Preservation Society":MAILTO:info@soarkhistory.com
END:VEVENT
END:VCALENDAR