BEGIN:VCALENDAR
VERSION:2.0
PRODID:-//El Dorado, Arkansas - ECPv6.15.20//NONSGML v1.0//EN
CALSCALE:GREGORIAN
METHOD:PUBLISH
X-WR-CALNAME:El Dorado, Arkansas
X-ORIGINAL-URL:https://www.goeldorado.com
X-WR-CALDESC:Events for El Dorado, Arkansas
REFRESH-INTERVAL;VALUE=DURATION:PT1H
X-Robots-Tag:noindex
X-PUBLISHED-TTL:PT1H
BEGIN:VTIMEZONE
TZID:America/Chicago
BEGIN:DAYLIGHT
TZOFFSETFROM:-0600
TZOFFSETTO:-0500
TZNAME:CDT
DTSTART:20220313T080000
END:DAYLIGHT
BEGIN:STANDARD
TZOFFSETFROM:-0500
TZOFFSETTO:-0600
TZNAME:CST
DTSTART:20221106T070000
END:STANDARD
BEGIN:DAYLIGHT
TZOFFSETFROM:-0600
TZOFFSETTO:-0500
TZNAME:CDT
DTSTART:20230312T080000
END:DAYLIGHT
BEGIN:STANDARD
TZOFFSETFROM:-0500
TZOFFSETTO:-0600
TZNAME:CST
DTSTART:20231105T070000
END:STANDARD
BEGIN:DAYLIGHT
TZOFFSETFROM:-0600
TZOFFSETTO:-0500
TZNAME:CDT
DTSTART:20240310T080000
END:DAYLIGHT
BEGIN:STANDARD
TZOFFSETFROM:-0500
TZOFFSETTO:-0600
TZNAME:CST
DTSTART:20241103T070000
END:STANDARD
BEGIN:DAYLIGHT
TZOFFSETFROM:-0600
TZOFFSETTO:-0500
TZNAME:CDT
DTSTART:20250309T080000
END:DAYLIGHT
BEGIN:STANDARD
TZOFFSETFROM:-0500
TZOFFSETTO:-0600
TZNAME:CST
DTSTART:20251102T070000
END:STANDARD
END:VTIMEZONE
BEGIN:VEVENT
DTSTART;TZID=America/Chicago:20231221T180000
DTEND;TZID=America/Chicago:20231221T190000
DTSTAMP:20260422T021445
CREATED:20231109T180121Z
LAST-MODIFIED:20231109T183656Z
UID:10016309-1703181600-1703185200@www.goeldorado.com
SUMMARY:Trivia Night @ DP's Food Truck
DESCRIPTION:
URL:https://www.goeldorado.com/event/trivia-night-dps-food-truck/2023-12-21/
LOCATION:DP’s Food Truck Court\, 2117 N College Ave\, 2117 N College Ave\, El Dorado\, AR\, 71730\, United States
CATEGORIES:Community,Family and Children,Recreation & Sports
ATTACH;FMTTYPE=image/jpeg:https://www.goeldorado.com/wp-content/uploads/2023/11/trivia.jpg
END:VEVENT
BEGIN:VEVENT
DTSTART;TZID=America/Chicago:20231222T170000
DTEND;TZID=America/Chicago:20231222T200000
DTSTAMP:20260422T021445
CREATED:20231222T164310Z
LAST-MODIFIED:20231222T164310Z
UID:10017735-1703264400-1703275200@www.goeldorado.com
SUMMARY:Trail of Light @ Murphy Arts District
DESCRIPTION:
URL:https://www.goeldorado.com/event/trail-of-light-murphy-arts-district/2023-12-22/
LOCATION:Murphy Arts District\, 101 E. Locust Street\, El Dorado\, AR\, 71730\, United States
CATEGORIES:Community,Family and Children,Festivals & Celebrations,Holiday
ATTACH;FMTTYPE=image/jpeg:https://www.goeldorado.com/wp-content/uploads/2023/12/411494745_386683217066681_534126764938969262_n.jpg
END:VEVENT
BEGIN:VEVENT
DTSTART;TZID=America/Chicago:20231222T173000
DTEND;TZID=America/Chicago:20231222T203000
DTSTAMP:20260422T021445
CREATED:20231107T173025Z
LAST-MODIFIED:20231107T173025Z
UID:10016290-1703266200-1703277000@www.goeldorado.com
SUMMARY:Holiday Lights Extravaganza @ Natural Resource Museum
DESCRIPTION:$10 a carload \nThis is a must-see lighting display.
URL:https://www.goeldorado.com/event/holiday-lights-extravaganza-natural-resource-museum-6/2023-12-22/
LOCATION:AR
CATEGORIES:Arts & Culture,Community,Family and Children,Festivals & Celebrations,Holiday
END:VEVENT
BEGIN:VEVENT
DTSTART;TZID=America/Chicago:20231222T180000
DTEND;TZID=America/Chicago:20231222T200000
DTSTAMP:20260422T021445
CREATED:20231222T164524Z
LAST-MODIFIED:20231222T164524Z
UID:10017745-1703268000-1703275200@www.goeldorado.com
SUMMARY:Bingo @ DP's Food Truck Park
DESCRIPTION:  \n\nGood morning guys! We are trying something new at the park tonight with a few games of bingo!\nFist 100 customers get a bingo card\, 10 games\, each winner gets a $15 DP’s food voucher! Starts at 6!\n\n\nToday’s Trucks:\nLetty’s Mexican Cuisine LLC: 11am – 2pm / 5pm- 9pm\nSnacks Abuelita: 11am – 9pm\nBic’s Cajun Kitchen: 12pm – until\n\n\nFood will be hot\, our heaters will be rolling\, and the Holiday spirit will be in the air! Come see us today!
URL:https://www.goeldorado.com/event/bingo-dps-food-truck-park/
LOCATION:DP’s Food Truck Court\, 2117 N College Ave\, 2117 N College Ave\, El Dorado\, AR\, 71730\, United States
CATEGORIES:Community,Family and Children,Holiday
END:VEVENT
BEGIN:VEVENT
DTSTART;TZID=America/Chicago:20231222T200000
DTEND;TZID=America/Chicago:20231222T220000
DTSTAMP:20260422T021445
CREATED:20231222T163122Z
LAST-MODIFIED:20231222T163122Z
UID:10017730-1703275200-1703282400@www.goeldorado.com
SUMMARY:Joe Beasley LIVE @ PJ's Coffee
DESCRIPTION:
URL:https://www.goeldorado.com/event/joe-beasley-live-pjs-coffee-2/
LOCATION:PJ’s Coffee Shop El Dorado\, 106 W Main\, El Dorado\, AR\, 71730\, United States
CATEGORIES:Live Music
END:VEVENT
BEGIN:VEVENT
DTSTART;TZID=America/Chicago:20231222T210000
DTEND;TZID=America/Chicago:20231222T230000
DTSTAMP:20260422T021445
CREATED:20231222T160902Z
LAST-MODIFIED:20231222T160902Z
UID:10017729-1703278800-1703286000@www.goeldorado.com
SUMMARY:Kyle Thompson LIVE at Mink Eye
DESCRIPTION:
URL:https://www.goeldorado.com/event/kyle-thompson-live-at-mink-eye/
LOCATION:The Mink Eye\, 117 Main st\, El Dorado\, AR\, 71730\, United States
CATEGORIES:Live Music
END:VEVENT
BEGIN:VEVENT
DTSTART;TZID=America/Chicago:20231223T170000
DTEND;TZID=America/Chicago:20231223T200000
DTSTAMP:20260422T021445
CREATED:20231222T164310Z
LAST-MODIFIED:20231222T164310Z
UID:10017736-1703350800-1703361600@www.goeldorado.com
SUMMARY:Trail of Light @ Murphy Arts District
DESCRIPTION:
URL:https://www.goeldorado.com/event/trail-of-light-murphy-arts-district/2023-12-23/
LOCATION:Murphy Arts District\, 101 E. Locust Street\, El Dorado\, AR\, 71730\, United States
CATEGORIES:Community,Family and Children,Festivals & Celebrations,Holiday
ATTACH;FMTTYPE=image/jpeg:https://www.goeldorado.com/wp-content/uploads/2023/12/411494745_386683217066681_534126764938969262_n.jpg
END:VEVENT
BEGIN:VEVENT
DTSTART;TZID=America/Chicago:20231223T170000
DTEND;TZID=America/Chicago:20231223T213000
DTSTAMP:20260422T021445
CREATED:20230123T171108Z
LAST-MODIFIED:20230123T171108Z
UID:10011042-1703350800-1703367000@www.goeldorado.com
SUMMARY:Bingo @ The VFW
DESCRIPTION:The VFW will be hosting BINGO! Every Saturday night. \nQuarter Bingo starts at 5pm \nRegular Bingo starts at 7pm
URL:https://www.goeldorado.com/event/bingo-the-vfw/2023-12-23/
LOCATION:VFW\, 451 Industrial Rd\, El Dorado\, AR\, 71730\, United States
CATEGORIES:Clubs/Organizations,Community,Recreation & Sports
END:VEVENT
BEGIN:VEVENT
DTSTART;TZID=America/Chicago:20231223T173000
DTEND;TZID=America/Chicago:20231223T203000
DTSTAMP:20260422T021445
CREATED:20231107T173025Z
LAST-MODIFIED:20231107T173025Z
UID:10016291-1703352600-1703363400@www.goeldorado.com
SUMMARY:Holiday Lights Extravaganza @ Natural Resource Museum
DESCRIPTION:$10 a carload \nThis is a must-see lighting display.
URL:https://www.goeldorado.com/event/holiday-lights-extravaganza-natural-resource-museum-6/2023-12-23/
LOCATION:AR
CATEGORIES:Arts & Culture,Community,Family and Children,Festivals & Celebrations,Holiday
END:VEVENT
BEGIN:VEVENT
DTSTART;TZID=America/Chicago:20231223T200000
DTEND;TZID=America/Chicago:20231223T220000
DTSTAMP:20260422T021445
CREATED:20231222T163216Z
LAST-MODIFIED:20231222T163216Z
UID:10017731-1703361600-1703368800@www.goeldorado.com
SUMMARY:Zach Hefton LIVE @ PJs Coffee
DESCRIPTION:
URL:https://www.goeldorado.com/event/zach-hefton-live-pjs-coffee/
LOCATION:PJ’s Coffee Shop El Dorado\, 106 W Main\, El Dorado\, AR\, 71730\, United States
CATEGORIES:Live Music
END:VEVENT
BEGIN:VEVENT
DTSTART;TZID=America/Chicago:20231223T220000
DTEND;TZID=America/Chicago:20231223T233000
DTSTAMP:20260422T021445
CREATED:20231222T163531Z
LAST-MODIFIED:20231222T163647Z
UID:10017734-1703368800-1703374200@www.goeldorado.com
SUMMARY:How DNB Stole Christmas: The Glow Party @ the Fairgrounds
DESCRIPTION:LET’S TURN CHRISTMAS WEEKEND UP DECEMBER 23RD (HOW DNB STOLE CHRISTMAS GLOW PARTY) WIT PLAYBOY XO AND Fat Boii PERFORMING LIVE AT DA EL DORADO FAIRGROUNDS WIT SOME BEAUTIFUL HOSTS Diona Miles Courvoisier McDaniel AND Deondra Smith AND ALSO HOSTED BY DNB Entertainment WIT DJ UNCLE RACHET Buck Johnson ON DA 1s and 2s STARTING AT 10 AND JUST KNOW SECURITY WILL BE STRICTLY ENFORCED SO COME IN PEACE AND LET’S TURN UP DNB BABY!!!!!!!!
URL:https://www.goeldorado.com/event/8959/
LOCATION:Union County Fair Grounds\, 430 E 19th St\, El Dorado\, AR\, 71730\, United States
CATEGORIES:Holiday,Live Music
ATTACH;FMTTYPE=image/jpeg:https://www.goeldorado.com/wp-content/uploads/2023/12/406550096_1012692319919121_1848938161052605164_n.jpg
ORGANIZER;CN="DNB Entertainment":MAILTO:Dnbbay453@gmail.com
END:VEVENT
BEGIN:VEVENT
DTSTART;TZID=America/Chicago:20231224T170000
DTEND;TZID=America/Chicago:20231224T200000
DTSTAMP:20260422T021445
CREATED:20231222T164310Z
LAST-MODIFIED:20231222T164310Z
UID:10017737-1703437200-1703448000@www.goeldorado.com
SUMMARY:Trail of Light @ Murphy Arts District
DESCRIPTION:
URL:https://www.goeldorado.com/event/trail-of-light-murphy-arts-district/2023-12-24/
LOCATION:Murphy Arts District\, 101 E. Locust Street\, El Dorado\, AR\, 71730\, United States
CATEGORIES:Community,Family and Children,Festivals & Celebrations,Holiday
ATTACH;FMTTYPE=image/jpeg:https://www.goeldorado.com/wp-content/uploads/2023/12/411494745_386683217066681_534126764938969262_n.jpg
END:VEVENT
BEGIN:VEVENT
DTSTART;TZID=America/Chicago:20231225T000000
DTEND;TZID=America/Chicago:20231225T235900
DTSTAMP:20260422T021445
CREATED:20220809T212644Z
LAST-MODIFIED:20220816T204522Z
UID:10009208-1703462400-1703548740@www.goeldorado.com
SUMMARY:Christmas Day
DESCRIPTION:The Chamber and city government offices\, with the exception of the police and fire departments\, will be closed in observance of Christmas Day.
URL:https://www.goeldorado.com/event/christmas-day/2023-12-25/
LOCATION:AR
CATEGORIES:Holiday
END:VEVENT
BEGIN:VEVENT
DTSTART;TZID=America/Chicago:20231225T170000
DTEND;TZID=America/Chicago:20231225T200000
DTSTAMP:20260422T021445
CREATED:20231222T164310Z
LAST-MODIFIED:20231222T164310Z
UID:10017738-1703523600-1703534400@www.goeldorado.com
SUMMARY:Trail of Light @ Murphy Arts District
DESCRIPTION:
URL:https://www.goeldorado.com/event/trail-of-light-murphy-arts-district/2023-12-25/
LOCATION:Murphy Arts District\, 101 E. Locust Street\, El Dorado\, AR\, 71730\, United States
CATEGORIES:Community,Family and Children,Festivals & Celebrations,Holiday
ATTACH;FMTTYPE=image/jpeg:https://www.goeldorado.com/wp-content/uploads/2023/12/411494745_386683217066681_534126764938969262_n.jpg
END:VEVENT
BEGIN:VEVENT
DTSTART;TZID=America/Chicago:20231226T170000
DTEND;TZID=America/Chicago:20231226T200000
DTSTAMP:20260422T021445
CREATED:20231222T164310Z
LAST-MODIFIED:20231222T164310Z
UID:10017739-1703610000-1703620800@www.goeldorado.com
SUMMARY:Trail of Light @ Murphy Arts District
DESCRIPTION:
URL:https://www.goeldorado.com/event/trail-of-light-murphy-arts-district/2023-12-26/
LOCATION:Murphy Arts District\, 101 E. Locust Street\, El Dorado\, AR\, 71730\, United States
CATEGORIES:Community,Family and Children,Festivals & Celebrations,Holiday
ATTACH;FMTTYPE=image/jpeg:https://www.goeldorado.com/wp-content/uploads/2023/12/411494745_386683217066681_534126764938969262_n.jpg
END:VEVENT
BEGIN:VEVENT
DTSTART;TZID=America/Chicago:20231227T120000
DTEND;TZID=America/Chicago:20231227T130000
DTSTAMP:20260422T021445
CREATED:20231016T131805Z
LAST-MODIFIED:20231018T162522Z
UID:10015795-1703678400-1703682000@www.goeldorado.com
SUMMARY:Kiwanis Meeting
DESCRIPTION:
URL:https://www.goeldorado.com/event/kiwanis-meeting-2-2/2023-12-27/
LOCATION:First Presbyterian Church\, 300 E. Main St\, El Dorado
CATEGORIES:Business,Clubs/Organizations
END:VEVENT
BEGIN:VEVENT
DTSTART;TZID=America/Chicago:20231227T170000
DTEND;TZID=America/Chicago:20231227T200000
DTSTAMP:20260422T021445
CREATED:20231222T164310Z
LAST-MODIFIED:20231222T164310Z
UID:10017740-1703696400-1703707200@www.goeldorado.com
SUMMARY:Trail of Light @ Murphy Arts District
DESCRIPTION:
URL:https://www.goeldorado.com/event/trail-of-light-murphy-arts-district/2023-12-27/
LOCATION:Murphy Arts District\, 101 E. Locust Street\, El Dorado\, AR\, 71730\, United States
CATEGORIES:Community,Family and Children,Festivals & Celebrations,Holiday
ATTACH;FMTTYPE=image/jpeg:https://www.goeldorado.com/wp-content/uploads/2023/12/411494745_386683217066681_534126764938969262_n.jpg
END:VEVENT
BEGIN:VEVENT
DTSTART;TZID=America/Chicago:20231227T183000
DTEND;TZID=America/Chicago:20231227T203000
DTSTAMP:20260422T021445
CREATED:20231211T223240Z
LAST-MODIFIED:20231211T223240Z
UID:10016982-1703701800-1703709000@www.goeldorado.com
SUMMARY:Sip & Paint Sparkle Party @XQuizite Salon and Spa
DESCRIPTION:
URL:https://www.goeldorado.com/event/sip-paint-sparkle-party-xquizite-salon-and-spa/
LOCATION:Xquizite Salon and Spa\, 1409 N West Ave\, El Doraddo\, AR\, 71730\, United States
CATEGORIES:Arts & Culture,Business
ATTACH;FMTTYPE=image/jpeg:https://www.goeldorado.com/wp-content/uploads/2023/12/409159687_10231885997321756_3554591058478176225_n.jpg
END:VEVENT
BEGIN:VEVENT
DTSTART;TZID=America/Chicago:20231228T170000
DTEND;TZID=America/Chicago:20231228T200000
DTSTAMP:20260422T021445
CREATED:20231222T164310Z
LAST-MODIFIED:20231222T164310Z
UID:10017741-1703782800-1703793600@www.goeldorado.com
SUMMARY:Trail of Light @ Murphy Arts District
DESCRIPTION:
URL:https://www.goeldorado.com/event/trail-of-light-murphy-arts-district/2023-12-28/
LOCATION:Murphy Arts District\, 101 E. Locust Street\, El Dorado\, AR\, 71730\, United States
CATEGORIES:Community,Family and Children,Festivals & Celebrations,Holiday
ATTACH;FMTTYPE=image/jpeg:https://www.goeldorado.com/wp-content/uploads/2023/12/411494745_386683217066681_534126764938969262_n.jpg
END:VEVENT
BEGIN:VEVENT
DTSTART;TZID=America/Chicago:20231228T180000
DTEND;TZID=America/Chicago:20231228T190000
DTSTAMP:20260422T021445
CREATED:20231109T180121Z
LAST-MODIFIED:20231109T183656Z
UID:10016310-1703786400-1703790000@www.goeldorado.com
SUMMARY:Trivia Night @ DP's Food Truck
DESCRIPTION:
URL:https://www.goeldorado.com/event/trivia-night-dps-food-truck/2023-12-28/
LOCATION:DP’s Food Truck Court\, 2117 N College Ave\, 2117 N College Ave\, El Dorado\, AR\, 71730\, United States
CATEGORIES:Community,Family and Children,Recreation & Sports
ATTACH;FMTTYPE=image/jpeg:https://www.goeldorado.com/wp-content/uploads/2023/11/trivia.jpg
END:VEVENT
BEGIN:VEVENT
DTSTART;TZID=America/Chicago:20231229T153000
DTEND;TZID=America/Chicago:20231229T170000
DTSTAMP:20260422T021445
CREATED:20230911T155432Z
LAST-MODIFIED:20230911T155435Z
UID:10014554-1703863800-1703869200@www.goeldorado.com
SUMMARY:Vet Talk w/ Project SOUTH
DESCRIPTION:
URL:https://www.goeldorado.com/event/vet-talk-w-project-south-4-2/2023-12-29/
LOCATION:PJ’s Coffee Shop El Dorado\, 106 W Main\, El Dorado\, AR\, 71730\, United States
CATEGORIES:Community
ATTACH;FMTTYPE=image/png:https://www.goeldorado.com/wp-content/uploads/2023/04/Vet-Talk-3.png
END:VEVENT
BEGIN:VEVENT
DTSTART;TZID=America/Chicago:20231229T170000
DTEND;TZID=America/Chicago:20231229T200000
DTSTAMP:20260422T021445
CREATED:20231222T164310Z
LAST-MODIFIED:20231222T164310Z
UID:10017742-1703869200-1703880000@www.goeldorado.com
SUMMARY:Trail of Light @ Murphy Arts District
DESCRIPTION:
URL:https://www.goeldorado.com/event/trail-of-light-murphy-arts-district/2023-12-29/
LOCATION:Murphy Arts District\, 101 E. Locust Street\, El Dorado\, AR\, 71730\, United States
CATEGORIES:Community,Family and Children,Festivals & Celebrations,Holiday
ATTACH;FMTTYPE=image/jpeg:https://www.goeldorado.com/wp-content/uploads/2023/12/411494745_386683217066681_534126764938969262_n.jpg
END:VEVENT
BEGIN:VEVENT
DTSTART;TZID=America/Chicago:20231229T200000
DTEND;TZID=America/Chicago:20231229T220000
DTSTAMP:20260422T021445
CREATED:20231222T163306Z
LAST-MODIFIED:20231222T163306Z
UID:10017732-1703880000-1703887200@www.goeldorado.com
SUMMARY:Open Mic Night @ PJ's Coffee
DESCRIPTION:
URL:https://www.goeldorado.com/event/open-mic-night-pjs-coffee-5/
LOCATION:PJ’s Coffee Shop El Dorado\, 106 W Main\, El Dorado\, AR\, 71730\, United States
CATEGORIES:Live Music
END:VEVENT
BEGIN:VEVENT
DTSTART;TZID=America/Chicago:20231230T160000
DTEND;TZID=America/Chicago:20231230T200000
DTSTAMP:20260422T021445
CREATED:20230628T143043Z
LAST-MODIFIED:20230628T143043Z
UID:10014419-1703952000-1703966400@www.goeldorado.com
SUMMARY:Cruise Night Car Show
DESCRIPTION:
URL:https://www.goeldorado.com/event/cruise-night-car-show/2023-12-30/
LOCATION:Downtown El Dorado\, 101 N. Washington\, El Dorado\, AR\, 71730
CATEGORIES:Clubs/Organizations,Community,Family and Children
ATTACH;FMTTYPE=image/jpeg:https://www.goeldorado.com/wp-content/uploads/2023/06/292313811_354253066884080_3925772226374212086_n.jpg
ORGANIZER;CN="Joe":MAILTO:jjsgourmetbbq@msn.com
END:VEVENT
BEGIN:VEVENT
DTSTART;TZID=America/Chicago:20231230T170000
DTEND;TZID=America/Chicago:20231230T200000
DTSTAMP:20260422T021445
CREATED:20231222T164310Z
LAST-MODIFIED:20231222T164310Z
UID:10017743-1703955600-1703966400@www.goeldorado.com
SUMMARY:Trail of Light @ Murphy Arts District
DESCRIPTION:
URL:https://www.goeldorado.com/event/trail-of-light-murphy-arts-district/2023-12-30/
LOCATION:Murphy Arts District\, 101 E. Locust Street\, El Dorado\, AR\, 71730\, United States
CATEGORIES:Community,Family and Children,Festivals & Celebrations,Holiday
ATTACH;FMTTYPE=image/jpeg:https://www.goeldorado.com/wp-content/uploads/2023/12/411494745_386683217066681_534126764938969262_n.jpg
END:VEVENT
BEGIN:VEVENT
DTSTART;TZID=America/Chicago:20231230T170000
DTEND;TZID=America/Chicago:20231230T213000
DTSTAMP:20260422T021445
CREATED:20230123T171108Z
LAST-MODIFIED:20230123T171108Z
UID:10011043-1703955600-1703971800@www.goeldorado.com
SUMMARY:Bingo @ The VFW
DESCRIPTION:The VFW will be hosting BINGO! Every Saturday night. \nQuarter Bingo starts at 5pm \nRegular Bingo starts at 7pm
URL:https://www.goeldorado.com/event/bingo-the-vfw/2023-12-30/
LOCATION:VFW\, 451 Industrial Rd\, El Dorado\, AR\, 71730\, United States
CATEGORIES:Clubs/Organizations,Community,Recreation & Sports
END:VEVENT
BEGIN:VEVENT
DTSTART;TZID=America/Chicago:20231230T200000
DTEND;TZID=America/Chicago:20231230T220000
DTSTAMP:20260422T021445
CREATED:20231222T163350Z
LAST-MODIFIED:20231222T163350Z
UID:10017733-1703966400-1703973600@www.goeldorado.com
SUMMARY:Blake Anglin LIVE @ PJ's Coffee
DESCRIPTION:
URL:https://www.goeldorado.com/event/blake-anglin-live-pjs-coffee-2/
LOCATION:PJ’s Coffee Shop El Dorado\, 106 W Main\, El Dorado\, AR\, 71730\, United States
CATEGORIES:Live Music
END:VEVENT
BEGIN:VEVENT
DTSTART;TZID=America/Chicago:20231231T170000
DTEND;TZID=America/Chicago:20231231T200000
DTSTAMP:20260422T021445
CREATED:20231222T164310Z
LAST-MODIFIED:20231222T164310Z
UID:10017744-1704042000-1704052800@www.goeldorado.com
SUMMARY:Trail of Light @ Murphy Arts District
DESCRIPTION:
URL:https://www.goeldorado.com/event/trail-of-light-murphy-arts-district/2023-12-31/
LOCATION:Murphy Arts District\, 101 E. Locust Street\, El Dorado\, AR\, 71730\, United States
CATEGORIES:Community,Family and Children,Festivals & Celebrations,Holiday
ATTACH;FMTTYPE=image/jpeg:https://www.goeldorado.com/wp-content/uploads/2023/12/411494745_386683217066681_534126764938969262_n.jpg
END:VEVENT
BEGIN:VEVENT
DTSTART;TZID=America/Chicago:20231231T210000
DTEND;TZID=America/Chicago:20231231T233000
DTSTAMP:20260422T021445
CREATED:20231213T163619Z
LAST-MODIFIED:20231222T162153Z
UID:10016983-1704056400-1704065400@www.goeldorado.com
SUMMARY:NYE Block Party @ The Haywood
DESCRIPTION:
URL:https://www.goeldorado.com/event/nye-block-party-the-haywood/
LOCATION:The Well @ The Haywood\, 210 S Washington\, El Dorado\, 717303\, United States
CATEGORIES:Arts & Culture,Chamber Of Commerce,Community,Family and Children,Festivals & Celebrations,Holiday,Live Music
ATTACH;FMTTYPE=image/jpeg:https://www.goeldorado.com/wp-content/uploads/2023/12/409187174_193782667136932_4069516578248993076_n.jpg
END:VEVENT
BEGIN:VEVENT
DTSTART;TZID=America/Chicago:20240101T000000
DTEND;TZID=America/Chicago:20240101T235900
DTSTAMP:20260422T021445
CREATED:20220809T212644Z
LAST-MODIFIED:20220816T204151Z
UID:10008796-1704067200-1704153540@www.goeldorado.com
SUMMARY:New Year's Day
DESCRIPTION:The Chamber and city government offices\, with the exception of the police and fire departments\, will be closed in observance of New Year’s Day.
URL:https://www.goeldorado.com/event/new-years-day/2024-01-01/
LOCATION:AR
CATEGORIES:Holiday
END:VEVENT
END:VCALENDAR