BEGIN:VCALENDAR
VERSION:2.0
PRODID:-//El Dorado, Arkansas - ECPv6.15.20//NONSGML v1.0//EN
CALSCALE:GREGORIAN
METHOD:PUBLISH
X-WR-CALNAME:El Dorado, Arkansas
X-ORIGINAL-URL:https://www.goeldorado.com
X-WR-CALDESC:Events for El Dorado, Arkansas
REFRESH-INTERVAL;VALUE=DURATION:PT1H
X-Robots-Tag:noindex
X-PUBLISHED-TTL:PT1H
BEGIN:VTIMEZONE
TZID:America/Chicago
BEGIN:DAYLIGHT
TZOFFSETFROM:-0600
TZOFFSETTO:-0500
TZNAME:CDT
DTSTART:20230312T080000
END:DAYLIGHT
BEGIN:STANDARD
TZOFFSETFROM:-0500
TZOFFSETTO:-0600
TZNAME:CST
DTSTART:20231105T070000
END:STANDARD
BEGIN:DAYLIGHT
TZOFFSETFROM:-0600
TZOFFSETTO:-0500
TZNAME:CDT
DTSTART:20240310T080000
END:DAYLIGHT
BEGIN:STANDARD
TZOFFSETFROM:-0500
TZOFFSETTO:-0600
TZNAME:CST
DTSTART:20241103T070000
END:STANDARD
BEGIN:DAYLIGHT
TZOFFSETFROM:-0600
TZOFFSETTO:-0500
TZNAME:CDT
DTSTART:20250309T080000
END:DAYLIGHT
BEGIN:STANDARD
TZOFFSETFROM:-0500
TZOFFSETTO:-0600
TZNAME:CST
DTSTART:20251102T070000
END:STANDARD
END:VTIMEZONE
BEGIN:VEVENT
DTSTART;TZID=America/Chicago:20240322T150000
DTEND;TZID=America/Chicago:20240322T160000
DTSTAMP:20260423T025304
CREATED:20240318T195745Z
LAST-MODIFIED:20240318T195745Z
UID:10018728-1711119600-1711123200@www.goeldorado.com
SUMMARY:Spring Break @ MAD Playscape: Learn a dance with Young Artist Studio
DESCRIPTION:
URL:https://www.goeldorado.com/event/spring-break-mad-playscape-learn-a-dance-with-young-artist-studio/
LOCATION:MAD Playscape\, 101 E Locust
CATEGORIES:Community,Family and Children
END:VEVENT
BEGIN:VEVENT
DTSTART;TZID=America/Chicago:20240322T190000
DTEND;TZID=America/Chicago:20240322T200000
DTSTAMP:20260423T025304
CREATED:20240318T200047Z
LAST-MODIFIED:20240318T200414Z
UID:10018729-1711134000-1711137600@www.goeldorado.com
SUMMARY:Spring Break @ MAD playscape: KIDS GLOW DANCE PARTY WITH DJ JAYO
DESCRIPTION:
URL:https://www.goeldorado.com/event/spring-break-mad-playscape-kids-glow-dance-party-with-dj-jayo/
LOCATION:MAD Playscape\, 101 E Locust
CATEGORIES:Community,Family and Children
END:VEVENT
BEGIN:VEVENT
DTSTART;TZID=America/Chicago:20240322T210000
DTEND;TZID=America/Chicago:20240322T230000
DTSTAMP:20260423T025304
CREATED:20240311T161506Z
LAST-MODIFIED:20240311T161506Z
UID:10018705-1711141200-1711148400@www.goeldorado.com
SUMMARY:Lucas Vines LIVE at The Mink Eye
DESCRIPTION:
URL:https://www.goeldorado.com/event/lucas-vines-live-at-the-mink-eye/
LOCATION:The Mink Eye\, 117 Main st\, El Dorado\, AR\, 71730\, United States
CATEGORIES:Live Music
ATTACH;FMTTYPE=image/jpeg:https://www.goeldorado.com/wp-content/uploads/2024/03/430091876_927026342764139_6205118939260027782_n.jpg
END:VEVENT
BEGIN:VEVENT
DTSTART;TZID=America/Chicago:20240322T210000
DTEND;TZID=America/Chicago:20240322T230000
DTSTAMP:20260423T025304
CREATED:20240318T193314Z
LAST-MODIFIED:20240318T193314Z
UID:10018718-1711141200-1711148400@www.goeldorado.com
SUMMARY:Lucas Vines LIVE at The Mink Eye
DESCRIPTION:
URL:https://www.goeldorado.com/event/lucas-vines-live-at-the-mink-eye-2/
LOCATION:The Mink Eye\, 117 Main st\, El Dorado\, AR\, 71730\, United States
CATEGORIES:Live Music
ATTACH;FMTTYPE=image/jpeg:https://www.goeldorado.com/wp-content/uploads/2024/03/430091876_927026342764139_6205118939260027782_n-1.jpg
END:VEVENT
BEGIN:VEVENT
DTSTART;TZID=America/Chicago:20240323T090000
DTEND;TZID=America/Chicago:20240323T120000
DTSTAMP:20260423T025304
CREATED:20240206T212632Z
LAST-MODIFIED:20240206T212632Z
UID:10018350-1711184400-1711195200@www.goeldorado.com
SUMMARY:Easter Egg Hunt @ MAD Amphitheater
DESCRIPTION:
URL:https://www.goeldorado.com/event/easter-egg-hunt-mad-amphitheater/
LOCATION:MAD Amphitheater\, 101 E Locust\, El Dorado\, AR\, 71730\, United States
CATEGORIES:Clubs/Organizations,Community,Family and Children,Holiday
ATTACH;FMTTYPE=image/jpeg:https://www.goeldorado.com/wp-content/uploads/2024/02/easter.jpg
END:VEVENT
BEGIN:VEVENT
DTSTART;TZID=America/Chicago:20240323T090000
DTEND;TZID=America/Chicago:20240323T120000
DTSTAMP:20260423T025304
CREATED:20240311T024019Z
LAST-MODIFIED:20240311T161218Z
UID:10018704-1711184400-1711195200@www.goeldorado.com
SUMMARY:Easter Market
DESCRIPTION:Join us for Farmers Market at MAD Easter Market!
URL:https://www.goeldorado.com/event/easter-market/
LOCATION:MAD Amphitheater\, 101 E Locust\, El Dorado\, AR\, 71730\, United States
CATEGORIES:Arts & Culture,Community,Family and Children,Holiday
ATTACH;FMTTYPE=image/jpeg:https://www.goeldorado.com/wp-content/uploads/2024/03/eastermarket.jpg
END:VEVENT
BEGIN:VEVENT
DTSTART;TZID=America/Chicago:20240323T170000
DTEND;TZID=America/Chicago:20240323T213000
DTSTAMP:20260423T025304
CREATED:20230123T171108Z
LAST-MODIFIED:20230123T171108Z
UID:10011055-1711213200-1711229400@www.goeldorado.com
SUMMARY:Bingo @ The VFW
DESCRIPTION:The VFW will be hosting BINGO! Every Saturday night. \nQuarter Bingo starts at 5pm \nRegular Bingo starts at 7pm
URL:https://www.goeldorado.com/event/bingo-the-vfw/2024-03-23/
LOCATION:VFW\, 451 Industrial Rd\, El Dorado\, AR\, 71730\, United States
CATEGORIES:Clubs/Organizations,Community,Recreation & Sports
END:VEVENT
BEGIN:VEVENT
DTSTART;TZID=America/Chicago:20240323T180000
DTEND;TZID=America/Chicago:20240323T200000
DTSTAMP:20260423T025304
CREATED:20240123T221747Z
LAST-MODIFIED:20240123T221747Z
UID:10017798-1711216800-1711224000@www.goeldorado.com
SUMMARY:Devan Pettis LIVE @ DP's Food Truck Park
DESCRIPTION:
URL:https://www.goeldorado.com/event/devan-pettis-live-dps-food-truck-park/
LOCATION:DP’s Food Truck Court\, 2117 N College Ave\, 2117 N College Ave\, El Dorado\, AR\, 71730\, United States
CATEGORIES:Business,Community,Family and Children,Live Music
END:VEVENT
BEGIN:VEVENT
DTSTART;TZID=America/Chicago:20240323T200000
DTEND;TZID=America/Chicago:20240323T220000
DTSTAMP:20260423T025304
CREATED:20240229T175553Z
LAST-MODIFIED:20240229T175625Z
UID:10018684-1711224000-1711231200@www.goeldorado.com
SUMMARY:
DESCRIPTION:  \nCasey James rose to national attention and became a household name overnight as a contestant on American Idol. Using\nhis fierce instrumental skills\, emotional tenor and musical talent\, he landed high among the finalists\, 3rd to be exact.\nJames is in the process of recording an acoustic project\, set to be released in fall of 2024. As a result\, James’ evolution\nas an artist has accompanied his personal progress. “I’m thankful to have a dedicated audience that believes in who I am\nand what I do. I couldn’t ask for more and I’m always excited for what’s next.” At the long-time request of his fans to record\nan acoustic album\, he feels that he is finally in a position to deliver the best versions possible. “I’m beyond excited to\nfinally get this material on a record and to perform it live. Some of the songs will be familiar to my fans and some will be\nnew\, but it’s exciting to deliver all of them from the perspective I have right now. A big part of performing is sharing your\nexperience and your heart\, and right now I’m the most experienced I’ve been yet.” – Casey James
URL:https://www.goeldorado.com/event/9279/
LOCATION:MAD House 101 Restuarant and Bar\, 101 E Locust\, El Dorado\, AR\, 71730\, United States
CATEGORIES:Arts & Culture,Community,Live Music
ATTACH;FMTTYPE=image/jpeg:https://www.goeldorado.com/wp-content/uploads/2024/02/casey-james.jpg
END:VEVENT
BEGIN:VEVENT
DTSTART;TZID=America/Chicago:20240325T120000
DTEND;TZID=America/Chicago:20240325T130000
DTSTAMP:20260423T025304
CREATED:20240318T200835Z
LAST-MODIFIED:20240318T200835Z
UID:10018730-1711368000-1711371600@www.goeldorado.com
SUMMARY:Ecumenical Holy Week Worship Services
DESCRIPTION:
URL:https://www.goeldorado.com/event/ecumenical-holy-week-worship-services/
LOCATION:First Presbyterian Church\, 300 E. Main St\, El Dorado
CATEGORIES:Community,Holiday
END:VEVENT
BEGIN:VEVENT
DTSTART;TZID=America/Chicago:20240326T113000
DTEND;TZID=America/Chicago:20240326T130000
DTSTAMP:20260423T025304
CREATED:20240305T142207Z
LAST-MODIFIED:20240305T153403Z
UID:10018695-1711452600-1711458000@www.goeldorado.com
SUMMARY:NAACP Lunch and Learn: Genealogy with Vernita Morgan
DESCRIPTION:
URL:https://www.goeldorado.com/event/naacp-lunch-and-learn-genealogy-with-vernita-morgan/
LOCATION:El Dorado-Union County Chamber of Commerce\, 111 W. Main Street\, El Dorado\, AR\, 71730
CATEGORIES:Clubs/Organizations,Community
END:VEVENT
BEGIN:VEVENT
DTSTART;TZID=America/Chicago:20240326T120000
DTEND;TZID=America/Chicago:20240326T130000
DTSTAMP:20260423T025304
CREATED:20240318T200959Z
LAST-MODIFIED:20240318T200959Z
UID:10018731-1711454400-1711458000@www.goeldorado.com
SUMMARY:Ecumenical Holy Week Worship Services
DESCRIPTION:
URL:https://www.goeldorado.com/event/ecumenical-holy-week-worship-services-2/
LOCATION:St Mary’s Episcopal Church\, 512 Champnolle Rd\, El Dorado\, AR\, 71730
CATEGORIES:Community,Holiday
END:VEVENT
BEGIN:VEVENT
DTSTART;TZID=America/Chicago:20240326T180000
DTEND;TZID=America/Chicago:20240326T193000
DTSTAMP:20260423T025304
CREATED:20240321T145342Z
LAST-MODIFIED:20240321T145342Z
UID:10018746-1711476000-1711481400@www.goeldorado.com
SUMMARY:AEBC: Starting a Business Flyer
DESCRIPTION:AWBC Starting a Business Flyer-El Dorado
URL:https://www.goeldorado.com/event/aebc-starting-a-business-flyer/
LOCATION:El Dorado-Union County Chamber of Commerce\, 111 W. Main Street\, El Dorado\, AR\, 71730
CATEGORIES:Business,Chamber Of Commerce
ATTACH;FMTTYPE=application/pdf:https://www.goeldorado.com/wp-content/uploads/2024/03/AWBC-Starting-a-Business-Flyer-El-Dorado-1.pdf
END:VEVENT
BEGIN:VEVENT
DTSTART;TZID=America/Chicago:20240327T120000
DTEND;TZID=America/Chicago:20240327T130000
DTSTAMP:20260423T025304
CREATED:20240318T201100Z
LAST-MODIFIED:20240318T201100Z
UID:10018732-1711540800-1711544400@www.goeldorado.com
SUMMARY:Ecumenical Holy Week Worship Services
DESCRIPTION:
URL:https://www.goeldorado.com/event/ecumenical-holy-week-worship-services-3/
LOCATION:First United Methodist Church\, 201 S Hill\, El Dorado\, AR\, 71730
CATEGORIES:Community,Holiday
END:VEVENT
BEGIN:VEVENT
DTSTART;TZID=America/Chicago:20240327T130000
DTEND;TZID=America/Chicago:20240327T140000
DTSTAMP:20260423T025304
CREATED:20240325T164940Z
LAST-MODIFIED:20240325T164940Z
UID:10018747-1711544400-1711548000@www.goeldorado.com
SUMMARY:Ribbon Cutting-UAMS Family Medical Clinic
DESCRIPTION:
URL:https://www.goeldorado.com/event/ribbon-cutting-uams-family-medical-clinic/
LOCATION:UAMS Family Medical Clinic\, 620 W Grove #202\, El Dorado\, ar\, 71730
CATEGORIES:Chamber Of Commerce
END:VEVENT
BEGIN:VEVENT
DTSTART;TZID=America/Chicago:20240327T133000
DTEND;TZID=America/Chicago:20240327T143000
DTSTAMP:20260423T025304
CREATED:20240202T153524Z
LAST-MODIFIED:20240202T153524Z
UID:10018280-1711546200-1711549800@www.goeldorado.com
SUMMARY:Wednesday of Wonder @ Barton Library
DESCRIPTION:Wed
URL:https://www.goeldorado.com/event/wednesday-of-wonder-barton-library/2024-03-27/
LOCATION:Barton Library\, 200 E 5th\, El Dorado\, AR\, 71730\, United States
CATEGORIES:Arts & Culture,Community,Education,Family and Children
ATTACH;FMTTYPE=image/jpeg:https://www.goeldorado.com/wp-content/uploads/2024/02/423583792_689582633381336_6789171151967273724_n.jpg
ORGANIZER;CN="Barton Library":MAILTO:eldorado@ucpls.org
END:VEVENT
BEGIN:VEVENT
DTSTART;TZID=America/Chicago:20240328T110000
DTEND;TZID=America/Chicago:20240328T120000
DTSTAMP:20260423T025304
CREATED:20240315T204000Z
LAST-MODIFIED:20240325T181439Z
UID:10018712-1711623600-1711627200@www.goeldorado.com
SUMMARY:ESD Food Services "Throwback Because You Can't Go Back"
DESCRIPTION:Get ready to Throwback Because You Can’t Go Back to the days of square pizza and taco salads. Travel back in time with the El Dorado Food DIstrict Services on Thursday\, March 28th from 11 AM to 1 PM for a rad lunch experience. Choose from our throwback plates: either Sausage or Cheese Square Pizza with corn\, chocolate chip cookie\, and mixed fruit\, or the classic Taco Salad paired with groovy cinnamon rolls and mixed fruit. Don’t miss out on the bodacious cafeteria vibes – all meals come with a carton of milk. See you there for a taste of the good ol’ days! \nCASH ONLY! \n*Plates will be served from 11-1 or until sold out!
URL:https://www.goeldorado.com/event/esd-food-services-throwback-because-you-cant-go-back/
LOCATION:TAC House Parking Lot
CATEGORIES:Community,Continuing Education,Education,Schools
ATTACH;FMTTYPE=image/jpeg:https://www.goeldorado.com/wp-content/uploads/2024/03/ESD-FOOD-TRUCK-THROWBACK-EVENT.jpg
END:VEVENT
BEGIN:VEVENT
DTSTART;TZID=America/Chicago:20240330T110000
DTEND;TZID=America/Chicago:20240330T140000
DTSTAMP:20260423T025304
CREATED:20240304T221943Z
LAST-MODIFIED:20240304T221943Z
UID:10018692-1711796400-1711807200@www.goeldorado.com
SUMMARY:Community Easter Egg Hunt
DESCRIPTION:Saturday\, March 20th\n11 a.m.\nEaster Egg Hunt at Noon \nFood\, games\, bounce house\, and fun! \nMattocks Park!
URL:https://www.goeldorado.com/event/community-easter-egg-hunt-2/
LOCATION:Mattocks Park\, Detroit St\, El Dorado\, AR\, 71730\, United States
CATEGORIES:Community,Family and Children,Holiday
ATTACH;FMTTYPE=image/jpeg:https://www.goeldorado.com/wp-content/uploads/2024/03/431037303_10232909635302980_7407069443729393870_n.jpg
END:VEVENT
BEGIN:VEVENT
DTSTART;TZID=America/Chicago:20240330T160000
DTEND;TZID=America/Chicago:20240330T200000
DTSTAMP:20260423T025304
CREATED:20230628T143043Z
LAST-MODIFIED:20230628T143043Z
UID:10014422-1711814400-1711828800@www.goeldorado.com
SUMMARY:Cruise Night Car Show
DESCRIPTION:
URL:https://www.goeldorado.com/event/cruise-night-car-show/2024-03-30/
LOCATION:Downtown El Dorado\, 101 N. Washington\, El Dorado\, AR\, 71730
CATEGORIES:Clubs/Organizations,Community,Family and Children
ATTACH;FMTTYPE=image/jpeg:https://www.goeldorado.com/wp-content/uploads/2023/06/292313811_354253066884080_3925772226374212086_n.jpg
ORGANIZER;CN="Joe":MAILTO:jjsgourmetbbq@msn.com
END:VEVENT
BEGIN:VEVENT
DTSTART;TZID=America/Chicago:20240330T170000
DTEND;TZID=America/Chicago:20240330T213000
DTSTAMP:20260423T025304
CREATED:20230123T171108Z
LAST-MODIFIED:20230123T171108Z
UID:10011056-1711818000-1711834200@www.goeldorado.com
SUMMARY:Bingo @ The VFW
DESCRIPTION:The VFW will be hosting BINGO! Every Saturday night. \nQuarter Bingo starts at 5pm \nRegular Bingo starts at 7pm
URL:https://www.goeldorado.com/event/bingo-the-vfw/2024-03-30/
LOCATION:VFW\, 451 Industrial Rd\, El Dorado\, AR\, 71730\, United States
CATEGORIES:Clubs/Organizations,Community,Recreation & Sports
END:VEVENT
BEGIN:VEVENT
DTSTART;TZID=America/Chicago:20240330T180000
DTEND;TZID=America/Chicago:20240330T200000
DTSTAMP:20260423T025304
CREATED:20240123T221905Z
LAST-MODIFIED:20240325T210812Z
UID:10017799-1711821600-1711828800@www.goeldorado.com
SUMMARY:Boomer Hill Band LIVE @ DPs Food Truck Park
DESCRIPTION:
URL:https://www.goeldorado.com/event/boomer-hill-band-live-dps-food-truck-park-2/
LOCATION:DP’s Food Truck Court\, 2117 N College Ave\, 2117 N College Ave\, El Dorado\, AR\, 71730\, United States
CATEGORIES:Business,Community,Family and Children,Live Music
ATTACH;FMTTYPE=image/jpeg:https://www.goeldorado.com/wp-content/uploads/2024/01/boomer.jpg
END:VEVENT
BEGIN:VEVENT
DTSTART;TZID=America/Chicago:20240330T180000
DTEND;TZID=America/Chicago:20240330T210000
DTSTAMP:20260423T025304
CREATED:20240318T200826Z
LAST-MODIFIED:20240321T145103Z
UID:10018740-1711821600-1711832400@www.goeldorado.com
SUMMARY:Real Deal Championship 11 - MMA Sanctioned Kickboxing
DESCRIPTION:MMA Sanctioned Kickboxing \nKeep RDC 11 on your radar\nMarch 30th is going to be a night of WAR \nThe Real Deal cage is going to be displayed once again in El Dorado  \nFor more information on bouts or a full fight card\, visit: \nhttps://www.facebook.com/profile.php?id=100082916542799
URL:https://www.goeldorado.com/event/real-deal-championship-11-mma-sanctioned-kickboxing/
CATEGORIES:Community,Recreation & Sports
ATTACH;FMTTYPE=image/jpeg:https://www.goeldorado.com/wp-content/uploads/2024/03/RDC-11.jpg
END:VEVENT
BEGIN:VEVENT
DTSTART;TZID=America/Chicago:20240330T190000
DTEND;TZID=America/Chicago:20240330T220000
DTSTAMP:20260423T025304
CREATED:20240325T203453Z
LAST-MODIFIED:20240325T203453Z
UID:10018748-1711825200-1711836000@www.goeldorado.com
SUMMARY:JT Lee LIVE @ The Well Bar
DESCRIPTION:
URL:https://www.goeldorado.com/event/jt-lee-live-the-well-bar/
LOCATION:The Well @ The Haywood\, 210 S Washington\, El Dorado\, 717303\, United States
CATEGORIES:Arts & Culture,Community,Live Music
ATTACH;FMTTYPE=image/jpeg:https://www.goeldorado.com/wp-content/uploads/2024/03/jtlee-haywood.jpg
END:VEVENT
BEGIN:VEVENT
DTSTART;TZID=America/Chicago:20240401T170000
DTEND;TZID=America/Chicago:20240401T183000
DTSTAMP:20260423T025304
CREATED:20240401T205209Z
LAST-MODIFIED:20240401T205209Z
UID:10018831-1711990800-1711996200@www.goeldorado.com
SUMMARY:Opening Reception for artist Kayhryn Wiggins @ SAAC
DESCRIPTION:
URL:https://www.goeldorado.com/event/opening-reception-for-artist-kayhryn-wiggins-saac/
LOCATION:South Arkansas Arts Center
CATEGORIES:Arts & Culture,Community
ATTACH;FMTTYPE=image/jpeg:https://www.goeldorado.com/wp-content/uploads/2024/04/433124344_806543264843077_2923836401576314157_n.jpg
END:VEVENT
BEGIN:VEVENT
DTSTART;TZID=America/Chicago:20240402T120000
DTEND;TZID=America/Chicago:20240402T130000
DTSTAMP:20260423T025304
CREATED:20240201T161454Z
LAST-MODIFIED:20240325T202229Z
UID:10018224-1712059200-1712062800@www.goeldorado.com
SUMMARY:Child Abuse Prevention Month Proclamation
DESCRIPTION:
URL:https://www.goeldorado.com/event/child-abuse-prevention-month-proclamation/
LOCATION:Union County Courthouse\, 101 N. Washington\, El Dorado\, AR\, 71730
CATEGORIES:Clubs/Organizations,Family and Children
END:VEVENT
BEGIN:VEVENT
DTSTART;TZID=America/Chicago:20240402T173000
DTEND;TZID=America/Chicago:20240402T190000
DTSTAMP:20260423T025304
CREATED:20240313T134819Z
LAST-MODIFIED:20240315T145335Z
UID:10018706-1712079000-1712084400@www.goeldorado.com
SUMMARY:Exploring Verse: A Poetry Workshop
DESCRIPTION:Join us for an enriching evening of creative expression as we delve into the art of crafting Haiku and explore its related forms. \nLed by experienced poets\, this workshop offers the perfect opportunity to hone your writing skills and explore new poetic horizons. Open to all members of the community\, come share your love for language and join us in celebrating the power of poetry! \nUSING NEWLY ACQUIRED SKILLS\, THOSE ATTENDING WILL HAVE THE OPPORTUNITY TO COMPETE IN A CONTEST WITH CASH PRIZES.
URL:https://www.goeldorado.com/event/exploring-verse-a-poetry-workshop/
CATEGORIES:Arts & Culture,Community,Education,Family and Children,Schools
ATTACH;FMTTYPE=image/png:https://www.goeldorado.com/wp-content/uploads/2024/03/Poetry-Workshop-Arts-in-April.png
END:VEVENT
BEGIN:VEVENT
DTSTART;TZID=America/Chicago:20240403T113000
DTEND;TZID=America/Chicago:20240403T133000
DTSTAMP:20260423T025304
CREATED:20240320T204350Z
LAST-MODIFIED:20240321T145218Z
UID:10018745-1712143800-1712151000@www.goeldorado.com
SUMMARY:Book Signing: The Economics of Freedom
DESCRIPTION:Join us for a book signing event with Dr. David F. Rankin and Dr. Beth Anne Rankin Baker for their work\, The Economics of Freedom: In Defense of Capitalism. \nThe United States of America reigns as the most powerful economic nation on the planet. This incredible level of freedom has liberated our creative talents\, empowering us to pursue work\, innovation\, and enterprise. \nIn this book\, the authors explore the economics of freedom\, answering questions such as: \n\nWhat policies will enhance our ability to maintain our world leadership position?\nHow can we strengthen individual freedom through economic policy?\nWhat can we do to protect the power\, pleasure\, and benefits of freedom?
URL:https://www.goeldorado.com/event/book-signing-the-economics-of-freedom/
CATEGORIES:Arts & Culture,Community,Education,Schools
ATTACH;FMTTYPE=image/png:https://www.goeldorado.com/wp-content/uploads/2024/03/Book-Signing-Flyer.png
END:VEVENT
BEGIN:VEVENT
DTSTART;TZID=America/Chicago:20240403T153000
DTEND;TZID=America/Chicago:20240403T153000
DTSTAMP:20260423T025304
CREATED:20240327T213446Z
LAST-MODIFIED:20240401T152951Z
UID:10018750-1712158200-1712158200@www.goeldorado.com
SUMMARY:Solar Eclipse STEAM @ the Museum
DESCRIPTION:Looking for some fun ways to celebrate the solar eclipse that’s coming on Monday\, April 8th? Join us at the Arkansas Museum of Natural Resources for some after-school SOLAR ECLIPSE STEAM programs the week before the eclipse. These programs have us using Technology\, Engineering\, Art\, and Math to help us better understand the Science behind a solar eclipse.  There is no charge for these programs. Programs available will be for tinkerers of all ages. \nWednesday April 3rd at 3:30 p.m. \nSolar Eclipse STEAM: Rotation and Revolution Moving Parts \nGuests will spin with excitement for this engaging way to understand the differences between the Earth’s rotation and revolution around the Sun. A hands-on Art activity in addition to getting an understanding of the Science in a solar eclipse. Participants will build their own model of the Earth\, Sun\, and Moon\, Cut and color\, then assemble to make their own 2D solar eclipse model. Once assembled\, the model can be used to show how these three celestial bodies orbit around one another.
URL:https://www.goeldorado.com/event/solar-eclipse-steam-the-museum/
LOCATION:Arkansas Museum of Natural Resources\, 4087 Smackover Hwy\, Smackover\, AR\, 71730\, United States
CATEGORIES:Clubs/Organizations,Community,Education,Family and Children,Schools
ATTACH;FMTTYPE=image/jpeg:https://www.goeldorado.com/wp-content/uploads/2024/03/454445-Arkansas-Museum-Of-Natural-Resources1.jpg
END:VEVENT
BEGIN:VEVENT
DTSTART;TZID=America/Chicago:20240404T153000
DTEND;TZID=America/Chicago:20240404T163000
DTSTAMP:20260423T025304
CREATED:20240327T214104Z
LAST-MODIFIED:20240401T153016Z
UID:10018751-1712244600-1712248200@www.goeldorado.com
SUMMARY:Solar Eclipse STEAM @ the Museum
DESCRIPTION:Looking for some fun ways to celebrate the solar eclipse that’s coming on Monday\, April 8th? Join us at the Arkansas Museum of Natural Resources for some after-school SOLAR ECLIPSE STEAM programs the week before the eclipse. These programs have us using Technology\, Engineering\, Art\, and Math to help us better understand the Science behind a solar eclipse.  There is no charge for these programs. Programs available will be for tinkerers of all ages. \nThursday April 4th at 3:30 p.m. \nSolar Eclipse STEM: Solar Eclipse in a Cup \nHave you ever wondered why a solar eclipse doesn’t happen every month. Come out to the museum after school on Thursday\, April 4th at 3:30 p.m. for this STEM activity that helps explain the rare occurrence of solar eclipses.  Eclipse in a Cup is for participants over 10 due to the use of smaller objects and sharp things (an activity for younger guests will be made available\, too).
URL:https://www.goeldorado.com/event/solar-eclipse-steam-the-museum-2/
LOCATION:Arkansas Museum of Natural Resources\, 4087 Smackover Hwy\, Smackover\, AR\, 71730\, United States
CATEGORIES:Arts & Culture,Education,Family and Children,Schools
ATTACH;FMTTYPE=image/jpeg:https://www.goeldorado.com/wp-content/uploads/2024/03/AMNR-LOGO1.jpg
END:VEVENT
BEGIN:VEVENT
DTSTART;TZID=America/Chicago:20240404T183000
DTEND;TZID=America/Chicago:20240404T193000
DTSTAMP:20260423T025304
CREATED:20240306T214446Z
LAST-MODIFIED:20240306T221245Z
UID:10018698-1712255400-1712259000@www.goeldorado.com
SUMMARY:Art Talk with Gay Bechtelheimer: The Impressionists
DESCRIPTION:Artist and educator Gay Bechtelheimer will present an entertaining and informative lecture on the lives and work of Impressionist painters. Refreshments begin at 6:30\, with the lecture following shortly.
URL:https://www.goeldorado.com/event/art-talk-with-gay-bechtelheimer-the-impressionists/
LOCATION:South Arkansas Arts Center
CATEGORIES:Arts & Culture
END:VEVENT
END:VCALENDAR