BEGIN:VCALENDAR
VERSION:2.0
PRODID:-//El Dorado, Arkansas - ECPv6.15.20//NONSGML v1.0//EN
CALSCALE:GREGORIAN
METHOD:PUBLISH
X-WR-CALNAME:El Dorado, Arkansas
X-ORIGINAL-URL:https://www.goeldorado.com
X-WR-CALDESC:Events for El Dorado, Arkansas
REFRESH-INTERVAL;VALUE=DURATION:PT1H
X-Robots-Tag:noindex
X-PUBLISHED-TTL:PT1H
BEGIN:VTIMEZONE
TZID:America/Chicago
BEGIN:DAYLIGHT
TZOFFSETFROM:-0600
TZOFFSETTO:-0500
TZNAME:CDT
DTSTART:20230312T080000
END:DAYLIGHT
BEGIN:STANDARD
TZOFFSETFROM:-0500
TZOFFSETTO:-0600
TZNAME:CST
DTSTART:20231105T070000
END:STANDARD
BEGIN:DAYLIGHT
TZOFFSETFROM:-0600
TZOFFSETTO:-0500
TZNAME:CDT
DTSTART:20240310T080000
END:DAYLIGHT
BEGIN:STANDARD
TZOFFSETFROM:-0500
TZOFFSETTO:-0600
TZNAME:CST
DTSTART:20241103T070000
END:STANDARD
BEGIN:DAYLIGHT
TZOFFSETFROM:-0600
TZOFFSETTO:-0500
TZNAME:CDT
DTSTART:20250309T080000
END:DAYLIGHT
BEGIN:STANDARD
TZOFFSETFROM:-0500
TZOFFSETTO:-0600
TZNAME:CST
DTSTART:20251102T070000
END:STANDARD
END:VTIMEZONE
BEGIN:VEVENT
DTSTART;TZID=America/Chicago:20241019T190000
DTEND;TZID=America/Chicago:20241019T220000
DTSTAMP:20260420T111450
CREATED:20240903T212300Z
LAST-MODIFIED:20240903T212300Z
UID:10021846-1729364400-1729375200@www.goeldorado.com
SUMMARY:The Haunt
DESCRIPTION:  \n  \nYou are alone and hear a noise. \nBut\, when you turn to see what caused the noise\, nothing is there. \nA chill runs down your spine. \nIs someone watching you??? \nPerhaps your mind is playing tricks on you. \nOr\, perhaps\, that eerie\, unexplained noise is caused by something you cannot see\, something you don’t want to see. \nJoin us at this year’s El Dorado Haunt and face your Boogeyman as we present  \n“CREATURES OF THE NIGHT.”
URL:https://www.goeldorado.com/event/the-haunt-2/2024-10-19/
LOCATION:Camp Wotapi\, 4100 Wotapi Dr\, El Dorado\, AR\, 71730\, United States
CATEGORIES:Clubs/Organizations,Community,Family and Children,Holiday
ORGANIZER;CN="Campfire El Dorado":MAILTO:campfire@suddenlinkmail.com
END:VEVENT
BEGIN:VEVENT
DTSTART;TZID=America/Chicago:20241020T130000
DTEND;TZID=America/Chicago:20241020T150000
DTSTAMP:20260420T111450
CREATED:20241016T180242Z
LAST-MODIFIED:20241016T180242Z
UID:10022915-1729429200-1729436400@www.goeldorado.com
SUMMARY:A Walk for Christ
DESCRIPTION:
URL:https://www.goeldorado.com/event/a-walk-for-christ/
LOCATION:Exacalibur Family Entertainment Center\, 1900 N West Ave\, El Dorado\, AR\, 71730
CATEGORIES:Community
ATTACH;FMTTYPE=image/jpeg:https://www.goeldorado.com/wp-content/uploads/2024/10/461850842_948726070629176_426611761717394533_n.jpg
END:VEVENT
BEGIN:VEVENT
DTSTART;TZID=America/Chicago:20241020T190000
DTEND;TZID=America/Chicago:20241020T220000
DTSTAMP:20260420T111450
CREATED:20240903T212300Z
LAST-MODIFIED:20240903T212300Z
UID:10021847-1729450800-1729461600@www.goeldorado.com
SUMMARY:The Haunt
DESCRIPTION:  \n  \nYou are alone and hear a noise. \nBut\, when you turn to see what caused the noise\, nothing is there. \nA chill runs down your spine. \nIs someone watching you??? \nPerhaps your mind is playing tricks on you. \nOr\, perhaps\, that eerie\, unexplained noise is caused by something you cannot see\, something you don’t want to see. \nJoin us at this year’s El Dorado Haunt and face your Boogeyman as we present  \n“CREATURES OF THE NIGHT.”
URL:https://www.goeldorado.com/event/the-haunt-2/2024-10-20/
LOCATION:Camp Wotapi\, 4100 Wotapi Dr\, El Dorado\, AR\, 71730\, United States
CATEGORIES:Clubs/Organizations,Community,Family and Children,Holiday
ORGANIZER;CN="Campfire El Dorado":MAILTO:campfire@suddenlinkmail.com
END:VEVENT
BEGIN:VEVENT
DTSTART;TZID=America/Chicago:20241021T090000
DTEND;TZID=America/Chicago:20241122T170000
DTSTAMP:20260420T111450
CREATED:20241001T185811Z
LAST-MODIFIED:20241002T213414Z
UID:10022526-1729501200-1732294800@www.goeldorado.com
SUMMARY:"Things Remembered" Exhibition by Donna Twyford @ SAAC
DESCRIPTION:The South Arkansas Arts Center is proud to present “Things Remembered\,” a solo exhibition featuring the evocative watercolor paintings of Hot Springs artist Donna Twyford. On display in the Merkle Gallery from October 21 to November 22\, 2024\, this exhibit will showcase a nostalgic collection of artworks that delve deeply into the themes of memory and longing\, capturing people\, places\, and cherished objects that resonate with the heart.
URL:https://www.goeldorado.com/event/things-remembered-exhibition-by-donna-twyford-saac/
LOCATION:South Arkansas Arts Center
CATEGORIES:Arts & Culture,Community,Family and Children
END:VEVENT
BEGIN:VEVENT
DTSTART;TZID=America/Chicago:20241021T090000
DTEND;TZID=America/Chicago:20241212T170000
DTSTAMP:20260420T111450
CREATED:20241001T190447Z
LAST-MODIFIED:20241002T213452Z
UID:10022527-1729501200-1734022800@www.goeldorado.com
SUMMARY:"Unveiling Potential" Exhibition by Rhonda Hicks and Janice Hughes @ SAAC
DESCRIPTION:The South Arkansas Arts Center is proud to announce the upcoming Lobby exhibition titled “Unveiling Potential\,” showcasing the work of talented local artists Rhonda Hicks and Janice Hughes. This compelling exhibition will run from October 21 to December 12\, 2024\, and aims to explore the profound journey of self-discovery and creativity.
URL:https://www.goeldorado.com/event/unveiling-potential-exhibition-by-rhonda-hicks-and-janice-hughes-saac/
LOCATION:South Arkansas Arts Center
CATEGORIES:Arts & Culture,Community,Family and Children
ATTACH;FMTTYPE=image/jpeg:https://www.goeldorado.com/wp-content/uploads/2024/10/Janice-Art-2-scaled.jpg
END:VEVENT
BEGIN:VEVENT
DTSTART;TZID=America/Chicago:20241021T090000
DTEND;TZID=America/Chicago:20241212T170000
DTSTAMP:20260420T111450
CREATED:20241001T190944Z
LAST-MODIFIED:20241002T213522Z
UID:10022528-1729501200-1734022800@www.goeldorado.com
SUMMARY:Raku Pottery Exhibition by Steve Slaughter @ SAAC
DESCRIPTION:The South Arkansas Arts Center (SAAC) is excited to announce the upcoming Price Gallery exhibition featuring local artist Steve Slaughter and his original Raku pottery at the South Arkansas Arts Center. The exhibition will run from October 21 to December 12\, with an artist reception scheduled for Tuesday\, October 29\, from 5:30 PM to 7:00 PM.
URL:https://www.goeldorado.com/event/raku-pottery-exhibition-by-steve-slaughter-saac/
LOCATION:South Arkansas Arts Center
CATEGORIES:Arts & Culture,Community,Family and Children
END:VEVENT
BEGIN:VEVENT
DTSTART;TZID=America/Chicago:20241021T173000
DTEND;TZID=America/Chicago:20241024T210000
DTSTAMP:20260420T111450
CREATED:20240919T155647Z
LAST-MODIFIED:20240920T134845Z
UID:10021904-1729531800-1729803600@www.goeldorado.com
SUMMARY:Arkansas Hunter Education Class
DESCRIPTION:The traditional hunter education class is a 10-hour instructor led classroom course with hands-on demonstrations. Classes may be a few hours a night for 3 or 4 nights or an all-day class. The final class will end with a test to pass the course. \nHunter Education classes are offered by knowledgeable and dedicated volunteer instructors and Arkansas Game and Fish Employees. \nThis class is offered in partnership with South Arkansas College Community Education.
URL:https://www.goeldorado.com/event/arkansas-hunter-education-class/
LOCATION:Mahony Family Library\, 300 Summit Ave\, El Dorado\, AR\, 71730\, United States
CATEGORIES:Community,Education,Recreation & Sports
ATTACH;FMTTYPE=image/png:https://www.goeldorado.com/wp-content/uploads/2024/09/Hunters-Ed-Graphic-102124.png
END:VEVENT
BEGIN:VEVENT
DTSTART;TZID=America/Chicago:20241022T110000
DTEND;TZID=America/Chicago:20241022T133000
DTSTAMP:20260420T111450
CREATED:20241008T202055Z
LAST-MODIFIED:20241009T130801Z
UID:10022584-1729594800-1729603800@www.goeldorado.com
SUMMARY:United Way of Union County Cajun Lunch Fundraiser @ SARH
DESCRIPTION:You’re invited to a special Cajun-themed lunch at South Arkansas Regional Hospital supporting the United Way of Union County!\n\nEach year\, the United Way touches the lives of nearly 30\,000 residents across El Dorado\, Norphlet\, Smackover\, and the rural communities of Union County\, partnering with 12 incredible agencies that serve both children and adults.\nFrom the Boys & Girls Club to Hope Landing and the Salvation Army\, these organizations rely on United Way’s support to continue their vital work.\n\nAll funds raised stay here in Union County\, impacting our needy neighbors. 100% of campaign funds raised go to UWUC partner agencies.\n\nTyler Turner\, Executive Director of the United Way\, will be available at our info table to share more about the difference these agencies are making. Several agencies will also be on-site to showcase their services\, offering a firsthand look at how United Way is helping shape a brighter future for our community.\n\nWe hope you’ll join us for great food\, fellowship\, and a chance to learn more about the heart of Union County’s charitable efforts. Please get in touch with Amber Steele at South Arkansas Regional Hospital at 870-864-3464 for more information. Let’s make a difference together!
URL:https://www.goeldorado.com/event/united-way-of-union-county-cajun-lunch-fundraiser-sarh/
LOCATION:south Arkansas Regional Hospital\, 900 Thompson Ave\, El Dorado\, AR
CATEGORIES:Community
ATTACH;FMTTYPE=image/jpeg:https://www.goeldorado.com/wp-content/uploads/2024/10/United-Way-Cajun-Lunch-2024.jpg
END:VEVENT
BEGIN:VEVENT
DTSTART;TZID=America/Chicago:20241022T173000
DTEND;TZID=America/Chicago:20241022T193000
DTSTAMP:20260420T111450
CREATED:20240916T203204Z
LAST-MODIFIED:20240918T173834Z
UID:10021894-1729618200-1729625400@www.goeldorado.com
SUMMARY:SouthArk Women's Basketball vs Philips Community College of University of Arkansas
DESCRIPTION:
URL:https://www.goeldorado.com/event/southark-womens-basketball-vs-philips-community-college-of-university-of-arkansas/
LOCATION:South Arkansas College Gym\, 311 S West Ave\, El Dorado\, AR\, 71730\, United States
CATEGORIES:Recreation & Sports
ATTACH;FMTTYPE=image/png:https://www.goeldorado.com/wp-content/uploads/2024/09/stars-basketball-two-tone8.png
END:VEVENT
BEGIN:VEVENT
DTSTART;TZID=America/Chicago:20241022T180000
DTEND;TZID=America/Chicago:20241022T200000
DTSTAMP:20260420T111450
CREATED:20240930T141007Z
LAST-MODIFIED:20241009T202740Z
UID:10022591-1729620000-1729627200@www.goeldorado.com
SUMMARY:Cornhole League @ DPs Food Truck Park
DESCRIPTION:
URL:https://www.goeldorado.com/event/cornhole-league-dps-food-truck-park/2024-10-22/
LOCATION:DP’s Food Truck Court\, 2117 N College Ave\, 2117 N College Ave\, El Dorado\, AR\, 71730\, United States
CATEGORIES:Community,Family and Children,Recreation & Sports
ATTACH;FMTTYPE=image/jpeg:https://www.goeldorado.com/wp-content/uploads/2024/09/461598144_441103185651651_8430174363691887894_n.jpg
END:VEVENT
BEGIN:VEVENT
DTSTART;TZID=America/Chicago:20241023T120000
DTEND;TZID=America/Chicago:20241023T130000
DTSTAMP:20260420T111450
CREATED:20240627T132146Z
LAST-MODIFIED:20240627T142254Z
UID:10020261-1729684800-1729688400@www.goeldorado.com
SUMMARY:SouthArk Connections Session #6- Technology Accessibility Training ADA
DESCRIPTION:Join us for an essential session on Technology Accessibility Training. Learn to make the most of ADA tools and accessibility features on your digital devices through hands-on practice and interactive demonstrations. Discover how to adjust display settings\, use screen readers\, and explore alternative input methods to enhance your digital experience.
URL:https://www.goeldorado.com/event/southark-connections-session-6-technology-accessibility-training-ada/
LOCATION:Mahony Family Library\, 300 Summit Ave\, El Dorado\, AR\, 71730\, United States
CATEGORIES:Community,Continuing Education
ATTACH;FMTTYPE=image/png:https://www.goeldorado.com/wp-content/uploads/2024/06/Session-5-Flyer.png
END:VEVENT
BEGIN:VEVENT
DTSTART;TZID=America/Chicago:20241023T180000
DTEND;TZID=America/Chicago:20241023T200000
DTSTAMP:20260420T111450
CREATED:20241010T125356Z
LAST-MODIFIED:20241018T163156Z
UID:10022917-1729706400-1729713600@www.goeldorado.com
SUMMARY:Dart Tournament @ DP's Food Truck Park
DESCRIPTION:
URL:https://www.goeldorado.com/event/dart-tournament-dps-food-truck-park/2024-10-23/
LOCATION:DP’s Food Truck Court\, 2117 N College Ave\, 2117 N College Ave\, El Dorado\, AR\, 71730\, United States
CATEGORIES:Community,Recreation & Sports
END:VEVENT
BEGIN:VEVENT
DTSTART;TZID=America/Chicago:20241024T110000
DTEND;TZID=America/Chicago:20241024T130000
DTSTAMP:20260420T111450
CREATED:20240716T060501Z
LAST-MODIFIED:20240716T195841Z
UID:10020647-1729767600-1729774800@www.goeldorado.com
SUMMARY:Magdalene House Gumbo Fundraiser
DESCRIPTION:KATHY’S FAMOUS CHICKEN & SAUSAGE GUMBO BOX LUNCH FUNDRAISER \nGumbo Fundraising Benefiting Magdalene House Sponsored by The Village for Magdalene.  Call 870-310-1288 for Tickets.  Plate lunches for $15  Kathy’s Famous Chicken & Sausage Gumbo\, a Salad\, & a Homemade Brownie!  Any group of 20 or more orders from the same location will include free delivery.  Make checks payable to Magdalene House. \n11:00 AM-1:00 PM \nConveniently located at St. Mary’s Episcopal Parish Hall Drive Thru (Parking Lot off Madison)\, making it easy for you to pick up your lunch.
URL:https://www.goeldorado.com/event/magdalene-house-gumbo-fundraiser-2/
LOCATION:St Mary’s Episcopal Church\, 512 Champnolle Rd\, El Dorado\, AR\, 71730
CATEGORIES:Clubs/Organizations
END:VEVENT
BEGIN:VEVENT
DTSTART;TZID=America/Chicago:20241024T173000
DTEND;TZID=America/Chicago:20241024T193000
DTSTAMP:20260420T111450
CREATED:20241008T131516Z
LAST-MODIFIED:20241008T184342Z
UID:10022583-1729791000-1729798200@www.goeldorado.com
SUMMARY:Pickleball for Beginners - SouthArk Community Education
DESCRIPTION:Pickleball for Beginners—No Pros Allowed!  \n\n\n\nIf you’ve never picked up a paddle or still aren’t sure what “dinking” means\, this class is for YOU! Come join SouthArk Community Education\, Tyler Turner\, Pickleball Prodigy\, & friends\, on Oct. 24 at Mellor Park for a fun and friendly intro to pickleball—designed specifically for beginners. No skills? No problem! \n\n\n\nBonus: You’ll leave with your very own paddle and two pickleballs! Plus\, proceeds will go to United Way of Union County\, so you’ll be learning while helping our community. \n\n\nLeave the pros at home and come discover your new favorite sport! Sign up now—space is limited!
URL:https://www.goeldorado.com/event/pickleball-for-beginners-southark-community-education/
LOCATION:Mellor Park\, Euclid & 4th st\, El Dorado\, AR\, 71730
CATEGORIES:Community,Education,Family and Children,Recreation & Sports
ATTACH;FMTTYPE=image/jpeg:https://www.goeldorado.com/wp-content/uploads/2024/10/Pickleball-Small.jpg
END:VEVENT
BEGIN:VEVENT
DTSTART;TZID=America/Chicago:20241024T180000
DTEND;TZID=America/Chicago:20241024T190000
DTSTAMP:20260420T111450
CREATED:20241009T203328Z
LAST-MODIFIED:20241009T203328Z
UID:10022643-1729792800-1729796400@www.goeldorado.com
SUMMARY:Trivia @ DPs Food Truck Park
DESCRIPTION:
URL:https://www.goeldorado.com/event/trivia-dps-food-truck-park/2024-10-24/
LOCATION:DP’s Food Truck Court\, 2117 N College Ave\, 2117 N College Ave\, El Dorado\, AR\, 71730\, United States
CATEGORIES:Community,Family and Children
ATTACH;FMTTYPE=image/jpeg:https://www.goeldorado.com/wp-content/uploads/2023/11/trivia.jpg
END:VEVENT
BEGIN:VEVENT
DTSTART;TZID=America/Chicago:20241024T181500
DTEND;TZID=America/Chicago:20241024T203000
DTSTAMP:20260420T111450
CREATED:20240827T174046Z
LAST-MODIFIED:20240829T164643Z
UID:10021828-1729793700-1729801800@www.goeldorado.com
SUMMARY:HPRC Fundraising Dinner - 25th Year Celebration
DESCRIPTION:Hannah PRC’s Fundraising Dinner and 25th Year Celebration – God Sets The Lonely In Families
URL:https://www.goeldorado.com/event/hprc-fundraising-dinner-25th-year-celebration/
LOCATION:AR
CATEGORIES:Community
ATTACH;FMTTYPE=image/jpeg:https://www.goeldorado.com/wp-content/uploads/2024/08/Invitation-2024-FINAL.jpg
END:VEVENT
BEGIN:VEVENT
DTSTART;TZID=America/Chicago:20241025T090000
DTEND;TZID=America/Chicago:20241025T130000
DTSTAMP:20260420T111450
CREATED:20240814T202302Z
LAST-MODIFIED:20240814T202302Z
UID:10021424-1729846800-1729861200@www.goeldorado.com
SUMMARY:Chamber of Commerce Golf 4-Person Scramble @ Mystic Creek
DESCRIPTION:The El Dorado-Union County Chamber of Commerce will host its annual Golf Tournament at Mystic Creek on October 25. This Scramble will be 4-person team and a scramble tee off. Starting at 9am. Lunch provided in the Clubhouse. \nRegister by calling Karen 870-312-5106 or emailing karen@goeldorado.com
URL:https://www.goeldorado.com/event/chamber-of-commerce-golf-4-person-scramble-mystic-creek/
LOCATION:Mystic Creek Clubhouse\, 191 Clubhouse Dr\, El Dorado\, AR\, 71730\, United States
CATEGORIES:Business,Chamber Of Commerce,Recreation & Sports
END:VEVENT
BEGIN:VEVENT
DTSTART;TZID=America/Chicago:20241025T100000
DTEND;TZID=America/Chicago:20241025T130000
DTSTAMP:20260420T111450
CREATED:20240923T172334Z
LAST-MODIFIED:20240923T172334Z
UID:10022341-1729850400-1729861200@www.goeldorado.com
SUMMARY:Senior FUNDAY
DESCRIPTION:Senior FUNDAY at Champagnolle Landing \nFriday\, October 25th \n10 a.m. to 1 p.m. \n910 Champagnolle Road \nHalloween Costume Contest – Vendor Booths – Games – Prizes – Lunch will be served!
URL:https://www.goeldorado.com/event/senior-funday/
LOCATION:Champagnolle Landing\, 910 Champagnolle Rd\, El Dorado\, AR\, 71730\, United States
CATEGORIES:Clubs/Organizations,Community,Festivals & Celebrations
ATTACH;FMTTYPE=image/png:https://www.goeldorado.com/wp-content/uploads/2024/09/Timberlane-senior-Funday.png
END:VEVENT
BEGIN:VEVENT
DTSTART;TZID=America/Chicago:20241025T143000
DTEND;TZID=America/Chicago:20241025T163000
DTSTAMP:20260420T111450
CREATED:20240814T205318Z
LAST-MODIFIED:20240814T205356Z
UID:10021438-1729866600-1729873800@www.goeldorado.com
SUMMARY:El Dorado High Homecoming Parade
DESCRIPTION:
URL:https://www.goeldorado.com/event/el-dorado-high-homecoming-parade/
LOCATION:El Dorado\, N West Ave
CATEGORIES:Clubs/Organizations,Community,Family and Children,Recreation & Sports
END:VEVENT
BEGIN:VEVENT
DTSTART;TZID=America/Chicago:20241025T173000
DTEND;TZID=America/Chicago:20241025T193000
DTSTAMP:20260420T111450
CREATED:20240916T203619Z
LAST-MODIFIED:20240918T173919Z
UID:10021895-1729877400-1729884600@www.goeldorado.com
SUMMARY:SouthArk Women's Basketball vs Crowley's Ridge JV
DESCRIPTION:
URL:https://www.goeldorado.com/event/southark-womens-basketball-vs-crowleys-ridge-jv/
LOCATION:South Arkansas College Gym\, 311 S West Ave\, El Dorado\, AR\, 71730\, United States
CATEGORIES:Recreation & Sports
ATTACH;FMTTYPE=image/png:https://www.goeldorado.com/wp-content/uploads/2024/09/stars-basketball-two-tone9.png
END:VEVENT
BEGIN:VEVENT
DTSTART;TZID=America/Chicago:20241025T190000
DTEND;TZID=America/Chicago:20241025T210000
DTSTAMP:20260420T111450
CREATED:20241009T203544Z
LAST-MODIFIED:20241023T194529Z
UID:10022902-1729882800-1729890000@www.goeldorado.com
SUMMARY:Jonah Nugent LIVE @ DPs Food Truck Park
DESCRIPTION:
URL:https://www.goeldorado.com/event/jonah-nugent-live-dps-food-truck-park/
LOCATION:DP’s Food Truck Court\, 2117 N College Ave\, 2117 N College Ave\, El Dorado\, AR\, 71730\, United States
CATEGORIES:Community,Live Music
ATTACH;FMTTYPE=image/jpeg:https://www.goeldorado.com/wp-content/uploads/2024/10/464330228_458482033913766_7483356009747739646_n.jpg
END:VEVENT
BEGIN:VEVENT
DTSTART;TZID=America/Chicago:20241025T190000
DTEND;TZID=America/Chicago:20241025T223000
DTSTAMP:20260420T111450
CREATED:20240814T204732Z
LAST-MODIFIED:20240814T205115Z
UID:10021435-1729882800-1729895400@www.goeldorado.com
SUMMARY:HOMECOMING: El Dorado High Varsity Football vs. West Memphis: HOME game
DESCRIPTION:
URL:https://www.goeldorado.com/event/el-dorado-high-varsity-football-vs-west-memphis-home-game/
LOCATION:Memorial Stadium\, N West Ave\, El Dorado\, AR\, 71730\, United States
CATEGORIES:Community,Education,Family and Children,Recreation & Sports
END:VEVENT
BEGIN:VEVENT
DTSTART;TZID=America/Chicago:20241026T100000
DTEND;TZID=America/Chicago:20241026T120000
DTSTAMP:20260420T111450
CREATED:20241024T211154Z
LAST-MODIFIED:20241024T211239Z
UID:10023190-1729936800-1729944000@www.goeldorado.com
SUMMARY:Paint a Pumpkin
DESCRIPTION:
URL:https://www.goeldorado.com/event/paint-a-pumpkin/
LOCATION:MAD Amphitheater\, 101 E Locust\, El Dorado\, AR\, 71730\, United States
CATEGORIES:Community,Family and Children,Holiday
ATTACH;FMTTYPE=image/jpeg:https://www.goeldorado.com/wp-content/uploads/2024/10/464390157_1113104943744128_7870343436124301620_n.jpg
END:VEVENT
BEGIN:VEVENT
DTSTART;TZID=America/Chicago:20241026T130000
DTEND;TZID=America/Chicago:20241026T150000
DTSTAMP:20260420T111450
CREATED:20240103T184620Z
LAST-MODIFIED:20241010T131814Z
UID:10017754-1729947600-1729954800@www.goeldorado.com
SUMMARY:Scare on the Square
DESCRIPTION:Trick or Treat with our Downtown Businesses!  We will have a costume contest for kids and pets\, food and lots of treats!!
URL:https://www.goeldorado.com/event/scare-on-the-square-3/
LOCATION:Downtown El Dorado\, 101 N. Washington\, El Dorado\, AR\, 71730
CATEGORIES:Clubs/Organizations,Community,Festivals & Celebrations,Holiday,Schools
ATTACH;FMTTYPE=image/jpeg:https://www.goeldorado.com/wp-content/uploads/2024/01/462679112_862540136011771_468548358464829465_n.jpg
END:VEVENT
BEGIN:VEVENT
DTSTART;TZID=America/Chicago:20241026T160000
DTEND;TZID=America/Chicago:20241026T200000
DTSTAMP:20260420T111450
CREATED:20230628T143043Z
LAST-MODIFIED:20230628T143043Z
UID:10014429-1729958400-1729972800@www.goeldorado.com
SUMMARY:Cruise Night Car Show
DESCRIPTION:
URL:https://www.goeldorado.com/event/cruise-night-car-show/2024-10-26/
LOCATION:Downtown El Dorado\, 101 N. Washington\, El Dorado\, AR\, 71730
CATEGORIES:Clubs/Organizations,Community,Family and Children
ATTACH;FMTTYPE=image/jpeg:https://www.goeldorado.com/wp-content/uploads/2023/06/292313811_354253066884080_3925772226374212086_n.jpg
ORGANIZER;CN="Joe":MAILTO:jjsgourmetbbq@msn.com
END:VEVENT
BEGIN:VEVENT
DTSTART;TZID=America/Chicago:20241026T170000
DTEND;TZID=America/Chicago:20241026T213000
DTSTAMP:20260420T111450
CREATED:20230123T171108Z
LAST-MODIFIED:20230123T171108Z
UID:10011086-1729962000-1729978200@www.goeldorado.com
SUMMARY:Bingo @ The VFW
DESCRIPTION:The VFW will be hosting BINGO! Every Saturday night. \nQuarter Bingo starts at 5pm \nRegular Bingo starts at 7pm
URL:https://www.goeldorado.com/event/bingo-the-vfw/2024-10-26/
LOCATION:VFW\, 451 Industrial Rd\, El Dorado\, AR\, 71730\, United States
CATEGORIES:Clubs/Organizations,Community,Recreation & Sports
END:VEVENT
BEGIN:VEVENT
DTSTART;TZID=America/Chicago:20241026T190000
DTEND;TZID=America/Chicago:20241026T210000
DTSTAMP:20260420T111450
CREATED:20241001T144329Z
LAST-MODIFIED:20241001T144329Z
UID:10022519-1729969200-1729976400@www.goeldorado.com
SUMMARY:Boomer Hill Band LIVE @ DPs food truck park
DESCRIPTION:
URL:https://www.goeldorado.com/event/boomer-hill-band-live-dps-food-truck-park-3/
LOCATION:DP’s Food Truck Court\, 2117 N College Ave\, 2117 N College Ave\, El Dorado\, AR\, 71730\, United States
CATEGORIES:Family and Children,Live Music
END:VEVENT
BEGIN:VEVENT
DTSTART;TZID=America/Chicago:20241026T190000
DTEND;TZID=America/Chicago:20241026T220000
DTSTAMP:20260420T111450
CREATED:20240719T191844Z
LAST-MODIFIED:20240927T195747Z
UID:10020654-1729969200-1729980000@www.goeldorado.com
SUMMARY:Night of the Living Newtons
DESCRIPTION:Prepare for an evening of spine-tingling historic horror\, which commences with a downtown “haunted” hayride and concludes with an eerie candle-lit walkthrough tour of the storied Newton House. Now in its third year\, this event promises even bigger and better scares and entertainment.
URL:https://www.goeldorado.com/event/night-of-the-living-newtons-3/
LOCATION:The Newton House\, 510 N. Jackson Ave.\, El Dorado\, AR\, 71730
CATEGORIES:Community,Festivals & Celebrations,Holiday
ATTACH;FMTTYPE=image/jpeg:https://www.goeldorado.com/wp-content/uploads/2024/09/SAHPS-2024-NLN-Flyer.jpg
ORGANIZER;CN="South Arkansas Historical Preservation Society":MAILTO:info@soarkhistory.com
END:VEVENT
BEGIN:VEVENT
DTSTART;TZID=America/Chicago:20241026T190000
DTEND;TZID=America/Chicago:20241026T220000
DTSTAMP:20260420T111450
CREATED:20240903T212428Z
LAST-MODIFIED:20240903T212428Z
UID:10021848-1729969200-1729980000@www.goeldorado.com
SUMMARY:The Haunt
DESCRIPTION:You are alone and hear a noise. \nBut\, when you turn to see what caused the noise\, nothing is there. \nA chill runs down your spine. \nIs someone watching you??? \nPerhaps your mind is playing tricks on you. \nOr\, perhaps\, that eerie\, unexplained noise is caused by something you cannot see\, something you don’t want to see. \nJoin us at this year’s El Dorado Haunt and face your Boogeyman as we present  \n“CREATURES OF THE NIGHT.”
URL:https://www.goeldorado.com/event/the-haunt-3/2024-10-26/
LOCATION:Camp Wotapi\, 4100 Wotapi Dr\, El Dorado\, AR\, 71730\, United States
CATEGORIES:Community,Family and Children,Holiday
ORGANIZER;CN="Campfire El Dorado":MAILTO:campfire@suddenlinkmail.com
END:VEVENT
BEGIN:VEVENT
DTSTART;TZID=America/Chicago:20241026T190000
DTEND;TZID=America/Chicago:20241026T230000
DTSTAMP:20260420T111450
CREATED:20240905T185911Z
LAST-MODIFIED:20240905T185911Z
UID:10021860-1729969200-1729983600@www.goeldorado.com
SUMMARY:El Dorado Service League Fall Gala
DESCRIPTION:
URL:https://www.goeldorado.com/event/el-dorado-service-league-fall-gala/
LOCATION:El Dorado Conference Center\, 311 S West Ave\, El Dorado\, 71730\, United States
CATEGORIES:Clubs/Organizations,Community,Festivals & Celebrations
ATTACH;FMTTYPE=image/jpeg:https://www.goeldorado.com/wp-content/uploads/2024/09/ESL-Fall-Gala-2024.jpg
END:VEVENT
END:VCALENDAR