BEGIN:VCALENDAR
VERSION:2.0
PRODID:-//El Dorado, Arkansas - ECPv6.15.20//NONSGML v1.0//EN
CALSCALE:GREGORIAN
METHOD:PUBLISH
X-WR-CALNAME:El Dorado, Arkansas
X-ORIGINAL-URL:https://www.goeldorado.com
X-WR-CALDESC:Events for El Dorado, Arkansas
REFRESH-INTERVAL;VALUE=DURATION:PT1H
X-Robots-Tag:noindex
X-PUBLISHED-TTL:PT1H
BEGIN:VTIMEZONE
TZID:America/Chicago
BEGIN:DAYLIGHT
TZOFFSETFROM:-0600
TZOFFSETTO:-0500
TZNAME:CDT
DTSTART:20240310T080000
END:DAYLIGHT
BEGIN:STANDARD
TZOFFSETFROM:-0500
TZOFFSETTO:-0600
TZNAME:CST
DTSTART:20241103T070000
END:STANDARD
BEGIN:DAYLIGHT
TZOFFSETFROM:-0600
TZOFFSETTO:-0500
TZNAME:CDT
DTSTART:20250309T080000
END:DAYLIGHT
BEGIN:STANDARD
TZOFFSETFROM:-0500
TZOFFSETTO:-0600
TZNAME:CST
DTSTART:20251102T070000
END:STANDARD
BEGIN:DAYLIGHT
TZOFFSETFROM:-0600
TZOFFSETTO:-0500
TZNAME:CDT
DTSTART:20260308T080000
END:DAYLIGHT
BEGIN:STANDARD
TZOFFSETFROM:-0500
TZOFFSETTO:-0600
TZNAME:CST
DTSTART:20261101T070000
END:STANDARD
END:VTIMEZONE
BEGIN:VEVENT
DTSTART;TZID=America/Chicago:20250710T193000
DTEND;TZID=America/Chicago:20250710T223000
DTSTAMP:20260420T112642
CREATED:20250529T210921Z
LAST-MODIFIED:20250530T161928Z
UID:10026160-1752175800-1752186600@www.goeldorado.com
SUMMARY:"Hairspray\," SAAC's Summer Musical
DESCRIPTION:Based on the 1988 film *Hairspray*\, set in 1960s Baltimore\, the story follows Tracy Turnblad\, a confident girl who dreams of dancing on a TV show. Despite her weight and modest background\, she impresses judges and becomes a local star. When she chooses a Black partner\, the racist director opposes her\, but Tracy leads a rebellion against segregation. In the end\, she wins the contest and champions equality. \n  \nTickets: South Arkansas Arts Center | Buy Tickets\, Packages or make a Donation on TicketstotheCity.com
URL:https://www.goeldorado.com/event/hairspray-saacs-summer-musical/2025-07-10/
LOCATION:South Arkansas Arts Center
CATEGORIES:Arts & Culture,Community,Family and Children
END:VEVENT
BEGIN:VEVENT
DTSTART;TZID=America/Chicago:20250711T110000
DTEND;TZID=America/Chicago:20250711T113000
DTSTAMP:20260420T112642
CREATED:20250701T153248Z
LAST-MODIFIED:20250701T153248Z
UID:10027118-1752231600-1752233400@www.goeldorado.com
SUMMARY:Ribbon Cutting: Grab & Go Tabacco and Convenience Store
DESCRIPTION:
URL:https://www.goeldorado.com/event/ribbon-cutting-grab-go-tabacco-and-convenience-store/
LOCATION:Grab & Go\, 800 N West Ave\, El Dorado\, AR\, 71730
CATEGORIES:Business,Chamber Of Commerce
ATTACH;FMTTYPE=image/png:https://www.goeldorado.com/wp-content/uploads/2025/07/Opening-9.png
END:VEVENT
BEGIN:VEVENT
DTSTART;TZID=America/Chicago:20250711T130000
DTEND;TZID=America/Chicago:20250711T140000
DTSTAMP:20260420T112642
CREATED:20250516T171623Z
LAST-MODIFIED:20250516T171711Z
UID:10025790-1752238800-1752242400@www.goeldorado.com
SUMMARY:Cardboard Rainbow Affirmation @ Norphlet Library
DESCRIPTION:
URL:https://www.goeldorado.com/event/cardboard-rainbow-affirmation-norphlet-library/
LOCATION:Norphlet Library\, 101 E Padgett ST\, Norphlet\, AR\, 71759
CATEGORIES:Community,Family and Children
ORGANIZER;CN="Barton Library":MAILTO:eldorado@ucpls.org
END:VEVENT
BEGIN:VEVENT
DTSTART;TZID=America/Chicago:20250711T193000
DTEND;TZID=America/Chicago:20250711T223000
DTSTAMP:20260420T112642
CREATED:20250529T210921Z
LAST-MODIFIED:20250530T161928Z
UID:10026161-1752262200-1752273000@www.goeldorado.com
SUMMARY:"Hairspray\," SAAC's Summer Musical
DESCRIPTION:Based on the 1988 film *Hairspray*\, set in 1960s Baltimore\, the story follows Tracy Turnblad\, a confident girl who dreams of dancing on a TV show. Despite her weight and modest background\, she impresses judges and becomes a local star. When she chooses a Black partner\, the racist director opposes her\, but Tracy leads a rebellion against segregation. In the end\, she wins the contest and champions equality. \n  \nTickets: South Arkansas Arts Center | Buy Tickets\, Packages or make a Donation on TicketstotheCity.com
URL:https://www.goeldorado.com/event/hairspray-saacs-summer-musical/2025-07-11/
LOCATION:South Arkansas Arts Center
CATEGORIES:Arts & Culture,Community,Family and Children
END:VEVENT
BEGIN:VEVENT
DTSTART;TZID=America/Chicago:20250712T070000
DTEND;TZID=America/Chicago:20250712T083000
DTSTAMP:20260420T112642
CREATED:20250326T151019Z
LAST-MODIFIED:20250326T212721Z
UID:10025433-1752303600-1752309000@www.goeldorado.com
SUMMARY:Women Moving Forward - Saturday Morning Walk
DESCRIPTION:Come join Women Moving Forward for a morning walk! Women Moving Forward is a Non-Profit Organization empowering women to take control of their health and wellness by incorporating walking and physical activity into their weekly schedule. Every Saturday morning we gather to walk\, talk\, and share with other women in our community. Our conversations are rich\, and our progress is real. Do yourself a favor and join us Saturday morning to Move Forward one step at a time. \n  \n(3) Facebook
URL:https://www.goeldorado.com/event/women-moving-forward-saturday-morning-walk-2/2025-07-12/
LOCATION:Memorial Stadium\, N West Ave\, El Dorado\, AR\, 71730\, United States
CATEGORIES:Clubs/Organizations,Community,Recreation & Sports
ATTACH;FMTTYPE=image/png:https://www.goeldorado.com/wp-content/uploads/2025/03/WMF-Saturday-Morning-Walk.png
ORGANIZER;CN="Women Moving Forward":MAILTO:womenmovingforward21@gmail.com
END:VEVENT
BEGIN:VEVENT
DTSTART;TZID=America/Chicago:20250712T090000
DTEND;TZID=America/Chicago:20250712T120000
DTSTAMP:20260420T112642
CREATED:20250605T133634Z
LAST-MODIFIED:20250605T133634Z
UID:10027013-1752310800-1752321600@www.goeldorado.com
SUMMARY:Farmers Market @ MAD
DESCRIPTION:
URL:https://www.goeldorado.com/event/farmers-market-mad/2025-07-12/
LOCATION:MAD Amphitheater\, 101 E Locust\, El Dorado\, AR\, 71730\, United States
CATEGORIES:Business,Community,Family and Children
END:VEVENT
BEGIN:VEVENT
DTSTART;TZID=America/Chicago:20250712T140000
DTEND;TZID=America/Chicago:20250712T150000
DTSTAMP:20260420T112642
CREATED:20250516T171831Z
LAST-MODIFIED:20250519T204242Z
UID:10025791-1752328800-1752332400@www.goeldorado.com
SUMMARY:Story Time with El Dorado Service League
DESCRIPTION:Children of all ages are invited to participate in stories\, crafts\, and snacks!
URL:https://www.goeldorado.com/event/story-time-with-el-dorado-service-league-5/
LOCATION:Barton Library\, 200 E 5th\, El Dorado\, AR\, 71730\, United States
CATEGORIES:Clubs/Organizations,Community,Family and Children
ORGANIZER;CN="Barton Library":MAILTO:eldorado@ucpls.org
END:VEVENT
BEGIN:VEVENT
DTSTART;TZID=America/Chicago:20250712T170000
DTEND;TZID=America/Chicago:20250712T213000
DTSTAMP:20260420T112642
CREATED:20230123T171108Z
LAST-MODIFIED:20230123T171108Z
UID:10011123-1752339600-1752355800@www.goeldorado.com
SUMMARY:Bingo @ The VFW
DESCRIPTION:The VFW will be hosting BINGO! Every Saturday night. \nQuarter Bingo starts at 5pm \nRegular Bingo starts at 7pm
URL:https://www.goeldorado.com/event/bingo-the-vfw/2025-07-12/
LOCATION:VFW\, 451 Industrial Rd\, El Dorado\, AR\, 71730\, United States
CATEGORIES:Clubs/Organizations,Community,Recreation & Sports
END:VEVENT
BEGIN:VEVENT
DTSTART;TZID=America/Chicago:20250712T193000
DTEND;TZID=America/Chicago:20250712T213000
DTSTAMP:20260420T112642
CREATED:20250430T200402Z
LAST-MODIFIED:20250430T200402Z
UID:10025717-1752348600-1752355800@www.goeldorado.com
SUMMARY:Jason D Williams LIVE @ Madhouse 101
DESCRIPTION:
URL:https://www.goeldorado.com/event/jason-d-williams-live-madhouse-101/
LOCATION:MAD House 101 Restuarant and Bar\, 101 E Locust\, El Dorado\, AR\, 71730\, United States
CATEGORIES:Live Music
ATTACH;FMTTYPE=image/jpeg:https://www.goeldorado.com/wp-content/uploads/2025/04/490549901_705040115230988_8301410465898748132_n.jpg
END:VEVENT
BEGIN:VEVENT
DTSTART;TZID=America/Chicago:20250712T193000
DTEND;TZID=America/Chicago:20250712T223000
DTSTAMP:20260420T112642
CREATED:20250529T210921Z
LAST-MODIFIED:20250530T161928Z
UID:10026953-1752348600-1752359400@www.goeldorado.com
SUMMARY:"Hairspray\," SAAC's Summer Musical
DESCRIPTION:Based on the 1988 film *Hairspray*\, set in 1960s Baltimore\, the story follows Tracy Turnblad\, a confident girl who dreams of dancing on a TV show. Despite her weight and modest background\, she impresses judges and becomes a local star. When she chooses a Black partner\, the racist director opposes her\, but Tracy leads a rebellion against segregation. In the end\, she wins the contest and champions equality. \n  \nTickets: South Arkansas Arts Center | Buy Tickets\, Packages or make a Donation on TicketstotheCity.com
URL:https://www.goeldorado.com/event/hairspray-saacs-summer-musical/2025-07-12/
LOCATION:South Arkansas Arts Center
CATEGORIES:Arts & Culture,Community,Family and Children
END:VEVENT
BEGIN:VEVENT
DTSTART;TZID=America/Chicago:20250713T140000
DTEND;TZID=America/Chicago:20250713T150000
DTSTAMP:20260420T112642
CREATED:20250516T174602Z
LAST-MODIFIED:20250519T204314Z
UID:10025792-1752415200-1752418800@www.goeldorado.com
SUMMARY:Union County Genealogical Society Meeting @ Barton Library
DESCRIPTION:
URL:https://www.goeldorado.com/event/union-county-genealogical-society-meeting-barton-library/
LOCATION:Barton Library\, 200 E 5th\, El Dorado\, AR\, 71730\, United States
CATEGORIES:Clubs/Organizations,Community
ORGANIZER;CN="Barton Library":MAILTO:eldorado@ucpls.org
END:VEVENT
BEGIN:VEVENT
DTSTART;TZID=America/Chicago:20250713T143000
DTEND;TZID=America/Chicago:20250713T173000
DTSTAMP:20260420T112642
CREATED:20250530T161444Z
LAST-MODIFIED:20250530T161444Z
UID:10026894-1752417000-1752427800@www.goeldorado.com
SUMMARY:"Hairspray\," SAAC's Summer Musical
DESCRIPTION:Based on the 1988 film *Hairspray*\, set in 1960s Baltimore\, the story follows Tracy Turnblad\, a confident girl who dreams of dancing on a TV show. Despite her weight and modest background\, she impresses judges and becomes a local star. When she chooses a Black partner\, the racist director opposes her\, but Tracy leads a rebellion against segregation. In the end\, she wins the contest and champions equality. \n  \nTickets: South Arkansas Arts Center | Buy Tickets\, Packages or make a Donation on TicketstotheCity.com
URL:https://www.goeldorado.com/event/hairspray-saacs-summer-musical-2/2025-07-13/
LOCATION:South Arkansas Arts Center
CATEGORIES:Arts & Culture,Community,Family and Children
END:VEVENT
BEGIN:VEVENT
DTSTART;TZID=America/Chicago:20250714T130000
DTEND;TZID=America/Chicago:20250714T140000
DTSTAMP:20260420T112642
CREATED:20250516T174810Z
LAST-MODIFIED:20250519T204413Z
UID:10025793-1752498000-1752501600@www.goeldorado.com
SUMMARY:Cynthia Ford @ Harper Memorial Library
DESCRIPTION:
URL:https://www.goeldorado.com/event/cynthia-ford-harper-memorial-library-2/
LOCATION:Harper Memorial Library: Junction City\, 300 N Myrtle St\, Junction City\, AR\, 71749\, United States
CATEGORIES:Community,Family and Children
ORGANIZER;CN="Barton Library":MAILTO:eldorado@ucpls.org
END:VEVENT
BEGIN:VEVENT
DTSTART;TZID=America/Chicago:20250714T150000
DTEND;TZID=America/Chicago:20250714T160000
DTSTAMP:20260420T112642
CREATED:20250516T180228Z
LAST-MODIFIED:20250519T204443Z
UID:10025794-1752505200-1752508800@www.goeldorado.com
SUMMARY:Carly Barnette @ Norphlet Library
DESCRIPTION:
URL:https://www.goeldorado.com/event/carly-barnette-norphlet-library/
LOCATION:Norphlet Library\, 101 E Padgett ST\, Norphlet\, AR\, 71759
CATEGORIES:Community,Family and Children
ORGANIZER;CN="Barton Library":MAILTO:eldorado@ucpls.org
END:VEVENT
BEGIN:VEVENT
DTSTART;TZID=America/Chicago:20250715T100000
DTEND;TZID=America/Chicago:20250715T120000
DTSTAMP:20260420T112642
CREATED:20250519T213431Z
LAST-MODIFIED:20250519T213431Z
UID:10025818-1752573600-1752580800@www.goeldorado.com
SUMMARY:Free Summer Movie: Garfield The Movie @ Starts Theater
DESCRIPTION:2025 FREE Kids Summer Movie Lineup\nTuesday and Thursday at 10am\nFREE ADMISSION\nGroups Encouraged\n\n\n6/3-6/5: Bad Guys\n6/10-6/12: Despicable Me 4\n6/17-6/19: Kung Fu Panda 4\n6/24-6/26: Harold and the Purple Crayon\n\n\n7/1-7/3: Wild Robot\n7/8-7/10: Sonic 3\n7/15-7/17: Garfield\n7/22-7/24: Transformers One
URL:https://www.goeldorado.com/event/free-summer-movie-garfield-the-movie-starts-theater/
LOCATION:Stars Theaters\, 2620 W Hillsboro\, El Dorado\, AR\, 71730\, United States
CATEGORIES:Community,Family and Children
ATTACH;FMTTYPE=image/jpeg:https://www.goeldorado.com/wp-content/uploads/2025/05/494307051_1090617472876877_4152037135579583503_n.jpg
END:VEVENT
BEGIN:VEVENT
DTSTART;TZID=America/Chicago:20250715T100000
DTEND;TZID=America/Chicago:20250821T110000
DTSTAMP:20260420T112642
CREATED:20250627T153952Z
LAST-MODIFIED:20250627T154452Z
UID:10027116-1752573600-1755774000@www.goeldorado.com
SUMMARY:Walk With Ease with South Arkansas Center on Aging
DESCRIPTION:Say yes to your health!\nWalk With Ease is an evidence-based walking program that educates participants on how to safely include physical activity in their daily lives. It is designed to help individuals with arthritis manage their pain more effectively\, and it is also an excellent choice for those without arthritis who want to make walking a part of their daily routine.
URL:https://www.goeldorado.com/event/walk-with-ease-with-south-arkansas-center-on-aging/
LOCATION:HealthWorks Fitness Center\, 304 N. Madison\, El Dorado\, AR\, 71730
CATEGORIES:Community,Education,Recreation & Sports
ATTACH;FMTTYPE=image/png:https://www.goeldorado.com/wp-content/uploads/2025/06/WWE-jpg.png
END:VEVENT
BEGIN:VEVENT
DTSTART;TZID=America/Chicago:20250715T130000
DTEND;TZID=America/Chicago:20250715T140000
DTSTAMP:20260420T112642
CREATED:20250516T180534Z
LAST-MODIFIED:20250519T204507Z
UID:10025795-1752584400-1752588000@www.goeldorado.com
SUMMARY:ELD Fire Department @ Barton Library
DESCRIPTION:Learn about fire safety with El Dorado Fire Fighters!
URL:https://www.goeldorado.com/event/eld-fire-department-barton-library/
LOCATION:Barton Library\, 200 E 5th\, El Dorado\, AR\, 71730\, United States
CATEGORIES:Community,Family and Children
ORGANIZER;CN="Barton Library":MAILTO:eldorado@ucpls.org
END:VEVENT
BEGIN:VEVENT
DTSTART;TZID=America/Chicago:20250715T130000
DTEND;TZID=America/Chicago:20250715T140000
DTSTAMP:20260420T112642
CREATED:20250516T180726Z
LAST-MODIFIED:20250519T204542Z
UID:10025796-1752584400-1752588000@www.goeldorado.com
SUMMARY:UADA @ Strong Library
DESCRIPTION:
URL:https://www.goeldorado.com/event/uada-strong-library-3/
LOCATION:strong library\, 2299 W 2nd Ave\, Strong\, AR\, 71765
CATEGORIES:Community,Family and Children
ORGANIZER;CN="Barton Library":MAILTO:eldorado@ucpls.org
END:VEVENT
BEGIN:VEVENT
DTSTART;TZID=America/Chicago:20250715T173000
DTEND;TZID=America/Chicago:20250715T183000
DTSTAMP:20260420T112642
CREATED:20250624T211316Z
LAST-MODIFIED:20250624T211316Z
UID:10027112-1752600600-1752604200@www.goeldorado.com
SUMMARY:Business After Hours: Gabe's Cave/ DP's Food Truck park
DESCRIPTION:Join the El Dorado Union County Chamber of Commerce for our next Business After Hours on Tuesday\, July 15 from 5:30 to 6:30 PM at Gabe’s Cave and DP’s Food Truck Park in Downtown El Dorado. \nBusiness After Hours is a casual networking event that gives Chamber members and community partners the chance to connect\, build relationships\, and explore local businesses in a relaxed after work setting. \nThis month’s location offers a one of a kind experience with comic books and collectibles at Gabe’s Cave alongside the fun\, open air atmosphere of DP’s Food Truck Park. It’s a great opportunity to unwind\, explore something new\, and make valuable connections.
URL:https://www.goeldorado.com/event/business-after-hours-gabes-cave-dps-food-truck-park/
LOCATION:Gabe’s Cabe\, 2101 N College\, El Dorado\, AR\, 71730\, United States
CATEGORIES:Business,Clubs/Organizations,Community
ATTACH;FMTTYPE=image/png:https://www.goeldorado.com/wp-content/uploads/2025/06/Rimberio-Presents.png
END:VEVENT
BEGIN:VEVENT
DTSTART;TZID=America/Chicago:20250717T100000
DTEND;TZID=America/Chicago:20250717T110000
DTSTAMP:20260420T112642
CREATED:20250522T154629Z
LAST-MODIFIED:20250604T141633Z
UID:10025828-1752746400-1752750000@www.goeldorado.com
SUMMARY:Summer Fun @ The Museum: Hands on History\, Boomtown Scavenger Hunt
DESCRIPTION:Come join the fun at the Arkansas Museum of Natural Resources. Every Thursday\, 10:00am  for the month of July. Call 870-725-2877 for more information and to register.
URL:https://www.goeldorado.com/event/summer-fun-the-museum-4/
LOCATION:Arkansas Museum of Natural Resources\, 4087 Smackover Hwy\, Smackover\, AR\, 71730\, United States
CATEGORIES:Family and Children
ATTACH;FMTTYPE=image/jpeg:https://www.goeldorado.com/wp-content/uploads/2025/05/summer-program-announcement2.jpg
END:VEVENT
BEGIN:VEVENT
DTSTART;TZID=America/Chicago:20250717T100000
DTEND;TZID=America/Chicago:20250717T120000
DTSTAMP:20260420T112642
CREATED:20250519T213444Z
LAST-MODIFIED:20250519T213444Z
UID:10025819-1752746400-1752753600@www.goeldorado.com
SUMMARY:Free Summer Movie: Garfield The Movie @ Starts Theater
DESCRIPTION:2025 FREE Kids Summer Movie Lineup\nTuesday and Thursday at 10am\nFREE ADMISSION\nGroups Encouraged\n\n\n6/3-6/5: Bad Guys\n6/10-6/12: Despicable Me 4\n6/17-6/19: Kung Fu Panda 4\n6/24-6/26: Harold and the Purple Crayon\n\n\n7/1-7/3: Wild Robot\n7/8-7/10: Sonic 3\n7/15-7/17: Garfield\n7/22-7/24: Transformers One
URL:https://www.goeldorado.com/event/free-summer-movie-garfield-the-movie-starts-theater-2/
LOCATION:Stars Theaters\, 2620 W Hillsboro\, El Dorado\, AR\, 71730\, United States
CATEGORIES:Community,Family and Children
ATTACH;FMTTYPE=image/jpeg:https://www.goeldorado.com/wp-content/uploads/2025/05/494307051_1090617472876877_4152037135579583503_n.jpg
END:VEVENT
BEGIN:VEVENT
DTSTART;TZID=America/Chicago:20250717T100000
DTEND;TZID=America/Chicago:20250717T120000
DTSTAMP:20260420T112642
CREATED:20250605T133804Z
LAST-MODIFIED:20250605T133804Z
UID:10027021-1752746400-1752753600@www.goeldorado.com
SUMMARY:Summer Workshop: Oil Derrick Collage Project
DESCRIPTION:
URL:https://www.goeldorado.com/event/summer-workshop-oil-derrick-collage-project/
LOCATION:Arkansas Museum of Natural Resources\, 4087 Smackover Hwy\, Smackover\, AR\, 71730\, United States
CATEGORIES:Arts & Culture,Community,Family and Children
ATTACH;FMTTYPE=image/jpeg:https://www.goeldorado.com/wp-content/uploads/2025/06/501042257_1259956282805724_2377795943791221597_n.jpg
END:VEVENT
BEGIN:VEVENT
DTSTART;TZID=America/Chicago:20250717T120000
DTEND;TZID=America/Chicago:20250717T130000
DTSTAMP:20260420T112642
CREATED:20250702T165654Z
LAST-MODIFIED:20250703T200035Z
UID:10027120-1752753600-1752757200@www.goeldorado.com
SUMMARY:Lithium 101 Lunch Lecture
DESCRIPTION:  \n\n\nLithium 101 Lunch Lecture\n\nJuly 17 \n12:00 PM – 01:00 PM \n\nMahony Family Library\n\n\nLithium 101\nWhat it is\, Where it is\, and Why it Matters \nJoin us for another illuminating session with Robert Reynolds as he returns to unpack one of today’s most talked-about underground resources-lithium. \nThis session will explore: \nWhat lithium is and where it comes from \nWhy it’s in high demand-and where it’s actually being extracted in our region \nHow lithium is mined and what the environmental considerations are \nWhat the broader implications are for our community and economy \nThis month’s lunch lecture is offered in partnership with the El Dorado Union County Chamber of Commerce. \nDate: July 17 \nTime: 12:00 PM- 1:00 PM \nLocation: Mahony Family Library \nAddress: 300 Summit Ave\, El Dorado\, AR \nFee: FREE \nLunch is provided for those who register.
URL:https://www.goeldorado.com/event/lithium-101-lunch-lecture/
LOCATION:Mahony Family Library\, 300 Summit Ave\, El Dorado\, AR\, 71730\, United States
CATEGORIES:Business,Chamber Of Commerce,Community
ATTACH;FMTTYPE=image/png:https://www.goeldorado.com/wp-content/uploads/2025/07/Robert-Reynolds.png
END:VEVENT
BEGIN:VEVENT
DTSTART;TZID=America/Chicago:20250717T130000
DTEND;TZID=America/Chicago:20250717T140000
DTSTAMP:20260420T112642
CREATED:20250516T181317Z
LAST-MODIFIED:20250519T204614Z
UID:10025797-1752757200-1752760800@www.goeldorado.com
SUMMARY:Big Poppa Bubble @ Barton Library
DESCRIPTION:Bubble party\, free lunch provided by the Salvation Army\, and Summer Reading Program awards!
URL:https://www.goeldorado.com/event/big-poppa-bubble-barton-library/
LOCATION:Barton Library\, 200 E 5th\, El Dorado\, AR\, 71730\, United States
CATEGORIES:Community,Family and Children
ORGANIZER;CN="Barton Library":MAILTO:eldorado@ucpls.org
END:VEVENT
BEGIN:VEVENT
DTSTART;TZID=America/Chicago:20250717T180000
DTEND;TZID=America/Chicago:20250717T190000
DTSTAMP:20260420T112642
CREATED:20241009T203328Z
LAST-MODIFIED:20241009T203328Z
UID:10022681-1752775200-1752778800@www.goeldorado.com
SUMMARY:Trivia @ DPs Food Truck Park
DESCRIPTION:
URL:https://www.goeldorado.com/event/trivia-dps-food-truck-park/2025-07-17/
LOCATION:DP’s Food Truck Court\, 2117 N College Ave\, 2117 N College Ave\, El Dorado\, AR\, 71730\, United States
CATEGORIES:Community,Family and Children
ATTACH;FMTTYPE=image/jpeg:https://www.goeldorado.com/wp-content/uploads/2023/11/trivia.jpg
END:VEVENT
BEGIN:VEVENT
DTSTART;TZID=America/Chicago:20250717T190000
DTEND;TZID=America/Chicago:20250717T210000
DTSTAMP:20260420T112642
CREATED:20250512T202121Z
LAST-MODIFIED:20250512T202412Z
UID:10025731-1752778800-1752786000@www.goeldorado.com
SUMMARY:Jordan Sheppard at MAD House 101
DESCRIPTION:Get ready for an unforgettable night of soulful music with Jordan Sheppard!  On July 17th\, Jordan takes the stage at Mad House 101 for an intimate performance you won’t want to miss.\n Date: July 17th Time: 7:00 PM – 9:00 PM Location: Mad House 101 Restaurant\nBring your friends\, grab a drink\, and enjoy a night of great music!
URL:https://www.goeldorado.com/event/jordan-sheppard-at-mad-house-101/
LOCATION:MAD House 101 Restuarant and Bar\, 101 E Locust\, El Dorado\, AR\, 71730\, United States
CATEGORIES:Live Music
ATTACH;FMTTYPE=image/jpeg:https://www.goeldorado.com/wp-content/uploads/2025/05/Jordan-2.jpg
END:VEVENT
BEGIN:VEVENT
DTSTART;TZID=America/Chicago:20250717T190000
DTEND;TZID=America/Chicago:20250717T230000
DTSTAMP:20260420T112642
CREATED:20250102T173410Z
LAST-MODIFIED:20250102T173410Z
UID:10023671-1752778800-1752793200@www.goeldorado.com
SUMMARY:8 Ball Tournament @ Hot Shots
DESCRIPTION:
URL:https://www.goeldorado.com/event/8-ball-tournament-hot-shots/2025-07-17/
LOCATION:Hot Shots\, 601 S Timberlane\, El Dorado\, AR\, 71730\, United States
CATEGORIES:Recreation & Sports
ATTACH;FMTTYPE=image/jpeg:https://www.goeldorado.com/wp-content/uploads/2025/01/466892415_1134041465397884_9191985232359032281_n.jpg
END:VEVENT
BEGIN:VEVENT
DTSTART;TZID=America/Chicago:20250717T193000
DTEND;TZID=America/Chicago:20250717T223000
DTSTAMP:20260420T112642
CREATED:20250530T161828Z
LAST-MODIFIED:20250530T161828Z
UID:10026950-1752780600-1752791400@www.goeldorado.com
SUMMARY:"Hairspray\," SAAC's Summer Musical
DESCRIPTION:Based on the 1988 film *Hairspray*\, set in 1960s Baltimore\, the story follows Tracy Turnblad\, a confident girl who dreams of dancing on a TV show. Despite her weight and modest background\, she impresses judges and becomes a local star. When she chooses a Black partner\, the racist director opposes her\, but Tracy leads a rebellion against segregation. In the end\, she wins the contest and champions equality. \n  \nTickets: South Arkansas Arts Center | Buy Tickets\, Packages or make a Donation on TicketstotheCity.com
URL:https://www.goeldorado.com/event/hairspray-saacs-summer-musical-3/2025-07-17/
LOCATION:South Arkansas Arts Center
CATEGORIES:Arts & Culture,Community,Family and Children
END:VEVENT
BEGIN:VEVENT
DTSTART;VALUE=DATE:20250718
DTEND;VALUE=DATE:20250720
DTSTAMP:20260420T112642
CREATED:20250718T165319Z
LAST-MODIFIED:20250718T165319Z
UID:10027126-1752796800-1752969599@www.goeldorado.com
SUMMARY:Triple Steak Cook-Off
DESCRIPTION:  \nGrill Wars: Triple Steak Cook-OffJuly 18 & 19 | Downtown El Dorado\nGet ready for two days of exciting steak competitions\, delicious food\, and local vendors. Whether you’re a pro cook or just here to eat like one\, there’s something for everyone at Grill Wars!\n Cook OffsJoin us for three SCA-sanctioned steak cook-offs: one on Friday and two on Saturday. Friday features the Tacos ancillary\, then Saturday includes the Kids Pork Chop Cook-Off and Anything Red White and Blue ancillary.\n Public Steak PlatesEnjoy a $30 steak plate prepared by four-time SCA World Champion Johnny Joseph. Each plate includes steak\, grilled baked potato\, roll\, dessert\, and drink. Pickup is Saturday\, July 19\, from 4 to 4:30 PM at the corner of Elm and Washington. Limited quantities available! Tickets can be purchased online or at our office.Purchase plates here: www.ticketsignup.io/TicketEvent/MSESteakPlates\n Saturday Vendor Market10 AM to 1 PM featuring youth entrepreneurs and local vendors!\n Want to compete?Sign up herehttps://www.steakcookoffs.com/cookoffs\nMore infohttps://www.mainstreeteldorado.org/steak\n 
URL:https://www.goeldorado.com/event/triple-steak-cook-off/
LOCATION:Downtown El Dorado\, 101 N. Washington\, El Dorado\, AR\, 71730
CATEGORIES:Clubs/Organizations,Community,Family and Children,Festivals & Celebrations
ATTACH;FMTTYPE=image/jpeg:https://www.goeldorado.com/wp-content/uploads/2025/07/513025558_1049177544014695_6412662887826607464_n.jpg
END:VEVENT
BEGIN:VEVENT
DTSTART;TZID=America/Chicago:20250718T130000
DTEND;TZID=America/Chicago:20250718T140000
DTSTAMP:20260420T112642
CREATED:20250516T181508Z
LAST-MODIFIED:20250519T204648Z
UID:10025798-1752843600-1752847200@www.goeldorado.com
SUMMARY:Color Your Own Kitchen Apron @ Norphlet
DESCRIPTION:
URL:https://www.goeldorado.com/event/color-your-own-kitchen-apron-norphlet/
LOCATION:Norphlet Library\, 101 E Padgett ST\, Norphlet\, AR\, 71759
CATEGORIES:Community,Family and Children
ORGANIZER;CN="Barton Library":MAILTO:eldorado@ucpls.org
END:VEVENT
END:VCALENDAR