BEGIN:VCALENDAR
VERSION:2.0
PRODID:-//El Dorado, Arkansas - ECPv6.15.20//NONSGML v1.0//EN
CALSCALE:GREGORIAN
METHOD:PUBLISH
X-ORIGINAL-URL:https://www.goeldorado.com
X-WR-CALDESC:Events for El Dorado, Arkansas
REFRESH-INTERVAL;VALUE=DURATION:PT1H
X-Robots-Tag:noindex
X-PUBLISHED-TTL:PT1H
BEGIN:VTIMEZONE
TZID:America/Chicago
BEGIN:DAYLIGHT
TZOFFSETFROM:-0600
TZOFFSETTO:-0500
TZNAME:CDT
DTSTART:20220313T080000
END:DAYLIGHT
BEGIN:STANDARD
TZOFFSETFROM:-0500
TZOFFSETTO:-0600
TZNAME:CST
DTSTART:20221106T070000
END:STANDARD
BEGIN:DAYLIGHT
TZOFFSETFROM:-0600
TZOFFSETTO:-0500
TZNAME:CDT
DTSTART:20230312T080000
END:DAYLIGHT
BEGIN:STANDARD
TZOFFSETFROM:-0500
TZOFFSETTO:-0600
TZNAME:CST
DTSTART:20231105T070000
END:STANDARD
BEGIN:DAYLIGHT
TZOFFSETFROM:-0600
TZOFFSETTO:-0500
TZNAME:CDT
DTSTART:20240310T080000
END:DAYLIGHT
BEGIN:STANDARD
TZOFFSETFROM:-0500
TZOFFSETTO:-0600
TZNAME:CST
DTSTART:20241103T070000
END:STANDARD
END:VTIMEZONE
BEGIN:VEVENT
DTSTART;TZID=America/Chicago:20231028T080000
DTEND;TZID=America/Chicago:20231028T110000
DTSTAMP:20260421T232309
CREATED:20230414T212537Z
LAST-MODIFIED:20230626T140535Z
UID:10014361-1698480000-1698490800@www.goeldorado.com
SUMMARY:Farmers Market at MAD
DESCRIPTION:Shop local vendors at the MAD Amphitheater!
URL:https://www.goeldorado.com/event/farmers-market-at-mad-3/2023-10-28/
LOCATION:AR
CATEGORIES:Arts & Culture,Community,Family and Children
ATTACH;FMTTYPE=image/jpeg:https://www.goeldorado.com/wp-content/uploads/2023/04/famersmarketevent.jpg
END:VEVENT
BEGIN:VEVENT
DTSTART;TZID=America/Chicago:20231028T080000
DTEND;TZID=America/Chicago:20231028T140000
DTSTAMP:20260421T232309
CREATED:20231027T150057Z
LAST-MODIFIED:20231027T150057Z
UID:10015809-1698480000-1698501600@www.goeldorado.com
SUMMARY:Benefit Barrel Run for The CALL!
DESCRIPTION:
URL:https://www.goeldorado.com/event/benefit-barrel-run-for-the-call/
LOCATION:Calvary Trail Cowboy Church Arena\, 317 Ouachita Rd 68\, Louann\, AR
END:VEVENT
BEGIN:VEVENT
DTSTART;TZID=America/Chicago:20231028T090000
DTEND;TZID=America/Chicago:20231028T110000
DTSTAMP:20260421T232309
CREATED:20231002T194823Z
LAST-MODIFIED:20231004T222545Z
UID:10014633-1698483600-1698490800@www.goeldorado.com
SUMMARY:Union County Master Gardener Annual Bulb Sale
DESCRIPTION:All bulbs have been selected for the south Arkansas planting zone.
URL:https://www.goeldorado.com/event/union-county-master-gardener-annual-bulb-sale/
LOCATION:MAD Amphitheater\, 101 E Locust\, El Dorado\, AR\, 71730\, United States
CATEGORIES:Arts & Culture,Clubs/Organizations,Community
ATTACH;FMTTYPE=image/png:https://www.goeldorado.com/wp-content/uploads/2023/10/Bulb-Sale-Flyer-2023.png
END:VEVENT
BEGIN:VEVENT
DTSTART;TZID=America/Chicago:20231028T100000
DTEND;TZID=America/Chicago:20231028T180000
DTSTAMP:20260421T232309
CREATED:20231027T134031Z
LAST-MODIFIED:20231027T134031Z
UID:10015804-1698487200-1698516000@www.goeldorado.com
SUMMARY:Boo on the Block Bash @ Oddities
DESCRIPTION:
URL:https://www.goeldorado.com/event/boo-on-the-block-bash-oddities/
LOCATION:Oddities Novelties & More\, 408 S Washington\, El Dorado\, Arkansas\, 71730
CATEGORIES:Arts & Culture,Business,Community,Family and Children,Holiday
ATTACH;FMTTYPE=image/jpeg:https://www.goeldorado.com/wp-content/uploads/2023/10/396676490_329156846532149_3029194994690328801_n.jpg
END:VEVENT
BEGIN:VEVENT
DTSTART;TZID=America/Chicago:20231028T120000
DTEND;TZID=America/Chicago:20231028T160000
DTSTAMP:20260421T232309
CREATED:20230123T203849Z
LAST-MODIFIED:20231027T140259Z
UID:10011769-1698494400-1698508800@www.goeldorado.com
SUMMARY:Scare on the Square w/ Main Street El Dorado
DESCRIPTION:
URL:https://www.goeldorado.com/event/scare-on-the-square-w-main-street-el-dorado/
LOCATION:Main Street El Dorado/Union Square El Dorado\, downtown El Dorado
CATEGORIES:Family and Children,Festivals & Celebrations,Holiday
ATTACH;FMTTYPE=image/jpeg:https://www.goeldorado.com/wp-content/uploads/2023/01/396251527_329157076532126_4042798934463347560_n.jpg
END:VEVENT
BEGIN:VEVENT
DTSTART;TZID=America/Chicago:20231028T130000
DTEND;TZID=America/Chicago:20231028T150000
DTSTAMP:20260421T232309
CREATED:20231027T134555Z
LAST-MODIFIED:20231027T134555Z
UID:10015806-1698498000-1698505200@www.goeldorado.com
SUMMARY:Kids & Pets Costume Contest in Downtown El Dorado
DESCRIPTION:
URL:https://www.goeldorado.com/event/kids-pets-costume-contest-in-downtown-el-dorado/
LOCATION:Union County Courthouse\, 101 N. Washington\, El Dorado\, AR\, 71730
CATEGORIES:Arts & Culture,Business,Community,Family and Children,Festivals & Celebrations,Holiday
ATTACH;FMTTYPE=image/jpeg:https://www.goeldorado.com/wp-content/uploads/2023/10/395630435_329157086532125_5893719816077654175_n.jpg
END:VEVENT
BEGIN:VEVENT
DTSTART;TZID=America/Chicago:20231028T130000
DTEND;TZID=America/Chicago:20231028T150000
DTSTAMP:20260421T232309
CREATED:20231027T153247Z
LAST-MODIFIED:20231027T153247Z
UID:10015812-1698498000-1698505200@www.goeldorado.com
SUMMARY:Fall Fest @ Northwest Baptist Church
DESCRIPTION:
URL:https://www.goeldorado.com/event/fall-fest-northwest-baptist-church/
LOCATION:Northwest Baptist church\, 5410 N West Ave\, El Dorado\, AR
CATEGORIES:Clubs/Organizations,Family and Children,Holiday
ATTACH;FMTTYPE=image/jpeg:https://www.goeldorado.com/wp-content/uploads/2023/10/392948331_712256474273418_27634073467217417_n.jpg
END:VEVENT
BEGIN:VEVENT
DTSTART;TZID=America/Chicago:20231028T160000
DTEND;TZID=America/Chicago:20231028T180000
DTSTAMP:20260421T232309
CREATED:20231027T153438Z
LAST-MODIFIED:20231027T153813Z
UID:10015813-1698508800-1698516000@www.goeldorado.com
SUMMARY:Trunk-or-Treat @ El Dorado Missionary Baptist Church
DESCRIPTION:
URL:https://www.goeldorado.com/event/trunk-or-treat-el-dorado-missionary-baptist-church/
LOCATION:El Dorado Missionary Baptist church\, 3014 E Main\, El Dorado\, Ar
CATEGORIES:Clubs/Organizations,Family and Children,Holiday
END:VEVENT
BEGIN:VEVENT
DTSTART;TZID=America/Chicago:20231028T160000
DTEND;TZID=America/Chicago:20231028T190000
DTSTAMP:20260421T232309
CREATED:20231027T134246Z
LAST-MODIFIED:20231027T134312Z
UID:10015805-1698508800-1698519600@www.goeldorado.com
SUMMARY:Meet & Grett Walter Jones (Power Ranger!!) @ Gabe's Cave
DESCRIPTION:
URL:https://www.goeldorado.com/event/meet-grett-walter-jones-power-ranger-gabes-cave/
LOCATION:Gabe’s Cave\, 2101 N College\, El Dorado\, AR\, 71730\, United States
CATEGORIES:Arts & Culture,Business,Community,Family and Children
ATTACH;FMTTYPE=image/jpeg:https://www.goeldorado.com/wp-content/uploads/2023/10/395726263_329156903198810_988998526418118987_n.jpg
END:VEVENT
BEGIN:VEVENT
DTSTART;TZID=America/Chicago:20231028T160000
DTEND;TZID=America/Chicago:20231028T200000
DTSTAMP:20260421T232309
CREATED:20230628T143043Z
LAST-MODIFIED:20230628T143043Z
UID:10014417-1698508800-1698523200@www.goeldorado.com
SUMMARY:Cruise Night Car Show
DESCRIPTION:
URL:https://www.goeldorado.com/event/cruise-night-car-show/2023-10-28/
LOCATION:Downtown El Dorado\, 101 N. Washington\, El Dorado\, AR\, 71730
CATEGORIES:Clubs/Organizations,Community,Family and Children
ATTACH;FMTTYPE=image/jpeg:https://www.goeldorado.com/wp-content/uploads/2023/06/292313811_354253066884080_3925772226374212086_n.jpg
ORGANIZER;CN="Joe":MAILTO:jjsgourmetbbq@msn.com
END:VEVENT
BEGIN:VEVENT
DTSTART;TZID=America/Chicago:20231028T160000
DTEND;TZID=America/Chicago:20231028T233000
DTSTAMP:20260421T232309
CREATED:20231024T212820Z
LAST-MODIFIED:20231027T134400Z
UID:10015801-1698508800-1698535800@www.goeldorado.com
SUMMARY:Halloween Party at The Well Bar
DESCRIPTION:Don’t miss out on a fun night! Come join us as we boogie until midnight on Saturday October 28th for our Halloween party.\nWe will have a Halloween Cocktail Menu\, Halloween Music\, Bar Appetizers\, Sweets\, a Costume Contest\, Bingo\, and Karaoke: Halloween Edition!\n\nCostume Contest Judging starts at 9:00PM\nPrizes:\nFirst Place Winner: One free night stay at The Haywood & a $75.00 Amazon Gift Card\nSecond Place Winner: $50.00 Amazon Gift Card\nThird Place Winner: $25.00 Amazon Gift Card\n\nKaraoke: Halloween Edition starts at 10:00PM\n\nWith a night filled with Spooktacular fun\, treat yourself to some drinks\, food\, and entertainment!\n\nWe are located at 210 South Washington Avenue\, El Dorado\, Arkansas\, located inside of The Haywood Hotel! We cannot wait to see you there!\n\nFree Entry: Adults 21 or Older Allowed.
URL:https://www.goeldorado.com/event/halloween-party-at-the-well-bar/
LOCATION:The Well @ The Haywood\, 210 S Washington\, El Dorado\, 717303\, United States
CATEGORIES:Community,Holiday
ATTACH;FMTTYPE=image/png:https://www.goeldorado.com/wp-content/uploads/2023/10/Halloween-Party-Flyer-2.png
END:VEVENT
BEGIN:VEVENT
DTSTART;TZID=America/Chicago:20231028T170000
DTEND;TZID=America/Chicago:20231028T213000
DTSTAMP:20260421T232309
CREATED:20230123T171108Z
LAST-MODIFIED:20230123T171108Z
UID:10011034-1698512400-1698528600@www.goeldorado.com
SUMMARY:Bingo @ The VFW
DESCRIPTION:The VFW will be hosting BINGO! Every Saturday night. \nQuarter Bingo starts at 5pm \nRegular Bingo starts at 7pm
URL:https://www.goeldorado.com/event/bingo-the-vfw/2023-10-28/
LOCATION:VFW\, 451 Industrial Rd\, El Dorado\, AR\, 71730\, United States
CATEGORIES:Clubs/Organizations,Community,Recreation & Sports
END:VEVENT
BEGIN:VEVENT
DTSTART;TZID=America/Chicago:20231028T180000
DTEND;TZID=America/Chicago:20231028T233000
DTSTAMP:20260421T232309
CREATED:20231027T144346Z
LAST-MODIFIED:20231027T144346Z
UID:10015807-1698516000-1698535800@www.goeldorado.com
SUMMARY:Saints & Sinners Costume Party @ Marilyn's on the Square
DESCRIPTION:
URL:https://www.goeldorado.com/event/saints-sinners-costume-party-marilyns-on-the-square/
LOCATION:Marilyn’s on the Square\, 119 N Jefferson\, El Dorado\, AR\, 71730\, United States
CATEGORIES:Business,Holiday
ATTACH;FMTTYPE=image/jpeg:https://www.goeldorado.com/wp-content/uploads/2023/10/394355972_833697182093053_8113961975033178573_n.jpg
END:VEVENT
BEGIN:VEVENT
DTSTART;TZID=America/Chicago:20231028T190000
DTEND;TZID=America/Chicago:20231028T210000
DTSTAMP:20260421T232309
CREATED:20230815T211405Z
LAST-MODIFIED:20231027T144222Z
UID:10014507-1698519600-1698526800@www.goeldorado.com
SUMMARY:The Cabinet of Dr Caligari-Silent Film with the South Arkansas Orchestra
DESCRIPTION:Join the South Arkansas Symphony for a special presentation of music composed by Kermit Poling for a Halloween fun night. Our West Edge Quartet will be performing. At a carnival in Germany\, friends encounter the crazed Dr Caligari. They see Calgari showing a hypnotized man who the doctor claims can see into the future. Shockingly\, a prediction of death\, and by morning this chilling prophecy has come true. Who is the prime suspect and is Dr. Caligari controlling him?
URL:https://www.goeldorado.com/event/the-cabinet-of-dr-caligari-silent-film/
LOCATION:El Dorado Municipal Auditorium\, El Dorado\, AR\, 71730\, United States
CATEGORIES:Arts & Culture,Clubs/Organizations,Family and Children,Holiday
END:VEVENT
BEGIN:VEVENT
DTSTART;TZID=America/Chicago:20231028T190000
DTEND;TZID=America/Chicago:20231028T213000
DTSTAMP:20260421T232309
CREATED:20231006T150205Z
LAST-MODIFIED:20231006T150205Z
UID:10015385-1698519600-1698528600@www.goeldorado.com
SUMMARY:El Dorado Haunt
DESCRIPTION:  \nA haunted walking trail. \nOpens nightly at 7pm until ???? \n$15 each \nVisit us at https://eldohaunt.com/ or on Facebook and Instagram for more details. \n 
URL:https://www.goeldorado.com/event/el-dorado-haunt-4/2023-10-28/
LOCATION:Camp Wotapi\, 4100 Wotapi Dr\, El Dorado\, AR\, 71730\, United States
CATEGORIES:Clubs/Organizations,Community,Family and Children,Holiday
ATTACH;FMTTYPE=image/jpeg:https://www.goeldorado.com/wp-content/uploads/2023/10/haunt-calendar-2023.jpg
ORGANIZER;CN="Campfire El Dorado":MAILTO:campfire@suddenlinkmail.com
END:VEVENT
BEGIN:VEVENT
DTSTART;TZID=America/Chicago:20231028T193000
DTEND;TZID=America/Chicago:20231028T213000
DTSTAMP:20260421T232309
CREATED:20230816T142909Z
LAST-MODIFIED:20230816T142909Z
UID:10014515-1698521400-1698528600@www.goeldorado.com
SUMMARY:Once Upon A Mattress @ South Arkansas Arts Center
DESCRIPTION:
URL:https://www.goeldorado.com/event/once-upon-a-mattress-south-arkansas-arts-center-6/
LOCATION:South Arkansas Arts Center
CATEGORIES:Arts & Culture,Community,Family and Children
ATTACH;FMTTYPE=image/jpeg:https://www.goeldorado.com/wp-content/uploads/2023/08/once-upon-a-mattress.jpg
END:VEVENT
BEGIN:VEVENT
DTSTART;TZID=America/Chicago:20231029T143000
DTEND;TZID=America/Chicago:20231029T163000
DTSTAMP:20260421T232309
CREATED:20230816T142953Z
LAST-MODIFIED:20230816T142953Z
UID:10014516-1698589800-1698597000@www.goeldorado.com
SUMMARY:Once Upon A Mattress @ South Arkansas Arts Center
DESCRIPTION:
URL:https://www.goeldorado.com/event/once-upon-a-mattress-south-arkansas-arts-center-7/
LOCATION:South Arkansas Arts Center
CATEGORIES:Arts & Culture,Community,Family and Children
ATTACH;FMTTYPE=image/jpeg:https://www.goeldorado.com/wp-content/uploads/2023/08/once-upon-a-mattress.jpg
END:VEVENT
BEGIN:VEVENT
DTSTART;TZID=America/Chicago:20231029T170000
DTEND;TZID=America/Chicago:20231029T190000
DTSTAMP:20260421T232309
CREATED:20231027T144514Z
LAST-MODIFIED:20231027T144514Z
UID:10015808-1698598800-1698606000@www.goeldorado.com
SUMMARY:Fall Fest @ Westside Baptist Church
DESCRIPTION:
URL:https://www.goeldorado.com/event/fall-fest-westside-baptist-church/
LOCATION:West Side Baptist Church\, 2400 W Hillsboro St\, El Dorado\, AR\, 71730\, United States
CATEGORIES:Clubs/Organizations,Family and Children,Festivals & Celebrations,Holiday
ATTACH;FMTTYPE=image/jpeg:https://www.goeldorado.com/wp-content/uploads/2023/10/391620515_731204402378897_8903739647660107588_n.jpg
END:VEVENT
BEGIN:VEVENT
DTSTART;TZID=America/Chicago:20231029T190000
DTEND;TZID=America/Chicago:20231029T213000
DTSTAMP:20260421T232309
CREATED:20231006T150205Z
LAST-MODIFIED:20231006T150205Z
UID:10015386-1698606000-1698615000@www.goeldorado.com
SUMMARY:El Dorado Haunt
DESCRIPTION:  \nA haunted walking trail. \nOpens nightly at 7pm until ???? \n$15 each \nVisit us at https://eldohaunt.com/ or on Facebook and Instagram for more details. \n 
URL:https://www.goeldorado.com/event/el-dorado-haunt-4/2023-10-29/
LOCATION:Camp Wotapi\, 4100 Wotapi Dr\, El Dorado\, AR\, 71730\, United States
CATEGORIES:Clubs/Organizations,Community,Family and Children,Holiday
ATTACH;FMTTYPE=image/jpeg:https://www.goeldorado.com/wp-content/uploads/2023/10/haunt-calendar-2023.jpg
ORGANIZER;CN="Campfire El Dorado":MAILTO:campfire@suddenlinkmail.com
END:VEVENT
BEGIN:VEVENT
DTSTART;TZID=America/Chicago:20231031T150000
DTEND;TZID=America/Chicago:20231031T170000
DTSTAMP:20260421T232309
CREATED:20231031T144702Z
LAST-MODIFIED:20231031T144702Z
UID:10015818-1698764400-1698771600@www.goeldorado.com
SUMMARY:
DESCRIPTION:
URL:https://www.goeldorado.com/event/8675/
LOCATION:Kim Dupree State Farm\, 101 E 5th\, El Dorado\, AR\, 71730\, United States
CATEGORIES:Community,Family and Children,Holiday
ATTACH;FMTTYPE=image/jpeg:https://www.goeldorado.com/wp-content/uploads/2023/10/393673751_301938999395752_2728200754441227300_n.jpg
END:VEVENT
BEGIN:VEVENT
DTSTART;TZID=America/Chicago:20231031T150000
DTEND;TZID=America/Chicago:20231031T170000
DTSTAMP:20260421T232309
CREATED:20231031T150643Z
LAST-MODIFIED:20231031T150643Z
UID:10015820-1698764400-1698771600@www.goeldorado.com
SUMMARY:Noalmark 2023 Safe Stops
DESCRIPTION:
URL:https://www.goeldorado.com/event/noalmark-2023-safe-stops/
LOCATION:AR
CATEGORIES:Community,Family and Children,Holiday
ATTACH;FMTTYPE=image/webp:https://www.goeldorado.com/wp-content/uploads/2023/10/xHALLOWEENP20SAFEP20STOPP20LIST.jpg.pagespeed.ic_.yJZYwUzG3f-1.webp
END:VEVENT
BEGIN:VEVENT
DTSTART;TZID=America/Chicago:20231031T150000
DTEND;TZID=America/Chicago:20231031T180000
DTSTAMP:20260421T232309
CREATED:20231031T144817Z
LAST-MODIFIED:20231031T150439Z
UID:10015819-1698764400-1698775200@www.goeldorado.com
SUMMARY:Trunk or Treat @ America's Car Mart
DESCRIPTION:
URL:https://www.goeldorado.com/event/8677/
LOCATION:America’s Car Mart\, 1610 W Hillsboro\, El Dorado\, AR\, 71730
CATEGORIES:Clubs/Organizations,Family and Children,Holiday
ATTACH;FMTTYPE=image/jpeg:https://www.goeldorado.com/wp-content/uploads/2023/10/394601213_831495602309590_6719628743939551279_n.jpg
END:VEVENT
BEGIN:VEVENT
DTSTART;TZID=America/Chicago:20231031T180000
DTEND;TZID=America/Chicago:20231031T200000
DTSTAMP:20260421T232309
CREATED:20231031T143723Z
LAST-MODIFIED:20231031T143742Z
UID:10015815-1698775200-1698782400@www.goeldorado.com
SUMMARY:Trunk or Treat @ The Boys and Girls Club
DESCRIPTION:
URL:https://www.goeldorado.com/event/8668/
LOCATION:Boys & Girls Club of El Dorado\, 1201 N West Ave\, El Dorado\, AR\, 71730\, United States
ATTACH;FMTTYPE=image/jpeg:https://www.goeldorado.com/wp-content/uploads/2023/10/bgc.jpg
END:VEVENT
BEGIN:VEVENT
DTSTART;TZID=America/Chicago:20231031T180000
DTEND;TZID=America/Chicago:20231031T210000
DTSTAMP:20260421T232309
CREATED:20231018T215115Z
LAST-MODIFIED:20231018T215119Z
UID:10014573-1698775200-1698786000@www.goeldorado.com
SUMMARY:Film Appreciation - The Universal Studios Horror Cycle 1930-1955
DESCRIPTION:Hosted by Dr. James Yates and Darrin Riley \nBrought to you by Community Education at Mahony Family Library and South Arkansas Historical Preservation Society \n  \nThe Universal Pictures horror cycle of the 1930s remains one of the high points of American film and the Horror genre’s existence. Over and over\, the studio —  One of Hollywood’s oldest — tackled classic works of gothic and horror literature to produce vivid\, stylish\, wondrous\, scary\, humorous films which were destined to become classics themselves. This cycle of films – actually begun in the 1920s – would dominate Universal Pictures’ output to the 1950s was instrumental in the shaping of horror cinema. With their often B-grade production values and hammy shocks\, it’s tempting to view the studio’s horror films as unsophisticated relics. Yet at their best they brim with wit\, invention and atmosphere\, including depictions of gothic icons such as Count Dracula and Frankenstein’s monster that are definitively ingrained in the cultural psyche. \nThis course will examine this cycle by focusing on four specific classics – Frankenstein\, Dracula\, The Mummy\, and The Wolfman – and discussing how these films were made and the impact they had on the studio and popular culture\, and analyzing  themes and key scenes. Each week\, a film will be introduced and discussed\, screened\, and analyzed.
URL:https://www.goeldorado.com/event/film-appreciation-the-universal-studios-horror-cycle-1930-1955-2/2023-10-31/
LOCATION:Mahony Family Library\, 300 Summit Ave\, El Dorado\, AR\, 71730\, United States
CATEGORIES:Arts & Culture,Community,Continuing Education
ORGANIZER;CN="South Arkansas Historical Preservation Society":MAILTO:info@soarkhistory.com
END:VEVENT
BEGIN:VEVENT
DTSTART;TZID=America/Chicago:20231031T180000
DTEND;TZID=America/Chicago:20231031T210000
DTSTAMP:20260421T232309
CREATED:20231031T144551Z
LAST-MODIFIED:20231031T144551Z
UID:10015817-1698775200-1698786000@www.goeldorado.com
SUMMARY:Trunk or Treat @ Fairfield Inn & Suites
DESCRIPTION:
URL:https://www.goeldorado.com/event/trunk-or-treat-fairfield-inn-suites/
LOCATION:Fairfield Inn & Suites
CATEGORIES:Community,Family and Children,Holiday
ATTACH;FMTTYPE=image/jpeg:https://www.goeldorado.com/wp-content/uploads/2023/10/383951231_798787818716390_6102385008531294938_n.jpg
END:VEVENT
BEGIN:VEVENT
DTSTART;TZID=America/Chicago:20231031T180000
DTEND;TZID=America/Chicago:20231031T220000
DTSTAMP:20260421T232309
CREATED:20231031T144232Z
LAST-MODIFIED:20231031T144232Z
UID:10015816-1698775200-1698789600@www.goeldorado.com
SUMMARY:Halloween Party @ PJ's Coffee House
DESCRIPTION:
URL:https://www.goeldorado.com/event/halloween-party-pjs-coffee-house/
LOCATION:PJ’s Coffee Shop El Dorado\, 106 W Main\, El Dorado\, AR\, 71730\, United States
CATEGORIES:Community,Family and Children,Festivals & Celebrations,Holiday,Live Music
ATTACH;FMTTYPE=image/jpeg:https://www.goeldorado.com/wp-content/uploads/2023/10/392712453_6442984512763_5416593277114072444_n.jpg
END:VEVENT
BEGIN:VEVENT
DTSTART;TZID=America/Chicago:20231031T190000
DTEND;TZID=America/Chicago:20231031T213000
DTSTAMP:20260421T232309
CREATED:20231006T150251Z
LAST-MODIFIED:20231006T150251Z
UID:10015753-1698778800-1698787800@www.goeldorado.com
SUMMARY:El Dorado Haunt
DESCRIPTION:
URL:https://www.goeldorado.com/event/el-dorado-haunt-5/
LOCATION:Camp Wotapi\, 4100 Wotapi Dr\, El Dorado\, AR\, 71730\, United States
CATEGORIES:Clubs/Organizations,Community,Family and Children,Holiday
ATTACH;FMTTYPE=image/jpeg:https://www.goeldorado.com/wp-content/uploads/2023/10/haunt-calendar-2023.jpg
ORGANIZER;CN="Campfire El Dorado":MAILTO:campfire@suddenlinkmail.com
END:VEVENT
BEGIN:VEVENT
DTSTART;TZID=America/Chicago:20231101T120000
DTEND;TZID=America/Chicago:20231101T130000
DTSTAMP:20260421T232309
CREATED:20231016T131805Z
LAST-MODIFIED:20231018T162522Z
UID:10015787-1698840000-1698843600@www.goeldorado.com
SUMMARY:Kiwanis Meeting
DESCRIPTION:
URL:https://www.goeldorado.com/event/kiwanis-meeting-2-2/2023-11-01/
LOCATION:First Presbyterian Church\, 300 E. Main St\, El Dorado
CATEGORIES:Business,Clubs/Organizations
END:VEVENT
BEGIN:VEVENT
DTSTART;TZID=America/Chicago:20231101T190000
DTEND;TZID=America/Chicago:20231101T220000
DTSTAMP:20260421T232309
CREATED:20231012T211531Z
LAST-MODIFIED:20231016T125326Z
UID:10015772-1698865200-1698876000@www.goeldorado.com
SUMMARY:First Things First Tour @ MAD
DESCRIPTION:Come join us for an unforgettable night of music and worship with Consumed by Fire with special guests Stars Go Dim and Cliff Preston!  \nDate: Wed Nov 01\, 2023 \nTime: 7:00 PM (CDT)\, Doors: 6:00 PM (CDT) \nLocation: First Financial Music Hall\, 101 East Locust Street\, El Dorado\, AR 71730 \nPrepare to sing along to your favorite hits and discover new songs that will touch your heart. This in-person event promises an intimate and engaging experience that will leave you wanting more. \nDon’t miss out on this amazing opportunity to see two incredible bands live on stage. Grab your friends and get ready for a night filled with great music\, fun\, and unforgettable memories. Mark your calendars and join us for an evening you won’t want to miss! \nMEET AND GREETS AVAILABLE!
URL:https://www.goeldorado.com/event/first-things-first-tour-mad/
LOCATION:Murphy Arts District\, 101 E. Locust Street\, El Dorado\, AR\, 71730\, United States
CATEGORIES:Family and Children,Live Music
ATTACH;FMTTYPE=image/jpeg:https://www.goeldorado.com/wp-content/uploads/2023/10/cbfweb.jpg
END:VEVENT
BEGIN:VEVENT
DTSTART;TZID=America/Chicago:20231102T110000
DTEND;TZID=America/Chicago:20231102T113000
DTSTAMP:20260421T232309
CREATED:20231031T173744Z
LAST-MODIFIED:20231031T173744Z
UID:10015821-1698922800-1698924600@www.goeldorado.com
SUMMARY:Ribbon Cutting: Ike's Scooter Rentals
DESCRIPTION:
URL:https://www.goeldorado.com/event/ribbon-cutting-ikes-scooter-rentals/
LOCATION:Ike’s Scooter Rental\, 108 N Washington
CATEGORIES:Business,Chamber Of Commerce,Community
ATTACH;FMTTYPE=image/png:https://www.goeldorado.com/wp-content/uploads/2023/10/Ikes-RC.png
END:VEVENT
END:VCALENDAR