BEGIN:VCALENDAR
VERSION:2.0
PRODID:-//El Dorado, Arkansas - ECPv6.15.20//NONSGML v1.0//EN
CALSCALE:GREGORIAN
METHOD:PUBLISH
X-ORIGINAL-URL:https://www.goeldorado.com
X-WR-CALDESC:Events for El Dorado, Arkansas
REFRESH-INTERVAL;VALUE=DURATION:PT1H
X-Robots-Tag:noindex
X-PUBLISHED-TTL:PT1H
BEGIN:VTIMEZONE
TZID:America/Chicago
BEGIN:DAYLIGHT
TZOFFSETFROM:-0600
TZOFFSETTO:-0500
TZNAME:CDT
DTSTART:20230312T080000
END:DAYLIGHT
BEGIN:STANDARD
TZOFFSETFROM:-0500
TZOFFSETTO:-0600
TZNAME:CST
DTSTART:20231105T070000
END:STANDARD
BEGIN:DAYLIGHT
TZOFFSETFROM:-0600
TZOFFSETTO:-0500
TZNAME:CDT
DTSTART:20240310T080000
END:DAYLIGHT
BEGIN:STANDARD
TZOFFSETFROM:-0500
TZOFFSETTO:-0600
TZNAME:CST
DTSTART:20241103T070000
END:STANDARD
BEGIN:DAYLIGHT
TZOFFSETFROM:-0600
TZOFFSETTO:-0500
TZNAME:CDT
DTSTART:20250309T080000
END:DAYLIGHT
BEGIN:STANDARD
TZOFFSETFROM:-0500
TZOFFSETTO:-0600
TZNAME:CST
DTSTART:20251102T070000
END:STANDARD
END:VTIMEZONE
BEGIN:VEVENT
DTSTART;TZID=America/Chicago:20240125T180000
DTEND;TZID=America/Chicago:20240125T190000
DTSTAMP:20260424T155306
CREATED:20231109T180121Z
LAST-MODIFIED:20231109T183656Z
UID:10016314-1706205600-1706209200@www.goeldorado.com
SUMMARY:Trivia Night @ DP's Food Truck
DESCRIPTION:
URL:https://www.goeldorado.com/event/trivia-night-dps-food-truck/2024-01-25/
LOCATION:DP’s Food Truck Court\, 2117 N College Ave\, 2117 N College Ave\, El Dorado\, AR\, 71730\, United States
CATEGORIES:Community,Family and Children,Recreation & Sports
ATTACH;FMTTYPE=image/jpeg:https://www.goeldorado.com/wp-content/uploads/2023/11/trivia.jpg
END:VEVENT
BEGIN:VEVENT
DTSTART;TZID=America/Chicago:20240125T180000
DTEND;TZID=America/Chicago:20240125T200000
DTSTAMP:20260424T155306
CREATED:20240112T174659Z
LAST-MODIFIED:20240118T204957Z
UID:10017770-1706205600-1706212800@www.goeldorado.com
SUMMARY:Corks & Canvas @ SAAC: Robins in the Snow with Chris Stone
DESCRIPTION:Migrate on over to SAAC for ‘Robin in the Snow’ Corks and Canvas on Thursday\, January 18 from 6-9pm as local artist Chris Stone leads participants in painting a robin on a snow-dusted branch. This will be a fun-filled night of painting that is designed for people who have always wanted to try their hand at art and also have some fun along the way.\nStone likes to select birds as her subject matter and says\, “Birds are the most colorful and expressive animals to me. I always notice the songbirds this time of year\, and wonder if they are as ready for spring as I am. They’re such small creatures that bring BIG joy to the otherwise quiet garden.”\nNo experience is needed. Come enjoy a time of relaxation with your friends recreating the featured painting of the night. Paints\, brushes\, and all the supplies are provided\, and SAAC will also be providing snacks. Participants are welcome to bring their own drink of choice.\nRegister for the workshop on SAAC’s website or call the office at 870-862-5474. Limit of 15 participants. The workshop fee is $40.
URL:https://www.goeldorado.com/event/corks-canvas-saac-robins-in-the-snow-with-chris-stone/
LOCATION:South Arkansas Arts Center
CATEGORIES:Arts & Culture,Community
ATTACH;FMTTYPE=image/jpeg:https://www.goeldorado.com/wp-content/uploads/2024/01/415199249_755291819968222_4645336359120212165_n.jpg
END:VEVENT
BEGIN:VEVENT
DTSTART;TZID=America/Chicago:20240125T200000
DTEND;TZID=America/Chicago:20240125T220000
DTSTAMP:20260424T155306
CREATED:20231221T161828Z
LAST-MODIFIED:20231221T161828Z
UID:10017726-1706212800-1706220000@www.goeldorado.com
SUMMARY:Dueling Pianos @ Mad House 101
DESCRIPTION:
URL:https://www.goeldorado.com/event/dueling-pianos-mad-house-101/
LOCATION:MAD House 101 Restuarant and Bar\, 101 E Locust\, El Dorado\, AR\, 71730\, United States
CATEGORIES:Arts & Culture,Community,Live Music
ATTACH;FMTTYPE=image/jpeg:https://www.goeldorado.com/wp-content/uploads/2023/12/410631981_383156554086014_2704774497680913676_n.jpg
END:VEVENT
BEGIN:VEVENT
DTSTART;TZID=America/Chicago:20240126T200000
DTEND;TZID=America/Chicago:20240126T220000
DTSTAMP:20260424T155306
CREATED:20240118T150100Z
LAST-MODIFIED:20240118T150100Z
UID:10017772-1706299200-1706306400@www.goeldorado.com
SUMMARY:Mando Saenz & Monty Russell LIVE at Mad House 101
DESCRIPTION:No cover! Mando Saenz is a singer-songwriter living in Nashville\, Tennessee. Saenz’s songs have been recorded by a wide range of artists\, including Miranda Lambert\, Midland\, The Oak Ridge Boys\, Jim Lauderdale Eli Young Band\, Whiskey Myers\, Stoney LaRue\, Wade Bowen\, Lee Ann Womack\, Aubrie Sellers\, Jack Ingram\, Kim Richey\, and Shelly Colvin.
URL:https://www.goeldorado.com/event/mando-saenz-monty-russell-live-at-mad-house-101/
LOCATION:MAD House 101 Restuarant and Bar\, 101 E Locust\, El Dorado\, AR\, 71730\, United States
CATEGORIES:Community,Live Music
ATTACH;FMTTYPE=image/jpeg:https://www.goeldorado.com/wp-content/uploads/2024/01/417502198_401134288954907_1657819965009466664_n.jpg
END:VEVENT
BEGIN:VEVENT
DTSTART;TZID=America/Chicago:20240127T160000
DTEND;TZID=America/Chicago:20240127T200000
DTSTAMP:20260424T155306
CREATED:20230628T143043Z
LAST-MODIFIED:20230628T143043Z
UID:10014420-1706371200-1706385600@www.goeldorado.com
SUMMARY:Cruise Night Car Show
DESCRIPTION:
URL:https://www.goeldorado.com/event/cruise-night-car-show/2024-01-27/
LOCATION:Downtown El Dorado\, 101 N. Washington\, El Dorado\, AR\, 71730
CATEGORIES:Clubs/Organizations,Community,Family and Children
ATTACH;FMTTYPE=image/jpeg:https://www.goeldorado.com/wp-content/uploads/2023/06/292313811_354253066884080_3925772226374212086_n.jpg
ORGANIZER;CN="Joe":MAILTO:jjsgourmetbbq@msn.com
END:VEVENT
BEGIN:VEVENT
DTSTART;TZID=America/Chicago:20240127T170000
DTEND;TZID=America/Chicago:20240127T213000
DTSTAMP:20260424T155306
CREATED:20230123T171108Z
LAST-MODIFIED:20230123T171108Z
UID:10011047-1706374800-1706391000@www.goeldorado.com
SUMMARY:Bingo @ The VFW
DESCRIPTION:The VFW will be hosting BINGO! Every Saturday night. \nQuarter Bingo starts at 5pm \nRegular Bingo starts at 7pm
URL:https://www.goeldorado.com/event/bingo-the-vfw/2024-01-27/
LOCATION:VFW\, 451 Industrial Rd\, El Dorado\, AR\, 71730\, United States
CATEGORIES:Clubs/Organizations,Community,Recreation & Sports
END:VEVENT
BEGIN:VEVENT
DTSTART;TZID=America/Chicago:20240127T190000
DTEND;TZID=America/Chicago:20240127T230000
DTSTAMP:20260424T155306
CREATED:20240103T200103Z
LAST-MODIFIED:20240103T200103Z
UID:10017756-1706382000-1706396400@www.goeldorado.com
SUMMARY:M.A.Y.O.R.S  Masquerade Ball
DESCRIPTION:
URL:https://www.goeldorado.com/event/m-a-y-o-r-s-masquerade-ball/
LOCATION:El Dorado Conference Center\, 311 S West Ave\, El Dorado\, 71730\, United States
CATEGORIES:Clubs/Organizations,Community
ATTACH;FMTTYPE=image/jpeg:https://www.goeldorado.com/wp-content/uploads/2024/01/416566506_10232880368897099_4056895242301230179_n.jpg
END:VEVENT
BEGIN:VEVENT
DTSTART;TZID=America/Chicago:20240130T183000
DTEND;TZID=America/Chicago:20240130T203000
DTSTAMP:20260424T155306
CREATED:20240108T143126Z
LAST-MODIFIED:20240118T192703Z
UID:10017767-1706639400-1706646600@www.goeldorado.com
SUMMARY:Art Talk with Gay Bechtelheimer @ SAAC
DESCRIPTION:Artist Gay Bechtelheimer returns to the SAAC stage to present the next in her series of “Art Talks” focusing on the work of the German Expressionist painters. The free event will begin with refreshments in the lobby at 6:30 p.m. on Thursday\, January 18\, followed by Bechtelheimer’s onstage presentation.\nExpressionism was a modernist movement of the early 20th century focused on presenting the world through emotional experience\, rather than physical reality. The artists’ work was reflective of the quickly changing modern world in which they suddenly found themselves.\n“Amid the dramatic urbanization and industrialization that occurred in Germany prior to World War I\, a collective group of artists known as the German Expressionists depicted their zeitgeist\, the feelings of disillusion they saw and felt in society as the promise of war loomed\,” said Bechtelheimer. “Their work was emotive and unrestrained as they conveyed their ideas of the anxious realities they were experiencing.”\nThese entertaining\, relaxed lectures present art and art history in an enjoyable format designed to appeal to people of all ages and backgrounds. The event is free of charge with open seating.\nRegistration Encouraged: call SAAC 870-862-5474 | online https://saac-arts.org/lecture/
URL:https://www.goeldorado.com/event/art-talk-with-gay-bechtelheimer-saac/
LOCATION:South Arkansas Arts Center
CATEGORIES:Arts & Culture,Clubs/Organizations,Community,Education
ATTACH;FMTTYPE=image/jpeg:https://www.goeldorado.com/wp-content/uploads/2024/01/saac-art-talk-January.jpg
END:VEVENT
BEGIN:VEVENT
DTSTART;TZID=America/Chicago:20240201T180000
DTEND;TZID=America/Chicago:20240201T190000
DTSTAMP:20260424T155306
CREATED:20231109T180121Z
LAST-MODIFIED:20231109T183656Z
UID:10016315-1706810400-1706814000@www.goeldorado.com
SUMMARY:Trivia Night @ DP's Food Truck
DESCRIPTION:
URL:https://www.goeldorado.com/event/trivia-night-dps-food-truck/2024-02-01/
LOCATION:DP’s Food Truck Court\, 2117 N College Ave\, 2117 N College Ave\, El Dorado\, AR\, 71730\, United States
CATEGORIES:Community,Family and Children,Recreation & Sports
ATTACH;FMTTYPE=image/jpeg:https://www.goeldorado.com/wp-content/uploads/2023/11/trivia.jpg
END:VEVENT
BEGIN:VEVENT
DTSTART;TZID=America/Chicago:20240202T180000
DTEND;TZID=America/Chicago:20240202T190000
DTSTAMP:20260424T155306
CREATED:20240202T153753Z
LAST-MODIFIED:20240202T153753Z
UID:10018343-1706896800-1706900400@www.goeldorado.com
SUMMARY:Will Richey LIVE @ Main Street Pizza
DESCRIPTION:
URL:https://www.goeldorado.com/event/will-richey-live-main-street-pizza-2/
LOCATION:Main Street Pizza\, 101 N Jackson\, El Dorado\, AR\, 71730\, United States
CATEGORIES:Live Music
ATTACH;FMTTYPE=image/jpeg:https://www.goeldorado.com/wp-content/uploads/2024/02/417414185_10228849225388437_925075237961570376_n.jpg
END:VEVENT
BEGIN:VEVENT
DTSTART;TZID=America/Chicago:20240202T190000
DTEND;TZID=America/Chicago:20240202T200000
DTSTAMP:20260424T155306
CREATED:20240124T142057Z
LAST-MODIFIED:20240124T142830Z
UID:10017813-1706900400-1706904000@www.goeldorado.com
SUMMARY:High School Musical production with the Penguin Project @ SAAC
DESCRIPTION:
URL:https://www.goeldorado.com/event/high-school-musical-production-with-the-penguin-project-saac/
LOCATION:South Arkansas Arts Center
CATEGORIES:Arts & Culture,Community,Family and Children
ATTACH;FMTTYPE=image/jpeg:https://www.goeldorado.com/wp-content/uploads/2024/01/HSM.jpg
END:VEVENT
BEGIN:VEVENT
DTSTART;TZID=America/Chicago:20240203T083000
DTEND;TZID=America/Chicago:20240203T093000
DTSTAMP:20260424T155306
CREATED:20240201T012002Z
LAST-MODIFIED:20240201T162523Z
UID:10018223-1706949000-1706952600@www.goeldorado.com
SUMMARY:Women Moving Forward Saturday Morning Walk
DESCRIPTION:
URL:https://www.goeldorado.com/event/women-moving-forward-saturday-morning-walk/2024-02-03/
LOCATION:Mellor Park Mall\, 1865 N West Ave\, El Dorado\, 71730\, United States
CATEGORIES:Clubs/Organizations,Family and Children,Recreation & Sports
ATTACH;FMTTYPE=image/png:https://www.goeldorado.com/wp-content/uploads/2024/01/WMF-Announcement.png
ORGANIZER;CN="Women Moving Forward":MAILTO:womenmovingforward21@gmail.com
END:VEVENT
BEGIN:VEVENT
DTSTART;TZID=America/Chicago:20240203T100000
DTEND;TZID=America/Chicago:20240203T110000
DTSTAMP:20260424T155306
CREATED:20240124T143025Z
LAST-MODIFIED:20240124T143025Z
UID:10017814-1706954400-1706958000@www.goeldorado.com
SUMMARY:High School Musical: A penguin Project Production @ SAAC
DESCRIPTION:
URL:https://www.goeldorado.com/event/high-school-musical-a-penguin-project-production-saac/
LOCATION:South Arkansas Arts Center
CATEGORIES:Arts & Culture,Community,Family and Children
ATTACH;FMTTYPE=image/jpeg:https://www.goeldorado.com/wp-content/uploads/2024/01/HSM.jpg
END:VEVENT
BEGIN:VEVENT
DTSTART;TZID=America/Chicago:20240203T140000
DTEND;TZID=America/Chicago:20240203T150000
DTSTAMP:20260424T155306
CREATED:20240124T143125Z
LAST-MODIFIED:20240124T143125Z
UID:10017815-1706968800-1706972400@www.goeldorado.com
SUMMARY:High School Musical: A penguin Project Production @ SAAC
DESCRIPTION:
URL:https://www.goeldorado.com/event/high-school-musical-a-penguin-project-production-saac-2/
LOCATION:South Arkansas Arts Center
CATEGORIES:Arts & Culture,Community,Family and Children
ATTACH;FMTTYPE=image/jpeg:https://www.goeldorado.com/wp-content/uploads/2024/01/HSM.jpg
END:VEVENT
BEGIN:VEVENT
DTSTART;TZID=America/Chicago:20240203T170000
DTEND;TZID=America/Chicago:20240203T213000
DTSTAMP:20260424T155306
CREATED:20230123T171108Z
LAST-MODIFIED:20230123T171108Z
UID:10011048-1706979600-1706995800@www.goeldorado.com
SUMMARY:Bingo @ The VFW
DESCRIPTION:The VFW will be hosting BINGO! Every Saturday night. \nQuarter Bingo starts at 5pm \nRegular Bingo starts at 7pm
URL:https://www.goeldorado.com/event/bingo-the-vfw/2024-02-03/
LOCATION:VFW\, 451 Industrial Rd\, El Dorado\, AR\, 71730\, United States
CATEGORIES:Clubs/Organizations,Community,Recreation & Sports
END:VEVENT
BEGIN:VEVENT
DTSTART;TZID=America/Chicago:20240203T180000
DTEND;TZID=America/Chicago:20240203T200000
DTSTAMP:20260424T155306
CREATED:20240123T221402Z
LAST-MODIFIED:20240123T221402Z
UID:10017794-1706983200-1706990400@www.goeldorado.com
SUMMARY:Gravity Switch LIVE @ DP's Food Truck Park
DESCRIPTION:
URL:https://www.goeldorado.com/event/gravity-switch-live-dps-food-truck-park/
LOCATION:DP’s Food Truck Court\, 2117 N College Ave\, 2117 N College Ave\, El Dorado\, AR\, 71730\, United States
CATEGORIES:Arts & Culture,Business,Family and Children
END:VEVENT
BEGIN:VEVENT
DTSTART;TZID=America/Chicago:20240204T130000
DTEND;TZID=America/Chicago:20240204T160000
DTSTAMP:20260424T155306
CREATED:20240103T194114Z
LAST-MODIFIED:20240123T151150Z
UID:10017755-1707051600-1707062400@www.goeldorado.com
SUMMARY:Meet& Greet with Gary Anthony Williams @ Gabe's Cave
DESCRIPTION:Gary Anthony Williams (born March 14\, 1966)[1] is an American actor\, comedian and filmmaker. He has voiced the characters of Uncle Ruckus on The Boondocks\, General Horace Warfield in StarCraft II: Wings of Liberty and Dr. Richard Tygan in XCOM 2\, portraying Anton “Bebop” Zeck in Teenage Mutant Ninja Turtles: Out of the Shadows. He has also appeared on shows such as Boston Legal\, I’m Sorry\, Malcolm in the Middle and The Soul Man. He was a cast member on the sketch comedy series Blue Collar TV and currently the improv comedy series Whose Line Is It Anyway?. He is also a co-founder of the L.A. Comedy Shorts Film Festival.
URL:https://www.goeldorado.com/event/meet-greet-with-gary-anthony-williams-gabes-cave/
LOCATION:Gabe’s Cabe\, 2101 N College\, El Dorado\, AR\, 71730\, United States
CATEGORIES:Arts & Culture,Community
ATTACH;FMTTYPE=image/jpeg:https://www.goeldorado.com/wp-content/uploads/2024/01/meet-and-greet-gabes.jpg
END:VEVENT
BEGIN:VEVENT
DTSTART;TZID=America/Chicago:20240206T113000
DTEND;TZID=America/Chicago:20240206T130000
DTSTAMP:20260424T155306
CREATED:20240130T172453Z
LAST-MODIFIED:20240130T172453Z
UID:10018192-1707219000-1707224400@www.goeldorado.com
SUMMARY:2024 United Way of Union County Annual Meeting
DESCRIPTION:
URL:https://www.goeldorado.com/event/2024-united-way-of-union-county-annual-meeting/
LOCATION:El Dorado Municipal Auditorium\, El Dorado\, AR\, 71730\, United States
CATEGORIES:Business,Community
ATTACH;FMTTYPE=image/jpeg:https://www.goeldorado.com/wp-content/uploads/2024/01/424533127_801334562034053_8431205019770878597_n.jpg
ORGANIZER;CN="United Way":MAILTO:directo
END:VEVENT
BEGIN:VEVENT
DTSTART;TZID=America/Chicago:20240206T173000
DTEND;TZID=America/Chicago:20240206T190000
DTSTAMP:20260424T155306
CREATED:20240130T211738Z
LAST-MODIFIED:20240130T211738Z
UID:10018220-1707240600-1707246000@www.goeldorado.com
SUMMARY:A Happy Hour with the Rotary Club of El Dorado
DESCRIPTION:
URL:https://www.goeldorado.com/event/a-happy-hour-with-the-rotary-club-of-el-dorado/
LOCATION:The Well @ The Haywood\, 210 S Washington\, El Dorado\, 717303\, United States
CATEGORIES:Business,Clubs/Organizations
ATTACH;FMTTYPE=image/png:https://www.goeldorado.com/wp-content/uploads/2024/01/El-Dorado-Rotary-Club-1.png
END:VEVENT
BEGIN:VEVENT
DTSTART;VALUE=DATE:20240208
DTEND;VALUE=DATE:20240212
DTSTAMP:20260424T155306
CREATED:20230913T132722Z
LAST-MODIFIED:20240118T164934Z
UID:10014560-1707350400-1707695999@www.goeldorado.com
SUMMARY:El Dorado Film Fest
DESCRIPTION:2024 Schedule — El Dorado Film Festival (eldofilmfest.com)
URL:https://www.goeldorado.com/event/save-the-date-el-dorado-film-fest/
LOCATION:South Arkansas Arts Center
CATEGORIES:Arts & Culture,Clubs/Organizations,Festivals & Celebrations
ATTACH;FMTTYPE=image/jpeg:https://www.goeldorado.com/wp-content/uploads/2023/09/416693777_876116191182042_4548873728435736454_n.jpg
END:VEVENT
BEGIN:VEVENT
DTSTART;TZID=America/Chicago:20240208T170000
DTEND;TZID=America/Chicago:20240208T180000
DTSTAMP:20260424T155306
CREATED:20220809T212644Z
LAST-MODIFIED:20220816T204808Z
UID:10009503-1707411600-1707415200@www.goeldorado.com
SUMMARY:El Dorado City Council Meeting
DESCRIPTION:The City of El Dorado’s City Council meeting to discuss city business. Meeting is open to the public. To be placed on the agenda contact the Mayor’s office or your local Alderman. 
URL:https://www.goeldorado.com/event/el-dorado-city-council-meeting/2024-02-08/
LOCATION:AR
CATEGORIES:Community,Government
END:VEVENT
BEGIN:VEVENT
DTSTART;TZID=America/Chicago:20240208T180000
DTEND;TZID=America/Chicago:20240208T190000
DTSTAMP:20260424T155306
CREATED:20231109T180121Z
LAST-MODIFIED:20231109T183656Z
UID:10016316-1707415200-1707418800@www.goeldorado.com
SUMMARY:Trivia Night @ DP's Food Truck
DESCRIPTION:
URL:https://www.goeldorado.com/event/trivia-night-dps-food-truck/2024-02-08/
LOCATION:DP’s Food Truck Court\, 2117 N College Ave\, 2117 N College Ave\, El Dorado\, AR\, 71730\, United States
CATEGORIES:Community,Family and Children,Recreation & Sports
ATTACH;FMTTYPE=image/jpeg:https://www.goeldorado.com/wp-content/uploads/2023/11/trivia.jpg
END:VEVENT
BEGIN:VEVENT
DTSTART;TZID=America/Chicago:20240208T180000
DTEND;TZID=America/Chicago:20240208T220000
DTSTAMP:20260424T155306
CREATED:20240123T221008Z
LAST-MODIFIED:20240123T221312Z
UID:10017793-1707415200-1707429600@www.goeldorado.com
SUMMARY:Galentine's Party @ Kyle & Co
DESCRIPTION:
URL:https://www.goeldorado.com/event/galentines-party-kyle-co/
LOCATION:Kyle & Co\, 115 S Washington\, El Dorado\, AR\, 71730\, United States
CATEGORIES:Business,Holiday
ATTACH;FMTTYPE=image/jpeg:https://www.goeldorado.com/wp-content/uploads/2024/01/kyle-galentines-day.jpg
END:VEVENT
BEGIN:VEVENT
DTSTART;TZID=America/Chicago:20240208T183000
DTEND;TZID=America/Chicago:20240208T193000
DTSTAMP:20260424T155306
CREATED:20240123T151952Z
LAST-MODIFIED:20240123T153302Z
UID:10017792-1707417000-1707420600@www.goeldorado.com
SUMMARY:Parents United Support Group:
DESCRIPTION:
URL:https://www.goeldorado.com/event/parents-united-support-group/
LOCATION:Victory Daycare\, 308 1/2 Cordell Ave\, El Dorado\, AR\, 71730
CATEGORIES:Clubs/Organizations,Community
ORGANIZER;CN="Parent's United Code Red":MAILTO:parentsunitedcodered@yahoo.com
END:VEVENT
BEGIN:VEVENT
DTSTART;TZID=America/Chicago:20240209T110000
DTEND;TZID=America/Chicago:20240209T113000
DTSTAMP:20260424T155306
CREATED:20240118T163856Z
LAST-MODIFIED:20240118T163856Z
UID:10017775-1707476400-1707478200@www.goeldorado.com
SUMMARY:Ribbon Cutting: Belvidere's Barber Shop
DESCRIPTION:
URL:https://www.goeldorado.com/event/ribbon-cutting-belvideres-barber-shop/
LOCATION:Belvidere’s Barber Shop\, 1001 B N College Ave\, El Dorado\, AR\, 71730\, United States
CATEGORIES:Business,Chamber Of Commerce
ATTACH;FMTTYPE=image/png:https://www.goeldorado.com/wp-content/uploads/2024/01/Belvideres-Barbershop-art.png
END:VEVENT
BEGIN:VEVENT
DTSTART;TZID=America/Chicago:20240209T180000
DTEND;TZID=America/Chicago:20240209T200000
DTSTAMP:20260424T155306
CREATED:20240206T212826Z
LAST-MODIFIED:20240206T212826Z
UID:10018351-1707501600-1707508800@www.goeldorado.com
SUMMARY:Paris Scarbrough LIVE @ Main Street Pizza
DESCRIPTION:
URL:https://www.goeldorado.com/event/paris-scarbrough-live-main-street-pizza/
LOCATION:Main Street Pizza\, 101 N Jackson\, El Dorado\, AR\, 71730\, United States
CATEGORIES:Community,Live Music
ATTACH;FMTTYPE=image/jpeg:https://www.goeldorado.com/wp-content/uploads/2024/02/paris-at-main-street-pizza.jpg
END:VEVENT
BEGIN:VEVENT
DTSTART;TZID=America/Chicago:20240209T190000
DTEND;TZID=America/Chicago:20240209T220000
DTSTAMP:20260424T155306
CREATED:20240207T145716Z
LAST-MODIFIED:20240207T151948Z
UID:10018352-1707505200-1707516000@www.goeldorado.com
SUMMARY:Mary Heather Hickman FREE Show @ MAD
DESCRIPTION:The community is invited to the First Financial Music Hall\, Friday\, Feb 9 to hear the Mary Heather Hickman Band. Doors at 6\, show at 7.
URL:https://www.goeldorado.com/event/mary-heather-hickman-free-show-mad/
LOCATION:Murphy Arts District\, 101 E. Locust Street\, El Dorado\, AR\, 71730\, United States
CATEGORIES:Live Music
ATTACH;FMTTYPE=image/jpeg:https://www.goeldorado.com/wp-content/uploads/2024/02/mhh.jpg
END:VEVENT
BEGIN:VEVENT
DTSTART;TZID=America/Chicago:20240210T083000
DTEND;TZID=America/Chicago:20240210T093000
DTSTAMP:20260424T155306
CREATED:20240201T012002Z
LAST-MODIFIED:20240201T162523Z
UID:10018226-1707553800-1707557400@www.goeldorado.com
SUMMARY:Women Moving Forward Saturday Morning Walk
DESCRIPTION:
URL:https://www.goeldorado.com/event/women-moving-forward-saturday-morning-walk/2024-02-10/
LOCATION:Mellor Park Mall\, 1865 N West Ave\, El Dorado\, 71730\, United States
CATEGORIES:Clubs/Organizations,Family and Children,Recreation & Sports
ATTACH;FMTTYPE=image/png:https://www.goeldorado.com/wp-content/uploads/2024/01/WMF-Announcement.png
ORGANIZER;CN="Women Moving Forward":MAILTO:womenmovingforward21@gmail.com
END:VEVENT
BEGIN:VEVENT
DTSTART;TZID=America/Chicago:20240210T100000
DTEND;TZID=America/Chicago:20240210T130000
DTSTAMP:20260424T155306
CREATED:20240207T150125Z
LAST-MODIFIED:20240207T152017Z
UID:10018353-1707559200-1707570000@www.goeldorado.com
SUMMARY:Farmers Market at MAD Valentine's Market
DESCRIPTION:Over 20 vendors. 10am – 1pm.
URL:https://www.goeldorado.com/event/farmers-market-at-mad-valentines-market/
LOCATION:Murphy Arts District\, 101 E. Locust Street\, El Dorado\, AR\, 71730\, United States
CATEGORIES:Arts & Culture,Community,Family and Children
ATTACH;FMTTYPE=image/jpeg:https://www.goeldorado.com/wp-content/uploads/2024/02/valentines-market-5.jpg
END:VEVENT
BEGIN:VEVENT
DTSTART;TZID=America/Chicago:20240210T130000
DTEND;TZID=America/Chicago:20240210T150000
DTSTAMP:20260424T155306
CREATED:20240103T174504Z
LAST-MODIFIED:20240118T145915Z
UID:10017749-1707570000-1707577200@www.goeldorado.com
SUMMARY:Cocoa For Kids with The CALL in Union County
DESCRIPTION:Join Campfire Group #75 January 20th at All About Flowers from 10am-12PM\, for a cup of Hot Cocoa by donation for kids impacted by foster care.
URL:https://www.goeldorado.com/event/cocoa-for-kids-with-the-call-in-union-county/
LOCATION:All About Flowers\, 106 E Elm\, El Dorado\, AR\, 71730\, United States
CATEGORIES:Clubs/Organizations,Community,Family and Children
ATTACH;FMTTYPE=image/jpeg:https://www.goeldorado.com/wp-content/uploads/2024/01/mew-call-cocoa.jpg
ORGANIZER;CN="The CALL in Union and Calhoun Counties":MAILTO:khicks@thecallinarkansas.org
END:VEVENT
END:VCALENDAR