BEGIN:VCALENDAR
VERSION:2.0
PRODID:-//El Dorado, Arkansas - ECPv6.15.20//NONSGML v1.0//EN
CALSCALE:GREGORIAN
METHOD:PUBLISH
X-ORIGINAL-URL:https://www.goeldorado.com
X-WR-CALDESC:Events for El Dorado, Arkansas
REFRESH-INTERVAL;VALUE=DURATION:PT1H
X-Robots-Tag:noindex
X-PUBLISHED-TTL:PT1H
BEGIN:VTIMEZONE
TZID:America/Chicago
BEGIN:DAYLIGHT
TZOFFSETFROM:-0600
TZOFFSETTO:-0500
TZNAME:CDT
DTSTART:20240310T080000
END:DAYLIGHT
BEGIN:STANDARD
TZOFFSETFROM:-0500
TZOFFSETTO:-0600
TZNAME:CST
DTSTART:20241103T070000
END:STANDARD
BEGIN:DAYLIGHT
TZOFFSETFROM:-0600
TZOFFSETTO:-0500
TZNAME:CDT
DTSTART:20250309T080000
END:DAYLIGHT
BEGIN:STANDARD
TZOFFSETFROM:-0500
TZOFFSETTO:-0600
TZNAME:CST
DTSTART:20251102T070000
END:STANDARD
BEGIN:DAYLIGHT
TZOFFSETFROM:-0600
TZOFFSETTO:-0500
TZNAME:CDT
DTSTART:20260308T080000
END:DAYLIGHT
BEGIN:STANDARD
TZOFFSETFROM:-0500
TZOFFSETTO:-0600
TZNAME:CST
DTSTART:20261101T070000
END:STANDARD
END:VTIMEZONE
BEGIN:VEVENT
DTSTART;VALUE=DATE:20250910
DTEND;VALUE=DATE:20250913
DTSTAMP:20260421T074216
CREATED:20250814T200244Z
LAST-MODIFIED:20250814T200244Z
UID:10027158-1757462400-1757721599@www.goeldorado.com
SUMMARY:Destination Downtown with Main Street Arkansas in El Dorado Arkansas
DESCRIPTION:  \nGet ready to explore the heart of downtown in 2025\, where the vibe is alive and the excitement is contagious! \nTickets Here: 2025 Destination Downtown Registration\, El Dorado | Eventbrite
URL:https://www.goeldorado.com/event/destination-downtown-with-main-street-arkansas-in-el-dorado-arkansas/
LOCATION:El Dorado Conference Center\, 311 S West Ave\, El Dorado\, 71730\, United States
CATEGORIES:Business,Community
END:VEVENT
BEGIN:VEVENT
DTSTART;TZID=America/Chicago:20250911T170000
DTEND;TZID=America/Chicago:20250911T180000
DTSTAMP:20260421T074216
CREATED:20250908T135902Z
LAST-MODIFIED:20250908T135925Z
UID:10009522-1757610000-1757613600@www.goeldorado.com
SUMMARY:El Dorado City Council Meeting
DESCRIPTION:The City of El Dorado’s City Council meeting to discuss city business. Meeting is open to the public. To be placed on the agenda contact the Mayor’s office or your local Alderman.
URL:https://www.goeldorado.com/event/el-dorado-city-council-meeting-3/
LOCATION:AR
CATEGORIES:Community,Government
ATTACH;FMTTYPE=image/jpeg:https://www.goeldorado.com/wp-content/uploads/2025/09/2025-September-Regular-Agenda-draft-.jpg
END:VEVENT
BEGIN:VEVENT
DTSTART;TZID=America/Chicago:20250911T180000
DTEND;TZID=America/Chicago:20250911T190000
DTSTAMP:20260421T074216
CREATED:20241009T203328Z
LAST-MODIFIED:20241009T203328Z
UID:10022689-1757613600-1757617200@www.goeldorado.com
SUMMARY:Trivia @ DPs Food Truck Park
DESCRIPTION:
URL:https://www.goeldorado.com/event/trivia-dps-food-truck-park/2025-09-11/
LOCATION:DP’s Food Truck Court\, 2117 N College Ave\, 2117 N College Ave\, El Dorado\, AR\, 71730\, United States
CATEGORIES:Community,Family and Children
ATTACH;FMTTYPE=image/jpeg:https://www.goeldorado.com/wp-content/uploads/2023/11/trivia.jpg
END:VEVENT
BEGIN:VEVENT
DTSTART;TZID=America/Chicago:20250912T190000
DTEND;TZID=America/Chicago:20250912T210000
DTSTAMP:20260421T074216
CREATED:20250814T201437Z
LAST-MODIFIED:20250814T201437Z
UID:10027163-1757703600-1757710800@www.goeldorado.com
SUMMARY:EHS Football Home Game
DESCRIPTION:
URL:https://www.goeldorado.com/event/ehs-football-home-game/
LOCATION:Memorial Stadium\, N West Ave\, El Dorado\, AR\, 71730\, United States
CATEGORIES:Family and Children,Recreation & Sports,Schools
ATTACH;FMTTYPE=image/png:https://www.goeldorado.com/wp-content/uploads/2025/08/thumb-1326d68d724640bac35158bf461c263d.png
END:VEVENT
BEGIN:VEVENT
DTSTART;TZID=America/Chicago:20250912T210000
DTEND;TZID=America/Chicago:20250912T233000
DTSTAMP:20260421T074216
CREATED:20250912T132033Z
LAST-MODIFIED:20250912T132033Z
UID:10027776-1757710800-1757719800@www.goeldorado.com
SUMMARY:Chris Loggins @ The Mink Eye
DESCRIPTION:Catch a great show as Chris Loggins rocks the Mink Eye this Friday night!\n\n\nEl Dorado\, Arkansas
URL:https://www.goeldorado.com/event/chris-loggins-the-mink-eye/
LOCATION:The Mink Eye\, 117 Main st\, El Dorado\, AR\, 71730\, United States
CATEGORIES:Live Music
ATTACH;FMTTYPE=image/jpeg:https://www.goeldorado.com/wp-content/uploads/2025/09/519501104_1389633416503427_8036675912339283899_n.jpg
END:VEVENT
BEGIN:VEVENT
DTSTART;TZID=America/Chicago:20250913T070000
DTEND;TZID=America/Chicago:20250913T083000
DTSTAMP:20260421T074216
CREATED:20250326T151019Z
LAST-MODIFIED:20250326T212721Z
UID:10025442-1757746800-1757752200@www.goeldorado.com
SUMMARY:Women Moving Forward - Saturday Morning Walk
DESCRIPTION:Come join Women Moving Forward for a morning walk! Women Moving Forward is a Non-Profit Organization empowering women to take control of their health and wellness by incorporating walking and physical activity into their weekly schedule. Every Saturday morning we gather to walk\, talk\, and share with other women in our community. Our conversations are rich\, and our progress is real. Do yourself a favor and join us Saturday morning to Move Forward one step at a time. \n  \n(3) Facebook
URL:https://www.goeldorado.com/event/women-moving-forward-saturday-morning-walk-2/2025-09-13/
LOCATION:Memorial Stadium\, N West Ave\, El Dorado\, AR\, 71730\, United States
CATEGORIES:Clubs/Organizations,Community,Recreation & Sports
ATTACH;FMTTYPE=image/png:https://www.goeldorado.com/wp-content/uploads/2025/03/WMF-Saturday-Morning-Walk.png
ORGANIZER;CN="Women Moving Forward":MAILTO:womenmovingforward21@gmail.com
END:VEVENT
BEGIN:VEVENT
DTSTART;TZID=America/Chicago:20250913T073000
DTEND;TZID=America/Chicago:20250913T133000
DTSTAMP:20260421T074216
CREATED:20250521T153811Z
LAST-MODIFIED:20250522T144945Z
UID:10025824-1757748600-1757770200@www.goeldorado.com
SUMMARY:Fifteenth Annual Scouting For Heritage Clay Shoot
DESCRIPTION:Lock. Load. Lead the Way.🎯 Join Us for the Fifteenth Annual Scouting for Heritage Clays! \nSeptember 13\, 2025 \nCamp DeSoto (319 Camp DeSoto Rd El Dorado\, AR 71730) \nGet ready for a day of fun\, friendly competition\, and serious bragging rights at the Fifteenth Annual Scouting for Heritage Clays! Whether you’re a seasoned sharpshooter or just love a great time outdoors\, this event is one you won’t want to miss. \nSet against a beautiful\, rustic backdrop\, this clay shoot is as much about the camaraderie as it is about the challenge. Compete as a team or go solo—either way\, you’ll face a dynamic course designed to test your skill and keep things exciting. \n💥 Why You Should Be There: \n\n\nFun and challenging course for all experience levels \n\n\nAwesome prizes and\, of course\, ultimate bragging rights \n\n\nA chance to support local scouting programs \n\n\nEnjoy the outdoors\, connect with community\, and maybe even outshoot your friends \n\n\n🎯 Register now to lock in your spot and be part of this unforgettable tradition. \n                               https://www.naturalstatecouncil.org/desotoclays2025 \nWhether you’re in it to win it or just there for the experience\, you’ll leave with great memories—and maybe a trophy or two. \nRonda Plummer                     (870) 314-1445                          ronda.plummer@scouting.org
URL:https://www.goeldorado.com/event/fifteenth-annual-scouting-for-heritage-clay-shoot/
LOCATION:Camp DeSoto\, 319 Camp DeSoto Rd\, El Dorado\, Arkansas\, 71730
CATEGORIES:Clubs/Organizations,Community,Festivals & Celebrations,Recreation & Sports
ATTACH;FMTTYPE=image/webp:https://www.goeldorado.com/wp-content/uploads/2025/05/shooting-for-heritage-2025-promos-900-x-300-px.webp
END:VEVENT
BEGIN:VEVENT
DTSTART;TZID=America/Chicago:20250913T090000
DTEND;TZID=America/Chicago:20250913T140000
DTSTAMP:20260421T074216
CREATED:20250905T183325Z
LAST-MODIFIED:20250905T183325Z
UID:10027769-1757754000-1757772000@www.goeldorado.com
SUMMARY:Mini Main Street
DESCRIPTION:
URL:https://www.goeldorado.com/event/mini-main-street/
LOCATION:First United Methodist Hanna Building\, El Dorado\, AR
CATEGORIES:Community,Education,Family and Children,Festivals & Celebrations
ATTACH;FMTTYPE=image/jpeg:https://www.goeldorado.com/wp-content/uploads/2025/09/540020709_1178141467682370_6847814814530598304_n.jpg
END:VEVENT
BEGIN:VEVENT
DTSTART;TZID=America/Chicago:20250913T100000
DTEND;TZID=America/Chicago:20250913T130000
DTSTAMP:20260421T074216
CREATED:20250805T153210Z
LAST-MODIFIED:20250805T174408Z
UID:10027147-1757757600-1757768400@www.goeldorado.com
SUMMARY:Girl Scout Saturday @ The Museum
DESCRIPTION:Come Join Mr. Charles and earn your Playing The Past Junior Girl Scout Badge. Explore 1920s life with hands on activities. Who will you be? A shop keeper? A journalist? A Roughneck? Call now and sign up. \n870-725-2877 Arkansas Museum of Natural Resources \n 
URL:https://www.goeldorado.com/event/girl-scout-saturday-the-museum/
LOCATION:Arkansas Museum of Natural Resources\, 4087 Smackover Hwy\, Smackover\, AR\, 71730\, United States
CATEGORIES:Clubs/Organizations,Family and Children
END:VEVENT
BEGIN:VEVENT
DTSTART;VALUE=DATE:20250915
DTEND;VALUE=DATE:20250922
DTSTAMP:20260421T074216
CREATED:20250818T185211Z
LAST-MODIFIED:20250818T185211Z
UID:10027694-1757894400-1758499199@www.goeldorado.com
SUMMARY:Murphy USA El Dorado Shoot Out
DESCRIPTION:The tenth annual Murphy USA El Dorado Shootout will return to Mystic Creek Golf Club September 15-21\, 2025. Come to El Dorado\, Arkansas to see the top rising stars in women’s golf compete for $300\,000 in prize money at the only Epson Tour stop in the four-state region of Texas\, Arkansas\, Louisiana and Oklahoma.
URL:https://www.goeldorado.com/event/murphy-usa-el-dorado-shoot-out-2/
LOCATION:Mystic Creek Golf Course\, 191 Club House Drive\, El Dorado\, AR\, 71730\, United States
CATEGORIES:Community,Family and Children,Recreation & Sports
END:VEVENT
BEGIN:VEVENT
DTSTART;VALUE=DATE:20250916
DTEND;VALUE=DATE:20250921
DTSTAMP:20260421T074216
CREATED:20250818T184128Z
LAST-MODIFIED:20250818T184128Z
UID:10027551-1757980800-1758412799@www.goeldorado.com
SUMMARY:Union County Fair
DESCRIPTION:
URL:https://www.goeldorado.com/event/union-county-fair-4/
LOCATION:Union County Fair Grounds\, 430 E 19th St\, El Dorado\, AR\, 71730\, United States
ATTACH;FMTTYPE=image/png:https://www.goeldorado.com/wp-content/uploads/2025/08/fair.png
ORGANIZER;CN="Union County Fair":MAILTO:lewis_debbiej@yahoo.com
END:VEVENT
BEGIN:VEVENT
DTSTART;TZID=America/Chicago:20250918T180000
DTEND;TZID=America/Chicago:20250918T190000
DTSTAMP:20260421T074216
CREATED:20241009T203328Z
LAST-MODIFIED:20241009T203328Z
UID:10022690-1758218400-1758222000@www.goeldorado.com
SUMMARY:Trivia @ DPs Food Truck Park
DESCRIPTION:
URL:https://www.goeldorado.com/event/trivia-dps-food-truck-park/2025-09-18/
LOCATION:DP’s Food Truck Court\, 2117 N College Ave\, 2117 N College Ave\, El Dorado\, AR\, 71730\, United States
CATEGORIES:Community,Family and Children
ATTACH;FMTTYPE=image/jpeg:https://www.goeldorado.com/wp-content/uploads/2023/11/trivia.jpg
END:VEVENT
BEGIN:VEVENT
DTSTART;TZID=America/Chicago:20250918T180000
DTEND;TZID=America/Chicago:20250918T210000
DTSTAMP:20260421T074216
CREATED:20250902T193321Z
LAST-MODIFIED:20250903T134632Z
UID:10027766-1758218400-1758229200@www.goeldorado.com
SUMMARY:SAAC's Corks and Canvas - "Hoot Owl Harvest" with Rhonda Hicks
DESCRIPTION:In this fun\, beginner-friendly session\, participants will paint an 8×10 acrylic fall landscape featuring a whimsical hoot owl perched on a tree branch\, a pile of colorful leaves\, and a trusty yard broom. It’s a charming scene that captures all the cozy vibes of autumn\, making it a perfect piece to welcome the season into your home décor. \nCome join us for an evening of fall colors\, creativity\, and community at “Hoot Owl Harvest”—it’s the perfect way to kick off the season! The cost is $40 per person\, which includes all materials and instruction. Spots are limited to 8 participants. Register below or call 870-862-5474. \nRegistration Link: https://saac-arts.org/corks-and-canvas-sept-2025/
URL:https://www.goeldorado.com/event/saacs-corks-and-canvas-hoot-owl-harvest-with-rhonda-hicks/
LOCATION:South Arkansas Arts Center
CATEGORIES:Arts & Culture,Community
ATTACH;FMTTYPE=image/jpeg:https://www.goeldorado.com/wp-content/uploads/2025/09/Corks-and-Canvas-Oct-2025.jpg
END:VEVENT
BEGIN:VEVENT
DTSTART;TZID=America/Chicago:20250919T190000
DTEND;TZID=America/Chicago:20250919T210000
DTSTAMP:20260421T074216
CREATED:20250814T195041Z
LAST-MODIFIED:20250814T195041Z
UID:10027157-1758308400-1758315600@www.goeldorado.com
SUMMARY:Blackstrap at MAD House 101
DESCRIPTION:Join us at MAD House 101 for a night of great food\, cold drinks\, and live music with Blackstrap!  Catch their performance from 7pm – 9pm with no cover
URL:https://www.goeldorado.com/event/blackstrap-at-mad-house-101/
LOCATION:MAD House 101 Restuarant and Bar\, 101 E Locust\, El Dorado\, AR\, 71730\, United States
CATEGORIES:Arts & Culture,Live Music
ATTACH;FMTTYPE=image/jpeg:https://www.goeldorado.com/wp-content/uploads/2025/08/505775652_733379402397059_4278320722638889482_n.jpg
END:VEVENT
BEGIN:VEVENT
DTSTART;TZID=America/Chicago:20250920T070000
DTEND;TZID=America/Chicago:20250920T083000
DTSTAMP:20260421T074216
CREATED:20250326T151019Z
LAST-MODIFIED:20250326T212721Z
UID:10025443-1758351600-1758357000@www.goeldorado.com
SUMMARY:Women Moving Forward - Saturday Morning Walk
DESCRIPTION:Come join Women Moving Forward for a morning walk! Women Moving Forward is a Non-Profit Organization empowering women to take control of their health and wellness by incorporating walking and physical activity into their weekly schedule. Every Saturday morning we gather to walk\, talk\, and share with other women in our community. Our conversations are rich\, and our progress is real. Do yourself a favor and join us Saturday morning to Move Forward one step at a time. \n  \n(3) Facebook
URL:https://www.goeldorado.com/event/women-moving-forward-saturday-morning-walk-2/2025-09-20/
LOCATION:Memorial Stadium\, N West Ave\, El Dorado\, AR\, 71730\, United States
CATEGORIES:Clubs/Organizations,Community,Recreation & Sports
ATTACH;FMTTYPE=image/png:https://www.goeldorado.com/wp-content/uploads/2025/03/WMF-Saturday-Morning-Walk.png
ORGANIZER;CN="Women Moving Forward":MAILTO:womenmovingforward21@gmail.com
END:VEVENT
BEGIN:VEVENT
DTSTART;TZID=America/Chicago:20250922T090000
DTEND;TZID=America/Chicago:20250922T150000
DTSTAMP:20260421T074216
CREATED:20250821T181346Z
LAST-MODIFIED:20250821T183216Z
UID:10027711-1758531600-1758553200@www.goeldorado.com
SUMMARY:S.O.S. Safety Outreach for Seniors- Preventing Fraud
DESCRIPTION:UAMS South Arkansas Center on Aging\, in partnership with AR SMP\, is committed to delivering safety education to seniors in Arkansas\, enhancing their health and independence. Breakfast and lunch will be available. We hope to see you there! Please note that seating is limited\, so be sure to register at the phone number or email listed on the flyer.
URL:https://www.goeldorado.com/event/s-o-s-safety-outreach-for-seniors-preventing-fraud/
LOCATION:El Dorado-Union County Chamber of Commerce\, 111 W. Main Street\, El Dorado\, AR\, 71730
CATEGORIES:Chamber Of Commerce,Community,Education
ATTACH;FMTTYPE=image/png:https://www.goeldorado.com/wp-content/uploads/2025/08/SACOA-SMP-SOS-9.22.2025.png
END:VEVENT
BEGIN:VEVENT
DTSTART;TZID=America/Chicago:20250922T090000
DTEND;TZID=America/Chicago:20251029T170000
DTSTAMP:20260421T074216
CREATED:20250909T175821Z
LAST-MODIFIED:20250912T131156Z
UID:10027771-1758531600-1761757200@www.goeldorado.com
SUMMARY:SAAC: Kelly Campbell Exhibition "Last Call"
DESCRIPTION:El Dorado artist Kelly Campbell will present her new exhibit\, “Last Call”\, in the Lobby Gallery at the South Arkansas Arts Center from September 22 through October 29\, 2025. An artist reception will be held on Thursday\, September 25\, from 5:30–7:00pm\, and the public is invited to attend. \n“Last Call” is a collection of 31 small pastel paintings\, each framed in sizes ranging from 8” x 10” to 12” x 12”\, alongside nine abstract watercolor landscapes. The work spans a variety of subjects\, including flowers\, fruit\, ceramic vases\, chairs\, and cloud studies—offering viewers a lively and eclectic mix.
URL:https://www.goeldorado.com/event/saac-kelly-campbell-exhibition-last-call/
LOCATION:South Arkansas Arts Center
CATEGORIES:Arts & Culture
ATTACH;FMTTYPE=image/jpeg:https://www.goeldorado.com/wp-content/uploads/2025/09/thumbnail_Last-Call-Kelly-Campbell-SAAC.jpg
END:VEVENT
BEGIN:VEVENT
DTSTART;TZID=America/Chicago:20250923T090000
DTEND;TZID=America/Chicago:20251029T170000
DTSTAMP:20260421T074216
CREATED:20250902T181840Z
LAST-MODIFIED:20250930T141106Z
UID:10027765-1758618000-1761757200@www.goeldorado.com
SUMMARY:SAAC's Membership Showcase
DESCRIPTION:The Membership Showcase is a beloved bi-annual tradition where SAAC members fill the galleries with color\, texture\, and imagination.
URL:https://www.goeldorado.com/event/saacs-membership-showcase/
LOCATION:South Arkansas Arts Center
CATEGORIES:Arts & Culture,Community
ATTACH;FMTTYPE=image/jpeg:https://www.goeldorado.com/wp-content/uploads/2025/09/Membership-Showcast-Artisits.jpg
END:VEVENT
BEGIN:VEVENT
DTSTART;TZID=America/Chicago:20250923T173000
DTEND;TZID=America/Chicago:20250923T183000
DTSTAMP:20260421T074216
CREATED:20250912T131633Z
LAST-MODIFIED:20250912T131633Z
UID:10027774-1758648600-1758652200@www.goeldorado.com
SUMMARY:Business After Hours: South Arkansas Symphony Orchestra
DESCRIPTION:Come connect with fellow Chamber members and community partners while learning more about the South Arkansas Symphony Orchestra!\nWhen: Tuesday\, September 23 | 5:30–6:30 PMWhere: El Dorado Municipal Auditorium\, 100 W. 8th\nBusiness After Hours is your chance to build relationships\, share ideas\, and learn more about the incredible work being done by the Symphony to enrich our region. Don’t miss this evening of networking\, music\, and community spirit.
URL:https://www.goeldorado.com/event/business-after-hours-south-arkansas-symphony-orchestra/
LOCATION:El Dorado Municipal Auditorium\, El Dorado\, AR\, 71730\, United States
CATEGORIES:Arts & Culture,Business,Chamber Of Commerce,Clubs/Organizations,Community
ATTACH;FMTTYPE=image/png:https://www.goeldorado.com/wp-content/uploads/2025/09/Saso-bah.png
END:VEVENT
BEGIN:VEVENT
DTSTART;TZID=America/Chicago:20250925T090000
DTEND;TZID=America/Chicago:20250925T110000
DTSTAMP:20260421T074216
CREATED:20250827T142516Z
LAST-MODIFIED:20250827T142746Z
UID:10027712-1758790800-1758798000@www.goeldorado.com
SUMMARY:Senior Fun Day
DESCRIPTION:Anyone interested in setting up a booth or donating a door prize\, please reach out to Lynne Kemp at 870-243-9179!
URL:https://www.goeldorado.com/event/senior-fun-day/
LOCATION:Champagnolle Landing\, 910 Champagnolle Rd\, El Dorado\, AR\, 71730\, United States
CATEGORIES:Clubs/Organizations,Community,Festivals & Celebrations
ATTACH;FMTTYPE=image/png:https://www.goeldorado.com/wp-content/uploads/2025/08/seniorfunday2025september.png
END:VEVENT
BEGIN:VEVENT
DTSTART;TZID=America/Chicago:20250925T130000
DTEND;TZID=America/Chicago:20250925T140000
DTSTAMP:20260421T074216
CREATED:20250821T182826Z
LAST-MODIFIED:20260211T213847Z
UID:10028910-1758805200-1758808800@www.goeldorado.com
SUMMARY:Dementia Caregiver Support Group
DESCRIPTION:Join us monthly for in-person meetings! \nThis group provides support\,\neducation and resources to caregivers\nof loved ones living with dementia. \nZOOM LINK AVAILABLE
URL:https://www.goeldorado.com/event/dementia-caregiver-support-group/2025-09-25/
LOCATION:South Arkansas Center on Aging\, 1119 N Madison\, El Dorado\, AR\, 71730
CATEGORIES:Chamber Of Commerce,Community,Education
ATTACH;FMTTYPE=application/pdf:https://www.goeldorado.com/wp-content/uploads/2025/08/UAMS-updated-flyer.pdf
END:VEVENT
BEGIN:VEVENT
DTSTART;TZID=America/Chicago:20250925T143000
DTEND;TZID=America/Chicago:20250925T153000
DTSTAMP:20260421T074216
CREATED:20250527T172906Z
LAST-MODIFIED:20250627T151132Z
UID:10026150-1758810600-1758814200@www.goeldorado.com
SUMMARY:Teatime with South Arkansas Center on Aging\, Live and Virtual
DESCRIPTION:Teatime with South Arkansas Center on Aging is a free Support Group that meets at 2:30p.m. the fourth Thursday of every month\, virtual and live. Meetings occur at 1119 N. Madison Avenue in El Dorado and online through our personalized ZOOM link. Visits include tips and resources for older adults and caregivers\, social contact for individuals who may live alone\, and care and support for those going through a stressful time. There will be guest speakers as well as coffee\, tea\, water and cookies made available for participants. \nPlease RSVP on our website so we can give you access to the ZOOM link and you will be able to join and participate in the meeting if you cannot join us in person.
URL:https://www.goeldorado.com/event/teatime-with-south-arkansas-center-on-aging-live-and-virtual-2/2025-09-25/
LOCATION:South Arkansas Center on Aging\, 1119 N Madison\, El Dorado\, AR\, 71730
CATEGORIES:Community
ATTACH;FMTTYPE=image/png:https://www.goeldorado.com/wp-content/uploads/2025/05/Teatime-JPG.png
END:VEVENT
BEGIN:VEVENT
DTSTART;TZID=America/Chicago:20250925T143000
DTEND;TZID=America/Chicago:20250925T210000
DTSTAMP:20260421T074216
CREATED:20250902T162555Z
LAST-MODIFIED:20250903T134452Z
UID:10027764-1758810600-1758834000@www.goeldorado.com
SUMMARY:SAAC: Art Talk with Gay Bachtrelheimer\, Edward Hopper
DESCRIPTION:A new season of Art Talks with Gay Bechtelheimer begins on September 25 at 6:30 pm with a deeper look at renowned American painter Edward Hopper. These free\, relaxed lectures present art and art history in an entertaining and enjoyable format to people of all ages and backgrounds. The evening begins with refreshments in the gallery\, before Bechtelheimer’s presentation from the stage.
URL:https://www.goeldorado.com/event/saac-art-talk-with-gay-bachtrelheimer-edward-hopper/
LOCATION:South Arkansas Arts Center
CATEGORIES:Arts & Culture,Education
ATTACH;FMTTYPE=image/jpeg:https://www.goeldorado.com/wp-content/uploads/2025/09/Edward-Hopper-Art-Talk-SAAC.jpg
END:VEVENT
BEGIN:VEVENT
DTSTART;TZID=America/Chicago:20250925T173000
DTEND;TZID=America/Chicago:20250925T190000
DTSTAMP:20260421T074216
CREATED:20250909T180451Z
LAST-MODIFIED:20250912T131241Z
UID:10027772-1758821400-1758826800@www.goeldorado.com
SUMMARY:SAAC: Artist's Reception for Kelly Campbell and SAAC's Membership Showcase
DESCRIPTION:El Dorado artist Kelly Campbell will present her new exhibit\, “Last Call”\, in the Lobby Gallery at the South Arkansas Arts Center from September 22 through October 29\, 2025. An artist reception will be held on Thursday\, September 25\, from 5:30–7:00pm\, and the public is invited to attend. \nAdditionally\, The South Arkansas Arts Center (SAAC) has once again rolled out the welcome mat for artists of all kinds to submit pieces to the 2025 Membership Showcase\, a beloved bi-annual tradition that fills the SAAC galleries with color\, texture\, and imagination. The exhibition will run September 23 through October 29\, with an Artists’ Reception on Thursday\, September 25\, from 5:30–7:00pm—a perfect evening to mingle with the talent behind the art.
URL:https://www.goeldorado.com/event/saac-artists-reception-for-kelly-campbell-and-saacs-membership-showcase/
LOCATION:South Arkansas Arts Center
CATEGORIES:Arts & Culture
END:VEVENT
BEGIN:VEVENT
DTSTART;TZID=America/Chicago:20250925T173000
DTEND;TZID=America/Chicago:20250925T192600
DTSTAMP:20260421T074216
CREATED:20250916T201946Z
LAST-MODIFIED:20250922T152614Z
UID:10027781-1758821400-1758828360@www.goeldorado.com
SUMMARY:Pickleball for Beginners
DESCRIPTION:Join Tyler Turner & Friends at Mellor Park for a fun and friendly intro to pickleball—designed specifically for beginners. \nBonus: You’ll leave with your very own paddle and two pickleballs! Plus\, proceeds from this class will go to United Way of Union County\, so you’ll be learning while helping our community.
URL:https://www.goeldorado.com/event/pickleball-for-beginners/
LOCATION:Mellor Park\, Euclid & 4th st\, El Dorado\, AR\, 71730
CATEGORIES:Community,Education,Family and Children,Recreation & Sports
ATTACH;FMTTYPE=image/png:https://www.goeldorado.com/wp-content/uploads/2025/09/Social-Media.png
END:VEVENT
BEGIN:VEVENT
DTSTART;TZID=America/Chicago:20250926T190000
DTEND;TZID=America/Chicago:20250926T210000
DTSTAMP:20260421T074216
CREATED:20250814T202303Z
LAST-MODIFIED:20250814T202303Z
UID:10027166-1758913200-1758920400@www.goeldorado.com
SUMMARY:EHS Football Home Game
DESCRIPTION:
URL:https://www.goeldorado.com/event/ehs-football-home-game-2/
LOCATION:Memorial Stadium\, N West Ave\, El Dorado\, AR\, 71730\, United States
CATEGORIES:Community,Family and Children,Recreation & Sports,Schools
ATTACH;FMTTYPE=image/png:https://www.goeldorado.com/wp-content/uploads/2025/08/thumb-1326d68d724640bac35158bf461c263d-1.png
END:VEVENT
BEGIN:VEVENT
DTSTART;VALUE=DATE:20250927
DTEND;VALUE=DATE:20250929
DTSTAMP:20260421T074216
CREATED:20250715T173849Z
LAST-MODIFIED:20250716T145630Z
UID:10027125-1758931200-1759103999@www.goeldorado.com
SUMMARY:First Financial Bank/SHARE Benefit Golf Tournament
DESCRIPTION:The 32nd Annual First Financial Bank/SHARE Benefit Golf Tournament is scheduled as a two-day tournament for Saturday and Sunday\, September 27-28\, 2025\, at Mystic Creek Golf Course & Lions Club Municipal Golf Course. \nAll tournament proceeds will go to the South Arkansas Regional Hospital (SARH) Foundation to support priority needs and enhance patient care at SARH.
URL:https://www.goeldorado.com/event/first-financial-bank-share-benefit-golf-tournament-4/
LOCATION:AR
CATEGORIES:Business,Community,Recreation & Sports
ATTACH;FMTTYPE=image/jpeg:https://www.goeldorado.com/wp-content/uploads/2025/07/SHAREGolf-calendarheader-2025-01.jpg
ORGANIZER;CN="SHARE Foundation":MAILTO:acooley@sharefoundation.com
END:VEVENT
BEGIN:VEVENT
DTSTART;TZID=America/Chicago:20250927T070000
DTEND;TZID=America/Chicago:20250927T083000
DTSTAMP:20260421T074216
CREATED:20250326T151019Z
LAST-MODIFIED:20250326T212721Z
UID:10025444-1758956400-1758961800@www.goeldorado.com
SUMMARY:Women Moving Forward - Saturday Morning Walk
DESCRIPTION:Come join Women Moving Forward for a morning walk! Women Moving Forward is a Non-Profit Organization empowering women to take control of their health and wellness by incorporating walking and physical activity into their weekly schedule. Every Saturday morning we gather to walk\, talk\, and share with other women in our community. Our conversations are rich\, and our progress is real. Do yourself a favor and join us Saturday morning to Move Forward one step at a time. \n  \n(3) Facebook
URL:https://www.goeldorado.com/event/women-moving-forward-saturday-morning-walk-2/2025-09-27/
LOCATION:Memorial Stadium\, N West Ave\, El Dorado\, AR\, 71730\, United States
CATEGORIES:Clubs/Organizations,Community,Recreation & Sports
ATTACH;FMTTYPE=image/png:https://www.goeldorado.com/wp-content/uploads/2025/03/WMF-Saturday-Morning-Walk.png
ORGANIZER;CN="Women Moving Forward":MAILTO:womenmovingforward21@gmail.com
END:VEVENT
BEGIN:VEVENT
DTSTART;TZID=America/Chicago:20250927T100000
DTEND;TZID=America/Chicago:20250927T160000
DTSTAMP:20260421T074216
CREATED:20250902T152948Z
LAST-MODIFIED:20250903T133928Z
UID:10027763-1758967200-1758988800@www.goeldorado.com
SUMMARY:SAAC: Pastel Painting Made Simple: Beginner Workshop with Kelly Campbell
DESCRIPTION:Scheduled for Saturday\, September 27 from 10am to 4pm\, this engaging\, beginner-friendly workshop is designed to introduce participants to the vibrant world of soft pastels on textured sanded paper. The $60 fee covers all supplies.
URL:https://www.goeldorado.com/event/saac-pastel-painting-made-simple-beginner-workshop-with-kelly-campbell/
LOCATION:South Arkansas Arts Center
CATEGORIES:Arts & Culture,Community
ATTACH;FMTTYPE=image/jpeg:https://www.goeldorado.com/wp-content/uploads/2025/09/Pastel-Workshop-Kelly-Campbell-1.jpg
END:VEVENT
BEGIN:VEVENT
DTSTART;TZID=America/Chicago:20250927T120000
DTEND;TZID=America/Chicago:20250927T150000
DTSTAMP:20260421T074216
CREATED:20250922T153717Z
LAST-MODIFIED:20250922T153801Z
UID:10027785-1758974400-1758985200@www.goeldorado.com
SUMMARY:Hogs Fan Headquarters-Saturdays @ Hotshots of El Dorado
DESCRIPTION:  \n  \nSaturdays in Arkansas mean one thing… Hogs football! \nHotshots El Dorado is the home for Hogs Fans all season long. Catch every game with cold beer\, big screens\, and a crowd that knows how to call the Hogs the right way.\n Gameday Drink Specials:$10 Domestic Pitchers (Ultra included)$2.50 Domestic Bottles$6 Wild Hog Shot – a gameday favorite\n Gameday Food Specials:Huddle Up Meal – 6 Bone-In Wings + Fries + Domestic Bottle – $13Pitcher & Chips Deal – Domestic Pitcher + Chips & Queso or Salsa – $12 (for 2+ fans)\n Rival games\, nail-biters\, and every Saturday showdown — it’s always better with a full pitcher and a room full of fellow Hog fans.\nSo grab your crew\, wear your red\, and let’s make Hotshots El Dorado the loudest Hogs HQ in South Arkansas!
URL:https://www.goeldorado.com/event/hogs-fan-headquarters-saturdays-hotshots-of-el-dorado/
LOCATION:Hot Shots\, 601 S Timberlane\, El Dorado\, AR\, 71730\, United States
CATEGORIES:Community,Recreation & Sports
END:VEVENT
END:VCALENDAR