BEGIN:VCALENDAR
VERSION:2.0
PRODID:-//El Dorado, Arkansas - ECPv6.15.20//NONSGML v1.0//EN
CALSCALE:GREGORIAN
METHOD:PUBLISH
X-ORIGINAL-URL:https://www.goeldorado.com
X-WR-CALDESC:Events for El Dorado, Arkansas
REFRESH-INTERVAL;VALUE=DURATION:PT1H
X-Robots-Tag:noindex
X-PUBLISHED-TTL:PT1H
BEGIN:VTIMEZONE
TZID:America/Chicago
BEGIN:DAYLIGHT
TZOFFSETFROM:-0600
TZOFFSETTO:-0500
TZNAME:CDT
DTSTART:20220313T080000
END:DAYLIGHT
BEGIN:STANDARD
TZOFFSETFROM:-0500
TZOFFSETTO:-0600
TZNAME:CST
DTSTART:20221106T070000
END:STANDARD
BEGIN:DAYLIGHT
TZOFFSETFROM:-0600
TZOFFSETTO:-0500
TZNAME:CDT
DTSTART:20230312T080000
END:DAYLIGHT
BEGIN:STANDARD
TZOFFSETFROM:-0500
TZOFFSETTO:-0600
TZNAME:CST
DTSTART:20231105T070000
END:STANDARD
BEGIN:DAYLIGHT
TZOFFSETFROM:-0600
TZOFFSETTO:-0500
TZNAME:CDT
DTSTART:20240310T080000
END:DAYLIGHT
BEGIN:STANDARD
TZOFFSETFROM:-0500
TZOFFSETTO:-0600
TZNAME:CST
DTSTART:20241103T070000
END:STANDARD
END:VTIMEZONE
BEGIN:VEVENT
DTSTART;TZID=America/Chicago:20230922T110000
DTEND;TZID=America/Chicago:20230922T113000
DTSTAMP:20260422T060534
CREATED:20230828T210405Z
LAST-MODIFIED:20230901T181518Z
UID:10014536-1695380400-1695382200@www.goeldorado.com
SUMMARY:Ribbon Cutting w/ Courtney Marie Enterprise
DESCRIPTION:Courtney Marie Ribbon Cutting
URL:https://www.goeldorado.com/event/ribbon-cutting/
LOCATION:El Dorado-Union County Chamber of Commerce\, 111 W. Main Street\, El Dorado\, AR\, 71730
CATEGORIES:Business,Chamber Of Commerce
ATTACH;FMTTYPE=image/png:https://www.goeldorado.com/wp-content/uploads/2023/08/courtney-Ent.png
END:VEVENT
BEGIN:VEVENT
DTSTART;TZID=America/Chicago:20230922T190000
DTEND;TZID=America/Chicago:20230922T220000
DTSTAMP:20260422T060534
CREATED:20230629T203822Z
LAST-MODIFIED:20230629T203822Z
UID:10014437-1695409200-1695420000@www.goeldorado.com
SUMMARY:EHS Wildcats home game vs. Benton
DESCRIPTION:
URL:https://www.goeldorado.com/event/ehs-wildcats-home-game-vs-benton/
LOCATION:Memorial Stadium\, N West Ave\, El Dorado\, AR\, 71730\, United States
CATEGORIES:Community,Education,Family and Children,Recreation & Sports
END:VEVENT
BEGIN:VEVENT
DTSTART;TZID=America/Chicago:20230923T080000
DTEND;TZID=America/Chicago:20230923T110000
DTSTAMP:20260422T060534
CREATED:20230414T212537Z
LAST-MODIFIED:20230626T140535Z
UID:10014356-1695456000-1695466800@www.goeldorado.com
SUMMARY:Farmers Market at MAD
DESCRIPTION:Shop local vendors at the MAD Amphitheater!
URL:https://www.goeldorado.com/event/farmers-market-at-mad-3/2023-09-23/
CATEGORIES:Arts & Culture,Community,Family and Children
ATTACH;FMTTYPE=image/jpeg:https://www.goeldorado.com/wp-content/uploads/2023/04/famersmarketevent.jpg
END:VEVENT
BEGIN:VEVENT
DTSTART;TZID=America/Chicago:20230923T170000
DTEND;TZID=America/Chicago:20230923T213000
DTSTAMP:20260422T060534
CREATED:20230123T171108Z
LAST-MODIFIED:20230123T171108Z
UID:10011029-1695488400-1695504600@www.goeldorado.com
SUMMARY:Bingo @ The VFW
DESCRIPTION:The VFW will be hosting BINGO! Every Saturday night. \nQuarter Bingo starts at 5pm \nRegular Bingo starts at 7pm
URL:https://www.goeldorado.com/event/bingo-the-vfw/2023-09-23/
LOCATION:VFW\, 451 Industrial Rd\, El Dorado\, AR\, 71730\, United States
CATEGORIES:Clubs/Organizations,Community,Recreation & Sports
END:VEVENT
BEGIN:VEVENT
DTSTART;TZID=America/Chicago:20230926T173000
DTEND;TZID=America/Chicago:20230926T190000
DTSTAMP:20260422T060534
CREATED:20230913T213712Z
LAST-MODIFIED:20230914T172330Z
UID:10014563-1695749400-1695754800@www.goeldorado.com
SUMMARY:Sign Language Class @ South Ark
DESCRIPTION:All ages are invited to learn the basics of ASL with Crystal Curley
URL:https://www.goeldorado.com/event/sign-language-class-south-ark/
LOCATION:HealthWorks Fitness Center\, 304 N. Madison\, El Dorado\, AR\, 71730
CATEGORIES:Community,Continuing Education
ATTACH;FMTTYPE=image/png:https://www.goeldorado.com/wp-content/uploads/2023/09/Sign-Language-Flyer-Small.png
END:VEVENT
BEGIN:VEVENT
DTSTART;TZID=America/Chicago:20230927T120000
DTEND;TZID=America/Chicago:20230927T130000
DTSTAMP:20260422T060534
CREATED:20230607T210102Z
LAST-MODIFIED:20230607T210335Z
UID:10014312-1695816000-1695819600@www.goeldorado.com
SUMMARY:Kiwanis Meeting
DESCRIPTION:
URL:https://www.goeldorado.com/event/kiwanis-meeting-2/2023-09-27/
LOCATION:First Presbyterian Church\, 300 E. Main St\, El Dorado
END:VEVENT
BEGIN:VEVENT
DTSTART;TZID=America/Chicago:20230928T150000
DTEND;TZID=America/Chicago:20230928T160000
DTSTAMP:20260422T060534
CREATED:20230925T202938Z
LAST-MODIFIED:20230925T202938Z
UID:10014628-1695913200-1695916800@www.goeldorado.com
SUMMARY:Ribbon Cutting: State Line Pharmacy
DESCRIPTION:
URL:https://www.goeldorado.com/event/ribbon-cutting-state-line-pharmacy/
LOCATION:State Line Pharmacy\, 501 N Main\, Junction City\, AR\, 71749
CATEGORIES:Business,Chamber Of Commerce
ATTACH;FMTTYPE=image/png:https://www.goeldorado.com/wp-content/uploads/2023/09/Ribbon-Cutting.png
END:VEVENT
BEGIN:VEVENT
DTSTART;TZID=America/Chicago:20230928T183000
DTEND;TZID=America/Chicago:20230928T203000
DTSTAMP:20260422T060534
CREATED:20230815T210652Z
LAST-MODIFIED:20230815T210652Z
UID:10014505-1695925800-1695933000@www.goeldorado.com
SUMMARY:Turning Point of South Arkansas Fundraising Dinner
DESCRIPTION:
URL:https://www.goeldorado.com/event/turning-point-of-south-arkansas-fundraising-dinner/
LOCATION:College Avenue Family Life Center\, 1817 N. College Ave.\, El Dorado\, AR\, 71730
CATEGORIES:Clubs/Organizations,Community
ATTACH;FMTTYPE=image/png:https://www.goeldorado.com/wp-content/uploads/2023/08/Screenshot-11.png
END:VEVENT
BEGIN:VEVENT
DTSTART;TZID=America/Chicago:20230929T083000
DTEND;TZID=America/Chicago:20230929T170000
DTSTAMP:20260422T060534
CREATED:20230508T203536Z
LAST-MODIFIED:20230921T151734Z
UID:10014178-1695976200-1696006800@www.goeldorado.com
SUMMARY:El Dorado Chamber of Commerce Golf Tournament
DESCRIPTION:golf tournament 2023
URL:https://www.goeldorado.com/event/save-the-date-el-dorado-chamber-of-commerce-golf-tournament/
LOCATION:Mystic Creek Clubhouse\, 191 Clubhouse Dr\, El Dorado\, AR\, 71730\, United States
CATEGORIES:Chamber Of Commerce,Community,Recreation & Sports
END:VEVENT
BEGIN:VEVENT
DTSTART;TZID=America/Chicago:20230929T153000
DTEND;TZID=America/Chicago:20230929T170000
DTSTAMP:20260422T060534
CREATED:20230911T155432Z
LAST-MODIFIED:20230911T155435Z
UID:10013357-1696001400-1696006800@www.goeldorado.com
SUMMARY:Vet Talk w/ Project SOUTH
DESCRIPTION:
URL:https://www.goeldorado.com/event/vet-talk-w-project-south-4-2/2023-09-29/
LOCATION:PJ’s Coffee Shop El Dorado\, 106 W Main\, El Dorado\, AR\, 71730\, United States
CATEGORIES:Community
ATTACH;FMTTYPE=image/png:https://www.goeldorado.com/wp-content/uploads/2023/04/Vet-Talk-3.png
END:VEVENT
BEGIN:VEVENT
DTSTART;TZID=America/Chicago:20230929T160000
DTEND;TZID=America/Chicago:20230929T160000
DTSTAMP:20260422T060534
CREATED:20230828T210650Z
LAST-MODIFIED:20230901T181629Z
UID:10014537-1696003200-1696003200@www.goeldorado.com
SUMMARY:Grand Opening & Ribbon Cutting Gourmet 2 Geaux
DESCRIPTION:
URL:https://www.goeldorado.com/event/grand-opening-ribbon-cutting-gourmet-2-geaux/
LOCATION:Gourmet 2 Geaux\, 113 N Jefferson\, El Dorado\, AR\, 71730
CATEGORIES:Business,Chamber Of Commerce
ATTACH;FMTTYPE=image/png:https://www.goeldorado.com/wp-content/uploads/2023/08/123-Anywhere-St.-Any-City-3.png
END:VEVENT
BEGIN:VEVENT
DTSTART;TZID=America/Chicago:20230930T080000
DTEND;TZID=America/Chicago:20230930T110000
DTSTAMP:20260422T060534
CREATED:20230414T212537Z
LAST-MODIFIED:20230626T140535Z
UID:10014357-1696060800-1696071600@www.goeldorado.com
SUMMARY:Farmers Market at MAD
DESCRIPTION:Shop local vendors at the MAD Amphitheater!
URL:https://www.goeldorado.com/event/farmers-market-at-mad-3/2023-09-30/
CATEGORIES:Arts & Culture,Community,Family and Children
ATTACH;FMTTYPE=image/jpeg:https://www.goeldorado.com/wp-content/uploads/2023/04/famersmarketevent.jpg
END:VEVENT
BEGIN:VEVENT
DTSTART;TZID=America/Chicago:20230930T080000
DTEND;TZID=America/Chicago:20230930T110000
DTSTAMP:20260422T060534
CREATED:20230502T180017Z
LAST-MODIFIED:20230502T180256Z
UID:10014172-1696060800-1696071600@www.goeldorado.com
SUMMARY:Paint the town Pink SAVE THE DATE
DESCRIPTION:
URL:https://www.goeldorado.com/event/paint-the-town-pink-save-the-date/
LOCATION:Downtown El Dorado\, 101 N. Washington\, El Dorado\, AR\, 71730
CATEGORIES:Community,Family and Children
END:VEVENT
BEGIN:VEVENT
DTSTART;TZID=America/Chicago:20230930T160000
DTEND;TZID=America/Chicago:20230930T200000
DTSTAMP:20260422T060534
CREATED:20230628T143043Z
LAST-MODIFIED:20230628T143043Z
UID:10014416-1696089600-1696104000@www.goeldorado.com
SUMMARY:Cruise Night Car Show
DESCRIPTION:
URL:https://www.goeldorado.com/event/cruise-night-car-show/2023-09-30/
LOCATION:Downtown El Dorado\, 101 N. Washington\, El Dorado\, AR\, 71730
CATEGORIES:Clubs/Organizations,Community,Family and Children
ATTACH;FMTTYPE=image/jpeg:https://www.goeldorado.com/wp-content/uploads/2023/06/292313811_354253066884080_3925772226374212086_n.jpg
ORGANIZER;CN="Joe":MAILTO:jjsgourmetbbq@msn.com
END:VEVENT
BEGIN:VEVENT
DTSTART;TZID=America/Chicago:20230930T170000
DTEND;TZID=America/Chicago:20230930T190000
DTSTAMP:20260422T060534
CREATED:20230913T211214Z
LAST-MODIFIED:20230913T211558Z
UID:10014561-1696093200-1696100400@www.goeldorado.com
SUMMARY:Mi Tierra Fest: Hispanic Heritage Celebration
DESCRIPTION:
URL:https://www.goeldorado.com/event/mi-tierra-fest-hispanic-heritage-celebration/
LOCATION:Union County Courthouse\, 101 N. Washington\, El Dorado\, AR\, 71730
CATEGORIES:Arts & Culture,Community,Family and Children,Festivals & Celebrations
ATTACH;FMTTYPE=image/jpeg:https://www.goeldorado.com/wp-content/uploads/2023/09/Hispanic-Sept.-Event-scaled.jpg
END:VEVENT
BEGIN:VEVENT
DTSTART;TZID=America/Chicago:20230930T170000
DTEND;TZID=America/Chicago:20230930T213000
DTSTAMP:20260422T060534
CREATED:20230123T171108Z
LAST-MODIFIED:20230123T171108Z
UID:10011030-1696093200-1696109400@www.goeldorado.com
SUMMARY:Bingo @ The VFW
DESCRIPTION:The VFW will be hosting BINGO! Every Saturday night. \nQuarter Bingo starts at 5pm \nRegular Bingo starts at 7pm
URL:https://www.goeldorado.com/event/bingo-the-vfw/2023-09-30/
LOCATION:VFW\, 451 Industrial Rd\, El Dorado\, AR\, 71730\, United States
CATEGORIES:Clubs/Organizations,Community,Recreation & Sports
END:VEVENT
BEGIN:VEVENT
DTSTART;TZID=America/Chicago:20230930T190000
DTEND;TZID=America/Chicago:20230930T223000
DTSTAMP:20260422T060534
CREATED:20230508T203716Z
LAST-MODIFIED:20230508T203716Z
UID:10014179-1696100400-1696113000@www.goeldorado.com
SUMMARY:The King Lives! Elvis Tribure with Kraig Parker and guest Emcee Charles Stone LIVE @ MAD
DESCRIPTION:
URL:https://www.goeldorado.com/event/the-king-lives-elvis-tribure-with-kraig-parker-and-guest-emcee-charles-stone-live-mad/
LOCATION:Murphy Arts District\, 101 E. Locust Street\, El Dorado\, AR\, 71730\, United States
CATEGORIES:Arts & Culture,Community,Family and Children,Live Music
ATTACH;FMTTYPE=image/jpeg:https://www.goeldorado.com/wp-content/uploads/2023/05/344744205_223003717116824_4898633941024942319_n.jpg
END:VEVENT
BEGIN:VEVENT
DTSTART;TZID=America/Chicago:20231001T140000
DTEND;TZID=America/Chicago:20231001T163000
DTSTAMP:20260422T060534
CREATED:20230123T203450Z
LAST-MODIFIED:20230123T203450Z
UID:10011766-1696168800-1696177800@www.goeldorado.com
SUMMARY:Miss MusicFest Pageant
DESCRIPTION:TBA
URL:https://www.goeldorado.com/event/miss-musicfest-pageant-3/
CATEGORIES:Community,Festivals & Celebrations
END:VEVENT
BEGIN:VEVENT
DTSTART;TZID=America/Chicago:20231002T160000
DTEND;TZID=America/Chicago:20231002T163000
DTSTAMP:20260422T060534
CREATED:20230925T203249Z
LAST-MODIFIED:20230925T203329Z
UID:10014629-1696262400-1696264200@www.goeldorado.com
SUMMARY:Ribbon Cutting: SAMA Mammography Center
DESCRIPTION:
URL:https://www.goeldorado.com/event/ribbon-cutting-sama-mammography-center/
LOCATION:SAMA\, 600 S Timberlane\, El Dorado\, AR\, 71730
CATEGORIES:Business,Chamber Of Commerce
ATTACH;FMTTYPE=image/jpeg:https://www.goeldorado.com/wp-content/uploads/2023/09/SAMA_Chamber_Ribbon_Cutting_FB.jpeg
END:VEVENT
BEGIN:VEVENT
DTSTART;TZID=America/Chicago:20231003T140000
DTEND;TZID=America/Chicago:20231003T190000
DTSTAMP:20260422T060534
CREATED:20230720T203554Z
LAST-MODIFIED:20230720T203657Z
UID:10014481-1696341600-1696359600@www.goeldorado.com
SUMMARY:Union County Job Fair
DESCRIPTION:More details coming soon \n 
URL:https://www.goeldorado.com/event/union-county-job-fair/
LOCATION:El Dorado Conference Center\, 311 S West Ave\, El Dorado\, 71730\, United States
CATEGORIES:Business,Chamber Of Commerce,Community,Continuing Education
END:VEVENT
BEGIN:VEVENT
DTSTART;TZID=America/Chicago:20231003T180000
DTEND;TZID=America/Chicago:20231003T210000
DTSTAMP:20260422T060534
CREATED:20230920T210722Z
LAST-MODIFIED:20230921T151010Z
UID:10014569-1696356000-1696366800@www.goeldorado.com
SUMMARY:Film Appreciation - The Universal Studios Horror Cycle 1930-1955
DESCRIPTION:Hosted by Dr. James Yates and Darrin Riley \nBrought to you by Community Education at Mahony Family Library and South Arkansas Historical Preservation Society \n  \nThe Universal Pictures horror cycle of the 1930s remains one of the high points of American film and the Horror genre’s existence. Over and over\, the studio —  One of Hollywood’s oldest — tackled classic works of gothic and horror literature to produce vivid\, stylish\, wondrous\, scary\, humorous films which were destined to become classics themselves. This cycle of films – actually begun in the 1920s – would dominate Universal Pictures’ output to the 1950s was instrumental in the shaping of horror cinema. With their often B-grade production values and hammy shocks\, it’s tempting to view the studio’s horror films as unsophisticated relics. Yet at their best they brim with wit\, invention and atmosphere\, including depictions of gothic icons such as Count Dracula and Frankenstein’s monster that are definitively ingrained in the cultural psyche. \nThis course will examine this cycle by focusing on four specific classics – Frankenstein\, Dracula\, The Mummy\, and The Wolfman – and discussing how these films were made and the impact they had on the studio and popular culture\, and analyzing  themes and key scenes. Each week\, a film will be introduced and discussed\, screened\, and analyzed.
URL:https://www.goeldorado.com/event/film-appreciation-the-universal-studios-horror-cycle-1930-1955/2023-10-03/
LOCATION:Mahony Family Library\, 300 Summit Ave\, El Dorado\, AR\, 71730\, United States
CATEGORIES:Arts & Culture,Community,Continuing Education
ORGANIZER;CN="South Arkansas Historical Preservation Society":MAILTO:info@soarkhistory.com
END:VEVENT
BEGIN:VEVENT
DTSTART;TZID=America/Chicago:20231004T120000
DTEND;TZID=America/Chicago:20231004T130000
DTSTAMP:20260422T060534
CREATED:20230607T210102Z
LAST-MODIFIED:20230607T210335Z
UID:10014313-1696420800-1696424400@www.goeldorado.com
SUMMARY:Kiwanis Meeting
DESCRIPTION:
URL:https://www.goeldorado.com/event/kiwanis-meeting-2/2023-10-04/
LOCATION:First Presbyterian Church\, 300 E. Main St\, El Dorado
END:VEVENT
BEGIN:VEVENT
DTSTART;TZID=America/Chicago:20231005T110000
DTEND;TZID=America/Chicago:20231005T113000
DTSTAMP:20260422T060534
CREATED:20230921T151259Z
LAST-MODIFIED:20230921T151259Z
UID:10014626-1696503600-1696505400@www.goeldorado.com
SUMMARY:Ribbon Cutting: First Community Trust
DESCRIPTION:
URL:https://www.goeldorado.com/event/ribbon-cutting-first-community-trust/
LOCATION:First Community Trust\, 200 N Jefferson Suite 618\, El Dorado\, AR\, 71730\, United States
CATEGORIES:Business,Chamber Of Commerce
ATTACH;FMTTYPE=image/jpeg:https://www.goeldorado.com/wp-content/uploads/2023/09/CFT-El-Dorado-Open-House_LinkedIn.jpg
END:VEVENT
BEGIN:VEVENT
DTSTART;TZID=America/Chicago:20231005T113000
DTEND;TZID=America/Chicago:20231005T120000
DTSTAMP:20260422T060534
CREATED:20230803T151220Z
LAST-MODIFIED:20231004T134818Z
UID:10014502-1696505400-1696507200@www.goeldorado.com
SUMMARY:Proclamation for Domestic Violence Awareness Month
DESCRIPTION:Please join us on the Union County Courthouse steps as Mayor Paul Choate recites the proclamation for Domestic Violence Awareness Month. We will also review Arkansas domestic violence statistics from previous years.
URL:https://www.goeldorado.com/event/proclamation-for-domestic-violence-awareness-month/
LOCATION:Union County Courthouse\, 101 N. Washington\, El Dorado\, AR\, 71730
CATEGORIES:Clubs/Organizations,Community
ATTACH;FMTTYPE=image/jpeg:https://www.goeldorado.com/wp-content/uploads/2023/08/correct-turning-point.jpg
END:VEVENT
BEGIN:VEVENT
DTSTART;VALUE=DATE:20231006
DTEND;VALUE=DATE:20231008
DTSTAMP:20260422T060534
CREATED:20230123T203238Z
LAST-MODIFIED:20231005T211151Z
UID:10011765-1696550400-1696723199@www.goeldorado.com
SUMMARY:MusicFest
DESCRIPTION:
URL:https://www.goeldorado.com/event/miss-musicfest-pageant-2/
LOCATION:Main Street El Dorado/Union Square El Dorado\, downtown El Dorado
CATEGORIES:Community,Festivals & Celebrations,Live Music
ATTACH;FMTTYPE=image/jpeg:https://www.goeldorado.com/wp-content/uploads/2023/01/385913503_855358762819955_7044563479295622811_n.jpg
END:VEVENT
BEGIN:VEVENT
DTSTART;TZID=America/Chicago:20231006T070000
DTEND;TZID=America/Chicago:20231006T130000
DTSTAMP:20260422T060534
CREATED:20230905T152415Z
LAST-MODIFIED:20230905T152415Z
UID:10014548-1696575600-1696597200@www.goeldorado.com
SUMMARY:Golf Tournament: El Dorado Wildcat Cheer Scramble
DESCRIPTION:
URL:https://www.goeldorado.com/event/golf-tournament-el-dorado-wildcat-cheer-scramble/
LOCATION:Mystic Creek Clubhouse\, 191 Clubhouse Dr\, El Dorado\, AR\, 71730\, United States
CATEGORIES:Clubs/Organizations,Education,Recreation & Sports
ATTACH;FMTTYPE=image/jpeg:https://www.goeldorado.com/wp-content/uploads/2023/09/wildcat-golf-tournament.jpg
END:VEVENT
BEGIN:VEVENT
DTSTART;TZID=America/Chicago:20231006T170000
DTEND;TZID=America/Chicago:20231006T190000
DTSTAMP:20260422T060534
CREATED:20231006T132105Z
LAST-MODIFIED:20231006T132105Z
UID:10014643-1696611600-1696618800@www.goeldorado.com
SUMMARY:Boomer Hill Band LIVE @ Hills
DESCRIPTION:
URL:https://www.goeldorado.com/event/boomer-hill-band-live-hills/
LOCATION:Hills pool Hall\, 205 E Cedar St\, El Dorado\, AR\, 71730\, United States
CATEGORIES:Festivals & Celebrations,Live Music
ATTACH;FMTTYPE=image/jpeg:https://www.goeldorado.com/wp-content/uploads/2023/10/384761860_986546759177002_2463510545415881865_n.jpg
END:VEVENT
BEGIN:VEVENT
DTSTART;TZID=America/Chicago:20231006T190000
DTEND;TZID=America/Chicago:20231006T220000
DTSTAMP:20260422T060534
CREATED:20230629T203912Z
LAST-MODIFIED:20230629T203912Z
UID:10014438-1696618800-1696629600@www.goeldorado.com
SUMMARY:EHS Wildcat home game vs. West Memphis
DESCRIPTION:
URL:https://www.goeldorado.com/event/ehs-wildcat-home-game-vs-west-memphis/
LOCATION:Memorial Stadium\, N West Ave\, El Dorado\, AR\, 71730\, United States
CATEGORIES:Community,Education,Family and Children,Recreation & Sports
END:VEVENT
BEGIN:VEVENT
DTSTART;TZID=America/Chicago:20231006T200000
DTEND;TZID=America/Chicago:20231006T220000
DTSTAMP:20260422T060534
CREATED:20231006T132002Z
LAST-MODIFIED:20231006T132002Z
UID:10014642-1696622400-1696629600@www.goeldorado.com
SUMMARY:Saving for Tuesday LIVE @ Hills
DESCRIPTION:
URL:https://www.goeldorado.com/event/saving-for-tuesday-live-hills/
LOCATION:Hills pool Hall\, 205 E Cedar St\, El Dorado\, AR\, 71730\, United States
CATEGORIES:Festivals & Celebrations,Live Music
ATTACH;FMTTYPE=image/jpeg:https://www.goeldorado.com/wp-content/uploads/2023/10/376402743_826739696001557_4968936381313296574_n.jpg
END:VEVENT
BEGIN:VEVENT
DTSTART;TZID=America/Chicago:20231007T080000
DTEND;TZID=America/Chicago:20231007T110000
DTSTAMP:20260422T060534
CREATED:20230414T212537Z
LAST-MODIFIED:20230626T140535Z
UID:10014358-1696665600-1696676400@www.goeldorado.com
SUMMARY:Farmers Market at MAD
DESCRIPTION:Shop local vendors at the MAD Amphitheater!
URL:https://www.goeldorado.com/event/farmers-market-at-mad-3/2023-10-07/
CATEGORIES:Arts & Culture,Community,Family and Children
ATTACH;FMTTYPE=image/jpeg:https://www.goeldorado.com/wp-content/uploads/2023/04/famersmarketevent.jpg
END:VEVENT
END:VCALENDAR