BEGIN:VCALENDAR
VERSION:2.0
PRODID:-//El Dorado, Arkansas - ECPv6.15.20//NONSGML v1.0//EN
CALSCALE:GREGORIAN
METHOD:PUBLISH
X-ORIGINAL-URL:https://www.goeldorado.com
X-WR-CALDESC:Events for El Dorado, Arkansas
REFRESH-INTERVAL;VALUE=DURATION:PT1H
X-Robots-Tag:noindex
X-PUBLISHED-TTL:PT1H
BEGIN:VTIMEZONE
TZID:America/Chicago
BEGIN:DAYLIGHT
TZOFFSETFROM:-0600
TZOFFSETTO:-0500
TZNAME:CDT
DTSTART:20230312T080000
END:DAYLIGHT
BEGIN:STANDARD
TZOFFSETFROM:-0500
TZOFFSETTO:-0600
TZNAME:CST
DTSTART:20231105T070000
END:STANDARD
BEGIN:DAYLIGHT
TZOFFSETFROM:-0600
TZOFFSETTO:-0500
TZNAME:CDT
DTSTART:20240310T080000
END:DAYLIGHT
BEGIN:STANDARD
TZOFFSETFROM:-0500
TZOFFSETTO:-0600
TZNAME:CST
DTSTART:20241103T070000
END:STANDARD
BEGIN:DAYLIGHT
TZOFFSETFROM:-0600
TZOFFSETTO:-0500
TZNAME:CDT
DTSTART:20250309T080000
END:DAYLIGHT
BEGIN:STANDARD
TZOFFSETFROM:-0500
TZOFFSETTO:-0600
TZNAME:CST
DTSTART:20251102T070000
END:STANDARD
END:VTIMEZONE
BEGIN:VEVENT
DTSTART;VALUE=DATE:20240413
DTEND;VALUE=DATE:20240415
DTSTAMP:20260420T054150
CREATED:20240201T161605Z
LAST-MODIFIED:20240205T195312Z
UID:10018225-1712966400-1713139199@www.goeldorado.com
SUMMARY:Pickleball Tournament Benefitting South Arkansas Children's Coalition
DESCRIPTION:
URL:https://www.goeldorado.com/event/pickleball-tournament-benefitting-south-arkansas-childrens-coalition/
LOCATION:El Dorado Country Club\, 101 Shady Side St\, El Dorado\, 717303\, United States
CATEGORIES:Clubs/Organizations,Family and Children,Recreation & Sports
ATTACH;FMTTYPE=image/jpeg:https://www.goeldorado.com/wp-content/uploads/2024/02/pickle-ball-CASA-scaled.jpg
END:VEVENT
BEGIN:VEVENT
DTSTART;TZID=America/Chicago:20240413T100000
DTEND;TZID=America/Chicago:20240413T113000
DTSTAMP:20260420T054150
CREATED:20240313T135858Z
LAST-MODIFIED:20240315T145525Z
UID:10018707-1713002400-1713007800@www.goeldorado.com
SUMMARY:Portrait Photography Workshop
DESCRIPTION:Help us celebrate Arts in April at SouthArk by joining us for a Portrait Photography Workshop! Learn the tips and tricks of taking professional portraits from a local artist and photographer\, Lisa Tarver. \nWhile this event is free\, we do have limited spots available\, so be sure to use the link to register for the class! \nPARTICIPANTS WILL NEED TO BRING THEIR OWN CAMERA OR PHONE TO TAKE PHOTOS. ATTENDEES WILL NEED TO BRING A PERSON TO PHOTOGRAPH. SPACE IS LIMITED TO 10 GROUPS OF 2\, SO SIGN UP AND BRING A FRIEND TO PRACTICE YOUR PORTRAIT-TAKING SKILLS!
URL:https://www.goeldorado.com/event/portrait-photography-workshop/
CATEGORIES:Arts & Culture,Community,Education,Family and Children,Schools
ATTACH;FMTTYPE=image/png:https://www.goeldorado.com/wp-content/uploads/2024/03/2024-Portrait-Photography-Workshop-Arts-in-April.png
END:VEVENT
BEGIN:VEVENT
DTSTART;TZID=America/Chicago:20240413T100000
DTEND;TZID=America/Chicago:20240413T140000
DTSTAMP:20260420T054150
CREATED:20240308T214053Z
LAST-MODIFIED:20240311T161055Z
UID:10018702-1713002400-1713016800@www.goeldorado.com
SUMMARY:Autism and Mental Health Awareness EXPO
DESCRIPTION:Everyone is invited for a FREE FAMILY & FRIEND FUN DAY- PAINTING IN THE PARK FOR A CAUSE!\nThere will be guest speakers on Mental Health and Autism\, art\, authors of children books\, live entertainment\, food\, vendor resources\, prizes\, and a balloon release!\nOur goal is to bring together the provider and families that need these resources.\nYou can help by donating to organizations of your choice that provide services for individuals with Autism. We will have a list of Autism Providers and how to donate to their organization. We welcome you to be a part of this event. If your organization provides service for Autism and Mental Health for any age: such as\, disabilities services\, education\, leisure activities\, job training\, in home services\, respite care\, housing\, therapy\, transportation\, inpatient\, outpatient\, day treatment\, insurance\, health lifestyle\, support groups\, etc. \nVendors interest in setting up an exhibitor’s booth may contact me at:\nBetty Fuller- Morgan\nEmail: bettymorgan41@yahoo.com\nMailing address: P.O. box 246 Smackover\, AR 71762\nPhone 870-818-3486\nor\nMary Snowden-Jackson\nEmail: mae_71731@yahoo.com \nThe registration fee is a donation to an Autism organization or provider of your choice that is making a\ndifference.\nWe have forms to be completed and RSVP before April 1\, 2024. Space is limit.\nVolunteers and donations are welcome!
URL:https://www.goeldorado.com/event/autism-and-mental-health-awareness-expo/
LOCATION:smackover park\, Broadway\, Smackover\, AR\, 71730\, United States
CATEGORIES:Arts & Culture,Community,Family and Children,Festivals & Celebrations,Live Music
END:VEVENT
BEGIN:VEVENT
DTSTART;TZID=America/Chicago:20240413T133000
DTEND;TZID=America/Chicago:20240413T143000
DTSTAMP:20260420T054150
CREATED:20240112T155253Z
LAST-MODIFIED:20240119T162359Z
UID:10017781-1713015000-1713018600@www.goeldorado.com
SUMMARY:Weekend tinkering @ the Museum
DESCRIPTION:If you are looking for a fun and educational activity that will challenge and inspire your child\, Weekend Tinkering at the Arkansas Museum of Natural Resources is a perfect choice for you. Through a variety of programs each month\, participants will have the opportunity to expand their understanding of the 1920s Oil Boom of south Arkansas using STEM (science\, technology\, engineering\, and math) concepts in fun and engaging ways. Sign-up today and see what your child can create. Weekend Tinkering is for ages five and up with a beginner or higher skill level\, and it’s FREE! \n  \nFor details and registration\, please contact Paige Creed at the museum. 870.725.2877 or paige.creed@arkansas.gov
URL:https://www.goeldorado.com/event/weekend-tinkering-the-museum/2024-04-13/
LOCATION:Arkansas Museum of Natural Resources\, 4087 Smackover Hwy\, Smackover\, AR\, 71730\, United States
CATEGORIES:Family and Children
END:VEVENT
BEGIN:VEVENT
DTSTART;TZID=America/Chicago:20240413T160000
DTEND;TZID=America/Chicago:20240413T173000
DTSTAMP:20260420T054150
CREATED:20240318T202001Z
LAST-MODIFIED:20240318T202001Z
UID:10018737-1713024000-1713029400@www.goeldorado.com
SUMMARY:Zerbini Family Big Top Circus @ Union County Fair Grounds
DESCRIPTION:A Real Circus under the Big Top  is coming to El Dorado\, AR –\nThu\, Apr 11th – Sun\, Apr 14th at Union County Fairgrounds.\nUnder the Big Top! – Union County Fairgrounds 1430 E 19th Street\, El Dorado\, AR 71730\n Showtimes\nThursday\, April 11th: 6:00PM\nFriday\, April 12th: 5:00PM & 7:00PM\nSaturday\, April 13th: 4:00PM & 6:00PM\nSunday\, April 14th: 3:00PM\nA 90 minute performance under the Big Top\,  Seating is general admission on bleacher seats Doors open one hour before the show we take both cash or credit at the Circus \nYou can purchase limited advance tickets  at our website ZerbiniFamilyCircus.com/ or at the Circus entrance while seats are available\n*online ticket sales are limited and  the day of the show 90mins before showtime\nEarly special available when you BUY ONLINE!\nLearn more today >>> ZerbiniFamilyCircus.com/\n 
URL:https://www.goeldorado.com/event/zerbini-family-big-top-circus-union-county-fair-grounds-2/
LOCATION:Union County Fair Grounds\, 430 E 19th St\, El Dorado\, AR\, 71730\, United States
CATEGORIES:Community,Family and Children
END:VEVENT
BEGIN:VEVENT
DTSTART;TZID=America/Chicago:20240413T170000
DTEND;TZID=America/Chicago:20240413T213000
DTSTAMP:20260420T054150
CREATED:20230123T171108Z
LAST-MODIFIED:20230123T171108Z
UID:10011058-1713027600-1713043800@www.goeldorado.com
SUMMARY:Bingo @ The VFW
DESCRIPTION:The VFW will be hosting BINGO! Every Saturday night. \nQuarter Bingo starts at 5pm \nRegular Bingo starts at 7pm
URL:https://www.goeldorado.com/event/bingo-the-vfw/2024-04-13/
LOCATION:VFW\, 451 Industrial Rd\, El Dorado\, AR\, 71730\, United States
CATEGORIES:Clubs/Organizations,Community,Recreation & Sports
END:VEVENT
BEGIN:VEVENT
DTSTART;TZID=America/Chicago:20240413T180000
DTEND;TZID=America/Chicago:20240413T193000
DTSTAMP:20260420T054150
CREATED:20240318T202058Z
LAST-MODIFIED:20240318T202058Z
UID:10018738-1713031200-1713036600@www.goeldorado.com
SUMMARY:Zerbini Family Big Top Circus @ Union County Fair Grounds
DESCRIPTION:A Real Circus under the Big Top  is coming to El Dorado\, AR –\nThu\, Apr 11th – Sun\, Apr 14th at Union County Fairgrounds.\nUnder the Big Top! – Union County Fairgrounds 1430 E 19th Street\, El Dorado\, AR 71730\n Showtimes\nThursday\, April 11th: 6:00PM\nFriday\, April 12th: 5:00PM & 7:00PM\nSaturday\, April 13th: 4:00PM & 6:00PM\nSunday\, April 14th: 3:00PM\nA 90 minute performance under the Big Top\,  Seating is general admission on bleacher seats Doors open one hour before the show we take both cash or credit at the Circus \nYou can purchase limited advance tickets  at our website ZerbiniFamilyCircus.com/ or at the Circus entrance while seats are available\n*online ticket sales are limited and  the day of the show 90mins before showtime\nEarly special available when you BUY ONLINE!\nLearn more today >>> ZerbiniFamilyCircus.com/
URL:https://www.goeldorado.com/event/zerbini-family-big-top-circus-union-county-fair-grounds-3/
LOCATION:Union County Fair Grounds\, 430 E 19th St\, El Dorado\, AR\, 71730\, United States
CATEGORIES:Community,Family and Children
END:VEVENT
BEGIN:VEVENT
DTSTART;TZID=America/Chicago:20240413T200000
DTEND;TZID=America/Chicago:20240413T220000
DTSTAMP:20260420T054150
CREATED:20240123T222115Z
LAST-MODIFIED:20240123T222115Z
UID:10017801-1713038400-1713045600@www.goeldorado.com
SUMMARY:Brooklyn Fogle LIVE @ DPs Food Truck Park
DESCRIPTION:
URL:https://www.goeldorado.com/event/brooklyn-fogle-live-dps-food-truck-park/
LOCATION:DP’s Food Truck Court\, 2117 N College Ave\, 2117 N College Ave\, El Dorado\, AR\, 71730\, United States
CATEGORIES:Community,Family and Children,Live Music
END:VEVENT
BEGIN:VEVENT
DTSTART;TZID=America/Chicago:20240414T150000
DTEND;TZID=America/Chicago:20240414T163000
DTSTAMP:20260420T054150
CREATED:20240318T202134Z
LAST-MODIFIED:20240318T202148Z
UID:10018739-1713106800-1713112200@www.goeldorado.com
SUMMARY:Zerbini Family Big Top Circus @ Union County Fair Grounds
DESCRIPTION:  \nA Real Circus under the Big Top  is coming to El Dorado\, AR –\nThu\, Apr 11th – Sun\, Apr 14th at Union County Fairgrounds.\nUnder the Big Top! – Union County Fairgrounds 1430 E 19th Street\, El Dorado\, AR 71730\n Showtimes\nThursday\, April 11th: 6:00PM\nFriday\, April 12th: 5:00PM & 7:00PM\nSaturday\, April 13th: 4:00PM & 6:00PM\nSunday\, April 14th: 3:00PM\nA 90 minute performance under the Big Top\,  Seating is general admission on bleacher seats Doors open one hour before the show we take both cash or credit at the Circus \nYou can purchase limited advance tickets  at our website ZerbiniFamilyCircus.com/ or at the Circus entrance while seats are available\n*online ticket sales are limited and  the day of the show 90mins before showtime\nEarly special available when you BUY ONLINE!\nLearn more today >>> ZerbiniFamilyCircus.com/
URL:https://www.goeldorado.com/event/zerbini-family-big-top-circus-union-county-fair-grounds-4/
LOCATION:Union County Fair Grounds\, 430 E 19th St\, El Dorado\, AR\, 71730\, United States
CATEGORIES:Community,Family and Children
END:VEVENT
BEGIN:VEVENT
DTSTART;TZID=America/Chicago:20240415T140000
DTEND;TZID=America/Chicago:20240415T143000
DTSTAMP:20260420T054150
CREATED:20240401T153324Z
LAST-MODIFIED:20240401T153324Z
UID:10018756-1713189600-1713191400@www.goeldorado.com
SUMMARY:Ribbon Cutting: Magnolia Advisor Group Ameriprise
DESCRIPTION:
URL:https://www.goeldorado.com/event/ecumenical-holy-week-worship-services-3-2/
LOCATION:Magnolia Advisor Group Ameriprise\, 3256 W Hillsboro\, El Dorado\, AR\, 71730
CATEGORIES:Business,Chamber Of Commerce
ATTACH;FMTTYPE=image/png:https://www.goeldorado.com/wp-content/uploads/2024/04/ribbon-Cutting-6.png
END:VEVENT
BEGIN:VEVENT
DTSTART;TZID=America/Chicago:20240415T153000
DTEND;TZID=America/Chicago:20240415T163000
DTSTAMP:20260420T054150
CREATED:20240415T150858Z
LAST-MODIFIED:20240415T150858Z
UID:10018839-1713195000-1713198600@www.goeldorado.com
SUMMARY:Grand Opening new Pickleball & Tennis Courts @ Mellor Park
DESCRIPTION:
URL:https://www.goeldorado.com/event/grand-opening-new-pickleball-tennis-courts-mellor-park/
LOCATION:Mellor Park\, Euclid & 4th st\, El Dorado\, AR\, 71730
CATEGORIES:Community,Family and Children,Recreation & Sports
ATTACH;FMTTYPE=image/png:https://www.goeldorado.com/wp-content/uploads/2024/04/Grandrreopening-3.png
END:VEVENT
BEGIN:VEVENT
DTSTART;TZID=America/Chicago:20240415T180000
DTEND;TZID=America/Chicago:20240415T193000
DTSTAMP:20260420T054150
CREATED:20240313T140857Z
LAST-MODIFIED:20240315T145841Z
UID:10018708-1713204000-1713209400@www.goeldorado.com
SUMMARY:Swift Speak: A Lyrical Analysis of Taylor Swift's Songs
DESCRIPTION:Help us celebrate Arts in April at South Arkansas College by joining us for a Taylor Swift lecture and workshop led by LA Tech Instructor\, Joseph Clark. \nJoin us as we delve into the captivating storytelling and powerful rhetoric behind Taylor Swift’s iconic songs. Explore the themes\, symbolism\, and emotional depth woven into her lyrics\, and discover the artistry behind her music. \nTo add to the fun\, we encourage participants to come dressed in their favorite era costumes inspired by Taylor Swift’s evolving style throughout her career. Bring your friendship bracelets to trade\, or join us at 5 pm in the library to make special SouthArk friendship bracelets. Whether you’re a fan of her country roots\, pop anthems\, or latest indie vibes\, let’s celebrate the magic of Taylor Swift’s music together!
URL:https://www.goeldorado.com/event/swift-speak-a-lyrical-analysis-of-taylor-swifts-songs/
CATEGORIES:Arts & Culture,Community,Education,Family and Children,Schools
ATTACH;FMTTYPE=image/png:https://www.goeldorado.com/wp-content/uploads/2024/03/T.-Swift-Speak.png
END:VEVENT
BEGIN:VEVENT
DTSTART;TZID=America/Chicago:20240416T173000
DTEND;TZID=America/Chicago:20240416T183000
DTSTAMP:20260420T054150
CREATED:20240306T213032Z
LAST-MODIFIED:20240306T221148Z
UID:10018696-1713288600-1713292200@www.goeldorado.com
SUMMARY:2024 Arts in Education Showcase Reception @ South Arkansas Arts Center
DESCRIPTION:A festive reception honoring the exhibition of work done by student artists in the Arts in Education Program\, in which teaching artists Maria Villegas\, Jorge Villegas\, Lisa Burton Tarver\, and Mike Means work with classroom teachers and students in the public schools.
URL:https://www.goeldorado.com/event/2024-arts-in-education-showcase-reception-south-arkansas-arts-center/
LOCATION:South Arkansas Arts Center
CATEGORIES:Arts & Culture
END:VEVENT
BEGIN:VEVENT
DTSTART;TZID=America/Chicago:20240417T130000
DTEND;TZID=America/Chicago:20240417T140000
DTSTAMP:20260420T054150
CREATED:20240415T150754Z
LAST-MODIFIED:20240416T161640Z
UID:10018841-1713358800-1713362400@www.goeldorado.com
SUMMARY:Union County 100 Families Alliance Meeting
DESCRIPTION:Union County 100 Families is a community-led initiative to help families move from crisis to career using existing community resources by engaging community partners in an alliance\, training agencies on a collaborative case management system\, and recruiting case managers to respond when a family is in crisis. \nThe alliance meeting is a panel discussion highlighting the existing community resources and community partners.
URL:https://www.goeldorado.com/event/union-county-100-families-alliance-meeting-2/
LOCATION:Simmons Bank\, 100 W Grove St 2nd floor\, El Dorado\, AR\, 71730\, United States
CATEGORIES:Community
END:VEVENT
BEGIN:VEVENT
DTSTART;TZID=America/Chicago:20240418T093000
DTEND;TZID=America/Chicago:20240418T120000
DTSTAMP:20260420T054150
CREATED:20240306T220207Z
LAST-MODIFIED:20240306T221535Z
UID:10018701-1713432600-1713441600@www.goeldorado.com
SUMMARY:UAMS Art for Parkinson's Disease Patients and Caregivers
DESCRIPTION:Patients with Parkinson’s Disease and their caregivers are invited to join Suzanne Dhall of UAMS for an art workshop.
URL:https://www.goeldorado.com/event/uams-art-for-parkinsons-disease-patients-and-caregivers/
LOCATION:South Arkansas Arts Center
CATEGORIES:Arts & Culture
ATTACH;FMTTYPE=image/png:https://www.goeldorado.com/wp-content/uploads/2024/03/ArtforPDeldoradoflyer.png
END:VEVENT
BEGIN:VEVENT
DTSTART;TZID=America/Chicago:20240418T120000
DTEND;TZID=America/Chicago:20240418T140000
DTSTAMP:20260420T054150
CREATED:20240313T143231Z
LAST-MODIFIED:20240315T145933Z
UID:10018709-1713441600-1713448800@www.goeldorado.com
SUMMARY:Poetry Slam
DESCRIPTION:Help us celebrate Arts in April at South Arkansas College by joining us for a Poetry Slam in the Outer Space! \nCalling all poets and wordsmiths! Join us for an afternoon of spoken word at the SouthArk Poetry Slam. Open to SouthArk students\, faculty\, staff\, and community members alike. \nMark your calendars and get ready to slam your way into the spotlight! \n  \nDon’t miss our ‘Exploring Verse’ poetry workshop on April 2nd – the perfect opportunity to prepare and polish your performance.
URL:https://www.goeldorado.com/event/poetry-slam/
CATEGORIES:Arts & Culture,Community,Education,Family and Children,Schools
ATTACH;FMTTYPE=image/png:https://www.goeldorado.com/wp-content/uploads/2024/03/Poetry-SLAM-Arts-in-April.png
END:VEVENT
BEGIN:VEVENT
DTSTART;TZID=America/Chicago:20240418T163000
DTEND;TZID=America/Chicago:20240418T180000
DTSTAMP:20260420T054150
CREATED:20240402T033222Z
LAST-MODIFIED:20240403T141535Z
UID:10018833-1713457800-1713463200@www.goeldorado.com
SUMMARY:Magdalene House Shrimp Boil Fundraiser
DESCRIPTION:Shrimply the BEST!  Please support Magdalene House spring Shrimp Boil.  You can purchase online at magdaleneeldo.org or purchase your ticket by calling 870-310-1288. $25 for 1 pound of shrimp\, corn\, and potatoes. Cocktail sauce included.  Family size $90 for 4 pounds of shrimp\, corn\, and potatoes.  Cocktail sauce included. Thank you for being a part of our story.
URL:https://www.goeldorado.com/event/magdalene-house-shrimp-boil-fundraiser/
CATEGORIES:Clubs/Organizations
ATTACH;FMTTYPE=image/jpeg:https://www.goeldorado.com/wp-content/uploads/2024/04/IMG_3251.jpg
END:VEVENT
BEGIN:VEVENT
DTSTART;TZID=America/Chicago:20240418T193000
DTEND;TZID=America/Chicago:20240419T213000
DTSTAMP:20260420T054150
CREATED:20240306T215401Z
LAST-MODIFIED:20240306T221408Z
UID:10018700-1713468600-1713562200@www.goeldorado.com
SUMMARY:The Odd Couple @ South Arkansas Arts Center
DESCRIPTION:SAAC’s Second Stage players will present Neil Simon’s classic comedy “The Odd Couple.”
URL:https://www.goeldorado.com/event/the-odd-couple-south-arkansas-arts-center/
LOCATION:South Arkansas Arts Center
CATEGORIES:Arts & Culture
END:VEVENT
BEGIN:VEVENT
DTSTART;TZID=America/Chicago:20240420T080000
DTEND;TZID=America/Chicago:20240420T093000
DTSTAMP:20260420T054150
CREATED:20240130T172240Z
LAST-MODIFIED:20240130T172240Z
UID:10018191-1713600000-1713605400@www.goeldorado.com
SUMMARY:UCAPS Race for the Rescues
DESCRIPTION:  \n  \nJoin us for a paw-some 5K & 1 Mile Dog Walk\, benefiting our beloved UCAPS! Lace up your running shoes or grab your leash and let’s hit the road together! \nDate: April 20\, 2024\nTime: 8:00 am\nLocation: 201 North Jackson\nWhether you’re a seasoned runner\, a casual walker\, or simply an animal lover\, this event is for YOU. \nwww.runsignup.com/Race/AR/ElDorado/UCAPSRacefortheRescues
URL:https://www.goeldorado.com/event/ucaps-race-for-the-rescues-2/
LOCATION:UCAPS
CATEGORIES:Clubs/Organizations,Community,Family and Children,Recreation & Sports
ATTACH;FMTTYPE=image/jpeg:https://www.goeldorado.com/wp-content/uploads/2024/01/424804974_10229755574507296_7662679276349513373_n.jpg
END:VEVENT
BEGIN:VEVENT
DTSTART;TZID=America/Chicago:20240420T170000
DTEND;TZID=America/Chicago:20240420T213000
DTSTAMP:20260420T054150
CREATED:20230123T171108Z
LAST-MODIFIED:20230123T171108Z
UID:10011059-1713632400-1713648600@www.goeldorado.com
SUMMARY:Bingo @ The VFW
DESCRIPTION:The VFW will be hosting BINGO! Every Saturday night. \nQuarter Bingo starts at 5pm \nRegular Bingo starts at 7pm
URL:https://www.goeldorado.com/event/bingo-the-vfw/2024-04-20/
LOCATION:VFW\, 451 Industrial Rd\, El Dorado\, AR\, 71730\, United States
CATEGORIES:Clubs/Organizations,Community,Recreation & Sports
END:VEVENT
BEGIN:VEVENT
DTSTART;TZID=America/Chicago:20240420T171500
DTEND;TZID=America/Chicago:20240420T223000
DTSTAMP:20260420T054150
CREATED:20240227T150407Z
LAST-MODIFIED:20240227T150407Z
UID:10018680-1713633300-1713652200@www.goeldorado.com
SUMMARY:Rockin' for Alexis! Squint\, Charley Hankins\, Dave Almond\, Chris Loggins\, Trey Johnson & Friends LIVE at MadHouse 101
DESCRIPTION:
URL:https://www.goeldorado.com/event/rockin-for-alexis-squint-charley-hankins-dave-almond-chris-loggins-trey-johnson-friends-live-at-madhouse-101/
LOCATION:MAD House 101 Restuarant and Bar\, 101 E Locust\, El Dorado\, AR\, 71730\, United States
CATEGORIES:Live Music
ATTACH;FMTTYPE=image/jpeg:https://www.goeldorado.com/wp-content/uploads/2024/02/428661868_425766056491730_4760767700051862643_n.jpg
END:VEVENT
BEGIN:VEVENT
DTSTART;TZID=America/Chicago:20240420T180000
DTEND;TZID=America/Chicago:20240420T200000
DTSTAMP:20260420T054150
CREATED:20240123T222211Z
LAST-MODIFIED:20240123T222211Z
UID:10017802-1713636000-1713643200@www.goeldorado.com
SUMMARY:West Miller LIVE @ DPs Food Truck Park
DESCRIPTION:
URL:https://www.goeldorado.com/event/west-miller-live-dps-food-truck-park/
LOCATION:DP’s Food Truck Court\, 2117 N College Ave\, 2117 N College Ave\, El Dorado\, AR\, 71730\, United States
CATEGORIES:Business,Community,Family and Children,Live Music
END:VEVENT
BEGIN:VEVENT
DTSTART;TZID=America/Chicago:20240421T140000
DTEND;TZID=America/Chicago:20240421T180000
DTSTAMP:20260420T054150
CREATED:20240315T143549Z
LAST-MODIFIED:20240315T150019Z
UID:10018710-1713708000-1713722400@www.goeldorado.com
SUMMARY:One City Serve Day #1 at Newhaven
DESCRIPTION:Join us as we partner with Newhaven Counseling to work on their new facility at 2301 Champagnolle Rd\, El Dorado\, AR 71730. For this project\, we will be inside deep cleaning/sanitizing the facility\, removing old furniture\, installing additional shelves\, and putting together beds. Items that we need you to bring: mops\, swiffers\, vacuums\, gloves for cleaning\, electric drills\, and anything else that makes cleaning easier.
URL:https://www.goeldorado.com/event/one-city-serve-day-1-at-newhaven/
CATEGORIES:Community
ATTACH;FMTTYPE=image/png:https://www.goeldorado.com/wp-content/uploads/2024/03/OneCityLogoMain.png
END:VEVENT
BEGIN:VEVENT
DTSTART;TZID=America/Chicago:20240423T173000
DTEND;TZID=America/Chicago:20240423T190000
DTSTAMP:20260420T054150
CREATED:20240417T203231Z
LAST-MODIFIED:20240417T203231Z
UID:10018842-1713893400-1713898800@www.goeldorado.com
SUMMARY:Business After Hours: CARTI Cancer Center
DESCRIPTION:
URL:https://www.goeldorado.com/event/business-after-hours-carti-cancer-center/
LOCATION:Carti Canter Center\, 1601 N West AVe\, El Dorado
CATEGORIES:Business,Chamber Of Commerce
ATTACH;FMTTYPE=image/png:https://www.goeldorado.com/wp-content/uploads/2024/04/BAH-Carti.png
END:VEVENT
BEGIN:VEVENT
DTSTART;TZID=America/Chicago:20240424T113000
DTEND;TZID=America/Chicago:20240424T130000
DTSTAMP:20260420T054150
CREATED:20231211T221717Z
LAST-MODIFIED:20231211T221717Z
UID:10016610-1713958200-1713963600@www.goeldorado.com
SUMMARY:Admin Professionals Luncheon
DESCRIPTION:more details coming soon
URL:https://www.goeldorado.com/event/admin-professionals-luncheon/
LOCATION:El Dorado Golf & Country Club\, 101 Shady Side St\, El Dorado A\, AR\, 71730
CATEGORIES:Business,Chamber Of Commerce
END:VEVENT
BEGIN:VEVENT
DTSTART;TZID=America/Chicago:20240424T120000
DTEND;TZID=America/Chicago:20240424T133000
DTSTAMP:20260420T054150
CREATED:20240319T140710Z
LAST-MODIFIED:20240321T145156Z
UID:10018744-1713960000-1713965400@www.goeldorado.com
SUMMARY:Lunch & Learn - The Future of Storytelling: Insights from Local Authors
DESCRIPTION:Help us celebrate Arts in April at South Arkansas College by joining us at the Mahony Family Library for our Lunch Lecture Series featuring a panel of local authors offering an enriching exploration into the world of storytelling. \nDelve into the creative minds of esteemed writers from our community as they share invaluable insights on the writing process\, navigating the publishing industry\, and the art of illustration in children’s books. Whether you’re an aspiring author\, an avid reader\, or simply intrigued by the magic of storytelling\, this event promises to inspire and inform. \nDon’t miss this opportunity to gain firsthand knowledge and connect with the future of storytelling! \nPanelists:  \nShaneil “PJ” Yarbrough – Author\, Educator\, and Speaker \nDr. Steve Smart – Retired Oral & Maxillofacial Surgeon and Author \nRamona Wood – Children’s Book Author & Illustrator \nHeath Waldrop – Director\, Marketing & Public Relations at SouthArk \n  \nPanel Facilitator / Emcee: Steve Biernacki\, Executive Director of the South Arkansas Historical Preservation Society
URL:https://www.goeldorado.com/event/lunch-learn-the-future-of-storytelling-insights-from-local-authors/
CATEGORIES:Arts & Culture,Business,Community,Education,Family and Children,Schools
ATTACH;FMTTYPE=image/png:https://www.goeldorado.com/wp-content/uploads/2024/03/Future-of-Storytelling.png
END:VEVENT
BEGIN:VEVENT
DTSTART;TZID=America/Chicago:20240424T133000
DTEND;TZID=America/Chicago:20240424T143000
DTSTAMP:20260420T054150
CREATED:20240202T153524Z
LAST-MODIFIED:20240202T153524Z
UID:10018281-1713965400-1713969000@www.goeldorado.com
SUMMARY:Wednesday of Wonder @ Barton Library
DESCRIPTION:Wed
URL:https://www.goeldorado.com/event/wednesday-of-wonder-barton-library/2024-04-24/
LOCATION:Barton Library\, 200 E 5th\, El Dorado\, AR\, 71730\, United States
CATEGORIES:Arts & Culture,Community,Education,Family and Children
ATTACH;FMTTYPE=image/jpeg:https://www.goeldorado.com/wp-content/uploads/2024/02/423583792_689582633381336_6789171151967273724_n.jpg
ORGANIZER;CN="Barton Library":MAILTO:eldorado@ucpls.org
END:VEVENT
BEGIN:VEVENT
DTSTART;VALUE=DATE:20240425
DTEND;VALUE=DATE:20240430
DTSTAMP:20260420T054150
CREATED:20240103T175732Z
LAST-MODIFIED:20240103T195110Z
UID:10017750-1714003200-1714435199@www.goeldorado.com
SUMMARY:7th Annual Airstreams on the Square
DESCRIPTION:An urban camping experience that brings Airstream campers from all of the United States to camp around our courthouse.  They dine\, shop\, eat\, stay and play for 4 days in Downtown\nEl Dorado!
URL:https://www.goeldorado.com/event/7th-annual-airstreams-on-the-square/
LOCATION:Downtown El Dorado\, 101 N. Washington\, El Dorado\, AR\, 71730
CATEGORIES:Arts & Culture,Business,Chamber Of Commerce,Clubs/Organizations,Community,Festivals & Celebrations,Live Music,Recreation & Sports
ATTACH;FMTTYPE=image/jpeg:https://www.goeldorado.com/wp-content/uploads/2024/01/Airstream-Logo.jpg
END:VEVENT
BEGIN:VEVENT
DTSTART;TZID=America/Chicago:20240425T200000
DTEND;TZID=America/Chicago:20240425T220000
DTSTAMP:20260420T054150
CREATED:20240424T223118Z
LAST-MODIFIED:20240503T194632Z
UID:10018848-1714075200-1714082400@www.goeldorado.com
SUMMARY:Boomer Hill Band at MAD House 101
DESCRIPTION:
URL:https://www.goeldorado.com/event/boomer-hill-band-at-mad-house-101/
LOCATION:MAD House 101 Restuarant and Bar\, 101 E Locust\, El Dorado\, AR\, 71730\, United States
CATEGORIES:Live Music
ATTACH;FMTTYPE=image/jpeg:https://www.goeldorado.com/wp-content/uploads/2024/04/BHBMADHOUSECOVER.jpg
END:VEVENT
BEGIN:VEVENT
DTSTART;VALUE=DATE:20240426
DTEND;VALUE=DATE:20240428
DTSTAMP:20260420T054150
CREATED:20240112T202458Z
LAST-MODIFIED:20240119T161223Z
UID:10017777-1714089600-1714262399@www.goeldorado.com
SUMMARY:Home Improvement Expo
DESCRIPTION:Find Experts\, Inspiration & More\nAt the Home Improvement Expo\, our goal is simple: to inspire\, motivate and excite you for your upcoming home improvement – whether it’s a minor renovation or a major remodel. \nOur events feature a wide selection of home improvement professionals in a fun\, interactive environment. After meeting with and comparing our expert exhibitors\, we know you’ll be inspired and motivated to start planning with confidence. More importantly\, we want you to be excited for all the fantastic possibilities that come with your project! \nWhen it’s all said and done and you’re ready to celebrate your home\, we’ll do a little celebrating ourselves\, knowing we had some part in it.
URL:https://www.goeldorado.com/event/home-improvement-expo/
LOCATION:El Dorado Conference Center\, 311 S West Ave\, El Dorado\, 71730\, United States
CATEGORIES:Community
ATTACH;FMTTYPE=image/jpeg:https://www.goeldorado.com/wp-content/uploads/2024/01/BizBuz-ChamberCalendar-2024.jpg
ORGANIZER;CN="Biz Buz Events":MAILTO:tammy@bizbuzevents.com
END:VEVENT
END:VCALENDAR