BEGIN:VCALENDAR
VERSION:2.0
PRODID:-//El Dorado, Arkansas - ECPv6.15.20//NONSGML v1.0//EN
CALSCALE:GREGORIAN
METHOD:PUBLISH
X-WR-CALNAME:El Dorado, Arkansas
X-ORIGINAL-URL:https://www.goeldorado.com
X-WR-CALDESC:Events for El Dorado, Arkansas
REFRESH-INTERVAL;VALUE=DURATION:PT1H
X-Robots-Tag:noindex
X-PUBLISHED-TTL:PT1H
BEGIN:VTIMEZONE
TZID:America/Chicago
BEGIN:DAYLIGHT
TZOFFSETFROM:-0600
TZOFFSETTO:-0500
TZNAME:CDT
DTSTART:20220313T080000
END:DAYLIGHT
BEGIN:STANDARD
TZOFFSETFROM:-0500
TZOFFSETTO:-0600
TZNAME:CST
DTSTART:20221106T070000
END:STANDARD
BEGIN:DAYLIGHT
TZOFFSETFROM:-0600
TZOFFSETTO:-0500
TZNAME:CDT
DTSTART:20230312T080000
END:DAYLIGHT
BEGIN:STANDARD
TZOFFSETFROM:-0500
TZOFFSETTO:-0600
TZNAME:CST
DTSTART:20231105T070000
END:STANDARD
BEGIN:DAYLIGHT
TZOFFSETFROM:-0600
TZOFFSETTO:-0500
TZNAME:CDT
DTSTART:20240310T080000
END:DAYLIGHT
BEGIN:STANDARD
TZOFFSETFROM:-0500
TZOFFSETTO:-0600
TZNAME:CST
DTSTART:20241103T070000
END:STANDARD
END:VTIMEZONE
BEGIN:VEVENT
DTSTART;TZID=America/Chicago:20230829T120000
DTEND;TZID=America/Chicago:20230829T130000
DTSTAMP:20260422T073933
CREATED:20230816T193655Z
LAST-MODIFIED:20230817T125142Z
UID:10014526-1693310400-1693314000@www.goeldorado.com
SUMMARY:El Dorado Rotary Club Meeting with Guest Jennifer Davis (Turning Point)
DESCRIPTION:
URL:https://www.goeldorado.com/event/el-dorado-rotary-club-meeting-with-guest-jennifer-davis-turning-point/
LOCATION:HealthWorks Fitness Center\, 304 N. Madison\, El Dorado\, AR\, 71730
CATEGORIES:Clubs/Organizations,Community
END:VEVENT
BEGIN:VEVENT
DTSTART;TZID=America/Chicago:20230828T190000
DTEND;TZID=America/Chicago:20230828T203000
DTSTAMP:20260422T073933
CREATED:20230816T152200Z
LAST-MODIFIED:20230821T132228Z
UID:10014518-1693249200-1693254600@www.goeldorado.com
SUMMARY:Audition Call-Once Upon a Mattress @ South Arkansas Arts Center
DESCRIPTION:Once Upon a Mattress – full length musical\nAug 28 & 29 Audition Call 6:30pm\nAug 30 Callbacks 6:30pm \nThe Community Theatre production\, sponsored by Nexans AmerCable and Southern Bancorp\, will host auditions August 28-29 with registration starting at 6:30pm and auditions starting promptly at 7:00pm. Attend either or both days. Expect there to be cold scene readings\, some singing\, and dress for movement. A song list will be provided\, and you will need to choose a song to sing a 30-45 second cut at auditions. Callbacks will be held August 30th at 6:30pm. \n  \nThe SAAC Theatre Committee is hosting the community theatre production of the full-length musical on October 19-29.  This fairy-tale musical is a fun rendition of “The Princess and The Pea.” \n  \nMany moons ago in a far-off place\, Queen Aggravain decreed no couples could marry until her son\, Prince Dauntless\, found a bride. Princesses came from far and wide to win the hand of the prince\, but none could pass the impossible tests given to them by the Queen. That is\, until the “shy” swamp princess\, Winnifred the Woebegone\, showed up. Carried on a wave of wonderful\, romantic\, and melodic songs\, and action that turns hilarious and raucous\, this rollicking tale provides some side-splitting shenanigans. \n  \nhttps://saac-arts.org/oum-audition-call/
URL:https://www.goeldorado.com/event/audition-call-once-upon-a-mattress-south-arkansas-arts-center/
LOCATION:South Arkansas Arts Center
CATEGORIES:Arts & Culture,Community
ATTACH;FMTTYPE=image/jpeg:https://www.goeldorado.com/wp-content/uploads/2023/08/once-upon-a-mattress.jpg
END:VEVENT
BEGIN:VEVENT
DTSTART;TZID=America/Chicago:20230828T180000
DTEND;TZID=America/Chicago:20230828T210000
DTSTAMP:20260422T073933
CREATED:20230425T162442Z
LAST-MODIFIED:20230816T151839Z
UID:10013397-1693245600-1693256400@www.goeldorado.com
SUMMARY:South Arkansas Together - A Celebration of Hope ( Men's night)
DESCRIPTION:Men’s Outreach event \n\nWant a chance to win a Four Wheeler from Karl Malone Powersports El Dorado? What about a $1\,000 gift card to Big Bucks Pawn and Gun or even a Black Stone Grill?\n\n\nJoin us at our Men’s Night at the Murphy Arts District for great food\, amazing entertainment with Comedian Mike Goodwin as seen on America’s Got Talent\, over $10k worth of prizes\, and speaker Jay Lowder for only $20 for two tickets! Buy your tickets at All About Flowers\, West Side Baptist Church\, or Immanuel Baptist Church!
URL:https://www.goeldorado.com/event/south-arkansas-together-a-celebration-of-hope/
LOCATION:First Financial Music Hall
CATEGORIES:Community,Live Music
ATTACH;FMTTYPE=image/jpeg:https://www.goeldorado.com/wp-content/uploads/2023/04/mens-night-s-ark-to.jpg
ORGANIZER;CN="south arkansas together":MAILTO:info@southarkansastogether.com
END:VEVENT
BEGIN:VEVENT
DTSTART;TZID=America/Chicago:20230828T120000
DTEND;TZID=America/Chicago:20230828T130000
DTSTAMP:20260422T073933
CREATED:20230822T172725Z
LAST-MODIFIED:20230822T174138Z
UID:10014534-1693224000-1693227600@www.goeldorado.com
SUMMARY:El Dorado Rotary Club Meeting: Jennifer Davis w/ Turning Point
DESCRIPTION:
URL:https://www.goeldorado.com/event/el-dorado-rotary-club-meeting-jennifer-davis-w-turning-point/
LOCATION:HealthWorks Fitness Center\, 304 N. Madison\, El Dorado\, AR\, 71730
CATEGORIES:Business,Clubs/Organizations
ATTACH;FMTTYPE=image/png:https://www.goeldorado.com/wp-content/uploads/2023/08/Rotary-Announcement-4.png
END:VEVENT
BEGIN:VEVENT
DTSTART;TZID=America/Chicago:20230828T110000
DTEND;TZID=America/Chicago:20230828T113000
DTSTAMP:20260422T073933
CREATED:20230821T204411Z
LAST-MODIFIED:20230821T204411Z
UID:10014529-1693220400-1693222200@www.goeldorado.com
SUMMARY:Ribbon Cutting & Grand Opening: Gifted Hands Massage Therapist
DESCRIPTION:
URL:https://www.goeldorado.com/event/ribbon-cutting-grand-opening-gifted-hands-massage-therapist/
LOCATION:Gifted Hands Massage Therapist\, 1611 E Main St\, El Dorado\, ar
CATEGORIES:Business,Chamber Of Commerce
ATTACH;FMTTYPE=image/png:https://www.goeldorado.com/wp-content/uploads/2023/08/Ribbon-Cutting-Grand-Opening-Gifted-hands.png
END:VEVENT
BEGIN:VEVENT
DTSTART;TZID=America/Chicago:20230827T180000
DTEND;TZID=America/Chicago:20230827T210000
DTSTAMP:20260422T073933
CREATED:20230425T162929Z
LAST-MODIFIED:20230816T151233Z
UID:10013398-1693159200-1693170000@www.goeldorado.com
SUMMARY:South Arkansas Together - A Celebration of Hope (Ladies Night)
DESCRIPTION:Women’s outreach event \n•Sit Down Meal\n•Live Music\n• Lots of Door Prizes\n•One BIG Giveaway\nTickets: $20/ea BOGO FREE
URL:https://www.goeldorado.com/event/south-arkansas-together-a-celebration-of-hope-2/
LOCATION:First Financial Music Hall
CATEGORIES:Community,Live Music
ATTACH;FMTTYPE=image/jpeg:https://www.goeldorado.com/wp-content/uploads/2023/04/ladies-nigth-s-ar-together.jpg
ORGANIZER;CN="south arkansas together":MAILTO:info@southarkansastogether.com
END:VEVENT
BEGIN:VEVENT
DTSTART;TZID=America/Chicago:20230826T170000
DTEND;TZID=America/Chicago:20230826T213000
DTSTAMP:20260422T073933
CREATED:20230123T171108Z
LAST-MODIFIED:20230123T171108Z
UID:10011025-1693069200-1693085400@www.goeldorado.com
SUMMARY:Bingo @ The VFW
DESCRIPTION:The VFW will be hosting BINGO! Every Saturday night. \nQuarter Bingo starts at 5pm \nRegular Bingo starts at 7pm
URL:https://www.goeldorado.com/event/bingo-the-vfw/2023-08-26/
LOCATION:VFW\, 451 Industrial Rd\, El Dorado\, AR\, 71730\, United States
CATEGORIES:Clubs/Organizations,Community,Recreation & Sports
END:VEVENT
BEGIN:VEVENT
DTSTART;TZID=America/Chicago:20230826T160000
DTEND;TZID=America/Chicago:20230826T200000
DTSTAMP:20260422T073933
CREATED:20230628T143043Z
LAST-MODIFIED:20230628T143043Z
UID:10014415-1693065600-1693080000@www.goeldorado.com
SUMMARY:Cruise Night Car Show
DESCRIPTION:
URL:https://www.goeldorado.com/event/cruise-night-car-show/2023-08-26/
LOCATION:Downtown El Dorado\, 101 N. Washington\, El Dorado\, AR\, 71730
CATEGORIES:Clubs/Organizations,Community,Family and Children
ATTACH;FMTTYPE=image/jpeg:https://www.goeldorado.com/wp-content/uploads/2023/06/292313811_354253066884080_3925772226374212086_n.jpg
ORGANIZER;CN="Joe":MAILTO:jjsgourmetbbq@msn.com
END:VEVENT
BEGIN:VEVENT
DTSTART;TZID=America/Chicago:20230826T110000
DTEND;TZID=America/Chicago:20230826T110000
DTSTAMP:20260422T073933
CREATED:20230123T203138Z
LAST-MODIFIED:20230822T180049Z
UID:10011764-1693047600-1693047600@www.goeldorado.com
SUMMARY:Back to School Bash/ Showdown at Sunset W/ Mainstreet El Dorado
DESCRIPTION:Our Summer on the Square Back to School Bash on Aug 26 will feature KIDS only as both our vendors and entertainment on the stage!\n\n\nWe are looking for singer soloists or small bands\, maybe you play an instrument but don’t sing\, or maybe you do a great dramatic reading or have an awesome dance routine you would like to show…we are open to all ideas and submissions!\n\n\nEntrepreneur vendors must be in school/college and all items to sell must be HOMEMADE! No direct sales or MLM companies.\n\n\nCall me to discuss performance options or for any vendor questions! 870-315-5139\nVendor Application (2 pages) in the comments\n\n 
URL:https://www.goeldorado.com/event/back-to-school-bash-showdown-at-sunset-w-mainstreet-el-dorado/
LOCATION:Main Street El Dorado/Union Square El Dorado\, downtown El Dorado
CATEGORIES:Community,Family and Children,Festivals & Celebrations
ATTACH;FMTTYPE=image/jpeg:https://www.goeldorado.com/wp-content/uploads/2023/01/352325919_1009631693535203_6381196550635571293_n.jpg
END:VEVENT
BEGIN:VEVENT
DTSTART;TZID=America/Chicago:20230826T080000
DTEND;TZID=America/Chicago:20230826T110000
DTSTAMP:20260422T073933
CREATED:20230414T212537Z
LAST-MODIFIED:20230626T140535Z
UID:10014352-1693036800-1693047600@www.goeldorado.com
SUMMARY:Farmers Market at MAD
DESCRIPTION:Shop local vendors at the MAD Amphitheater!
URL:https://www.goeldorado.com/event/farmers-market-at-mad-3/2023-08-26/
CATEGORIES:Arts & Culture,Community,Family and Children
ATTACH;FMTTYPE=image/jpeg:https://www.goeldorado.com/wp-content/uploads/2023/04/famersmarketevent.jpg
END:VEVENT
BEGIN:VEVENT
DTSTART;TZID=America/Chicago:20230825T150000
DTEND;TZID=America/Chicago:20230825T190000
DTSTAMP:20260422T073933
CREATED:20230719T134624Z
LAST-MODIFIED:20230719T134655Z
UID:10014479-1692975600-1692990000@www.goeldorado.com
SUMMARY:Austin St John In-Store Signing @ Gabe's Cave
DESCRIPTION:Gabe’s Cave in El Dorado\, AR for an in-store signing event! starting at 3pm until 7pm to answer your questions\, take pictures\, shake hands and sign items you bring in or an 8×10 from the table. No ticket required. So stop by and get out of the heat! I’ll see you soon.
URL:https://www.goeldorado.com/event/austin-st-john-in-store-signing-gabes-cave/
LOCATION:Gabe’s Cave\, 2101 N College\, El Dorado\, AR\, 71730\, United States
CATEGORIES:Arts & Culture,Community,Family and Children
ATTACH;FMTTYPE=image/jpeg:https://www.goeldorado.com/wp-content/uploads/2023/07/361552364_823464072477395_2345634007761802406_n.jpg
END:VEVENT
BEGIN:VEVENT
DTSTART;TZID=America/Chicago:20230825T110000
DTEND;TZID=America/Chicago:20230825T140000
DTSTAMP:20260422T073933
CREATED:20230817T145902Z
LAST-MODIFIED:20230817T165551Z
UID:10014528-1692961200-1692972000@www.goeldorado.com
SUMMARY:Food Truck Friday @ The Newton House
DESCRIPTION:One food truck will be available each Friday to the public from 11am – 2pm at the Newton House Drive. Shaded pavilion available for seating and indoor air conditioned seating inside The Newton House.
URL:https://www.goeldorado.com/event/food-truck-friday-the-newton-house-2/
LOCATION:The Newton House\, 510 N. Jackson Ave.\, El Dorado\, AR\, 71730
CATEGORIES:Community,Family and Children
ATTACH;FMTTYPE=image/jpeg:https://www.goeldorado.com/wp-content/uploads/2023/08/Lemonade-Flyer-template-2.jpg
ORGANIZER;CN="South Arkansas Historical Preservation Society":MAILTO:info@soarkhistory.com
END:VEVENT
BEGIN:VEVENT
DTSTART;TZID=America/Chicago:20230824T200000
DTEND;TZID=America/Chicago:20230824T220000
DTSTAMP:20260422T073933
CREATED:20230414T130846Z
LAST-MODIFIED:20230414T130846Z
UID:10013201-1692907200-1692914400@www.goeldorado.com
SUMMARY:No Good Horses LIVE @ Mad House 101
DESCRIPTION:No Cover. Reservations at Open Table or 870-444-3008.\nDescribed as “rock and roll with a cowboy hat\,” No Good Horses brings the energy! This group plays a range of today’s country hits from Morgan Wallen and Cody Johnson to throwbacks from country’s foundation from Willie\, Merle\, and Vince. Audiences are sure to dance and sing along with these favorites played on pedal steel and fiddle woven through a wall of guitar and bass rhythm
URL:https://www.goeldorado.com/event/no-good-horses-live-mad-house-101/
LOCATION:MAD House 101 Restuarant and Bar\, 101 E Locust\, El Dorado\, AR\, 71730\, United States
CATEGORIES:Live Music
ATTACH;FMTTYPE=image/jpeg:https://www.goeldorado.com/wp-content/uploads/2023/04/no-good-horses.jpg
END:VEVENT
BEGIN:VEVENT
DTSTART;TZID=America/Chicago:20230824T173000
DTEND;TZID=America/Chicago:20230824T183000
DTSTAMP:20260422T073933
CREATED:20230816T162618Z
LAST-MODIFIED:20230816T162618Z
UID:10014523-1692898200-1692901800@www.goeldorado.com
SUMMARY:El Dorado Rotary Club Networking Event
DESCRIPTION:El Dorado Rotary Club offers monthly Networking events. On August 24\, join us for Happy Hour at MadHouse 101. Members\, Guest\, and anyone interested in learning more about Rotary are invited to join us. Individuals are responsible for own cost at bar or restaurant.
URL:https://www.goeldorado.com/event/el-dorado-rotary-club-networking-event/
LOCATION:MAD House 101 Restuarant and Bar\, 101 E Locust\, El Dorado\, AR\, 71730\, United States
CATEGORIES:Arts & Culture,Business,Clubs/Organizations
ATTACH;FMTTYPE=image/png:https://www.goeldorado.com/wp-content/uploads/2023/08/El-Dorado-Rotary-Club-After-Hours.png
END:VEVENT
BEGIN:VEVENT
DTSTART;TZID=America/Chicago:20230823T120000
DTEND;TZID=America/Chicago:20230823T130000
DTSTAMP:20260422T073933
CREATED:20230607T210102Z
LAST-MODIFIED:20230607T210335Z
UID:10014307-1692792000-1692795600@www.goeldorado.com
SUMMARY:Kiwanis Meeting
DESCRIPTION:
URL:https://www.goeldorado.com/event/kiwanis-meeting-2/2023-08-23/
LOCATION:First Presbyterian Church\, 300 E. Main St\, El Dorado
END:VEVENT
BEGIN:VEVENT
DTSTART;TZID=America/Chicago:20230819T200000
DTEND;TZID=America/Chicago:20230819T220000
DTSTAMP:20260422T073933
CREATED:20230816T150947Z
LAST-MODIFIED:20230816T150947Z
UID:10014517-1692475200-1692482400@www.goeldorado.com
SUMMARY:Boomer Hill Band LIVE @ Mad House 101
DESCRIPTION:Take the blues and mix it with soul and you get the Boomer Hill Band. This band is straight out of El Dorado! Don’t miss it. No cover.
URL:https://www.goeldorado.com/event/boomer-hill-band-live-mad-house-101/
LOCATION:MAD House 101 Restuarant and Bar\, 101 E Locust\, El Dorado\, AR\, 71730\, United States
CATEGORIES:Community,Live Music
ATTACH;FMTTYPE=image/jpeg:https://www.goeldorado.com/wp-content/uploads/2023/08/boomer-hill-band.jpg
END:VEVENT
BEGIN:VEVENT
DTSTART;TZID=America/Chicago:20230819T170000
DTEND;TZID=America/Chicago:20230819T213000
DTSTAMP:20260422T073933
CREATED:20230123T171108Z
LAST-MODIFIED:20230123T171108Z
UID:10011024-1692464400-1692480600@www.goeldorado.com
SUMMARY:Bingo @ The VFW
DESCRIPTION:The VFW will be hosting BINGO! Every Saturday night. \nQuarter Bingo starts at 5pm \nRegular Bingo starts at 7pm
URL:https://www.goeldorado.com/event/bingo-the-vfw/2023-08-19/
LOCATION:VFW\, 451 Industrial Rd\, El Dorado\, AR\, 71730\, United States
CATEGORIES:Clubs/Organizations,Community,Recreation & Sports
END:VEVENT
BEGIN:VEVENT
DTSTART;TZID=America/Chicago:20230819T140000
DTEND;TZID=America/Chicago:20230819T160000
DTSTAMP:20260422T073933
CREATED:20230706T140654Z
LAST-MODIFIED:20230706T145117Z
UID:10014451-1692453600-1692460800@www.goeldorado.com
SUMMARY:Arkansas Museum of Natural Resources to host author of ‘Boggy Creek Casebook’ Lyle Blackburn to discuss Arkansas’s Fouke Monster\, autograph copies of his books
DESCRIPTION:(Smackover\, Ark.) – The Arkansas Museum of Natural Resources will host a program about Arkansas’s legendary Fouke Monster with author Lyle Blackburn on Saturday\, August 19\, at 2 p.m. This program is free to the public. Seating is limited and reservations are recommended. \nSouth Arkansas folklore tells of sightings of a bigfoot-like creature\, near the town of Fouke\, in Miller County. Nicknamed the Fouke Monster\, reports of the creature in the 1970s attracted nationwide attention and inspired the fictional movie “The Legend of Boggy Creek.” Blackburn has written a book\, “Boggy Creek Casebook\,” that compiles documented sightings of these encounters. Blackburn will have copies of his book for sale\, and he will be available for autographing. \nBlackburn is the author of several acclaimed books whose subject matter reflects his lifelong fascination with legends and sighting reports of cryptids – creatures currently unknown to science. He is a frequent guest on radio programs such as “Coast to Coast AM\,” and has been featured on numerous television shows airing on Animal Planet\, Destination America\, Discovery Science and A&E. In his work with “Monsters and Mysteries in America\,” Blackburn served as both consulting producer and special episode host. Visit www.lybleblackburn.com to learn more. \nThis program is sponsored by the Friends of AMNR Foundation\, a 501(c)(3) organization.
URL:https://www.goeldorado.com/event/arkansas-museum-of-natural-resources-to-host-author-of-boggy-creek-casebook-lyle-blackburn-to-discuss-arkansass-fouke-monster-autograph-copies-of-his-books/
LOCATION:Arkansas Museum of Natural Resources\, 4087 Smackover Hwy\, Smackover\, AR\, 71730\, United States
CATEGORIES:Arts & Culture,Community,Festivals & Celebrations,Recreation & Sports
ATTACH;FMTTYPE=image/jpeg:https://www.goeldorado.com/wp-content/uploads/2023/07/blackburn03300dpi5180016136.jpg
END:VEVENT
BEGIN:VEVENT
DTSTART;TZID=America/Chicago:20230819T080000
DTEND;TZID=America/Chicago:20230819T110000
DTSTAMP:20260422T073933
CREATED:20230414T212537Z
LAST-MODIFIED:20230626T140535Z
UID:10014351-1692432000-1692442800@www.goeldorado.com
SUMMARY:Farmers Market at MAD
DESCRIPTION:Shop local vendors at the MAD Amphitheater!
URL:https://www.goeldorado.com/event/farmers-market-at-mad-3/2023-08-19/
CATEGORIES:Arts & Culture,Community,Family and Children
ATTACH;FMTTYPE=image/jpeg:https://www.goeldorado.com/wp-content/uploads/2023/04/famersmarketevent.jpg
END:VEVENT
BEGIN:VEVENT
DTSTART;TZID=America/Chicago:20230818T110000
DTEND;TZID=America/Chicago:20230818T140000
DTSTAMP:20260422T073933
CREATED:20230817T145134Z
LAST-MODIFIED:20230817T164512Z
UID:10014527-1692356400-1692367200@www.goeldorado.com
SUMMARY:Food Truck Friday @ The Newton House
DESCRIPTION:Each Friday from 11:00am – 2:00pm we will have a food truck out offering items to purchase for lunch. Open to everyone
URL:https://www.goeldorado.com/event/food-truck-friday-the-newton-house/
LOCATION:The Newton House\, 510 N. Jackson Ave.\, El Dorado\, AR\, 71730
CATEGORIES:Community,Family and Children
ATTACH;FMTTYPE=image/jpeg:https://www.goeldorado.com/wp-content/uploads/2023/08/Red-and-Yellow-Food-Truck-Restaurant-Instagra-2-1.jpg
ORGANIZER;CN="South Arkansas Historical Preservation Society":MAILTO:info@soarkhistory.com
END:VEVENT
BEGIN:VEVENT
DTSTART;VALUE=DATE:20230817
DTEND;VALUE=DATE:20230820
DTSTAMP:20260422T073933
CREATED:20230720T212022Z
LAST-MODIFIED:20230724T205153Z
UID:10014484-1692230400-1692489599@www.goeldorado.com
SUMMARY:Second Stage Performance of "Flung"
DESCRIPTION:all shows will be at 7:30pm
URL:https://www.goeldorado.com/event/second-stage-performance-of-flung/
LOCATION:South Arkansas Arts Center
CATEGORIES:Arts & Culture,Community
END:VEVENT
BEGIN:VEVENT
DTSTART;TZID=America/Chicago:20230816T120000
DTEND;TZID=America/Chicago:20230816T130000
DTSTAMP:20260422T073933
CREATED:20230607T210102Z
LAST-MODIFIED:20230607T210335Z
UID:10014306-1692187200-1692190800@www.goeldorado.com
SUMMARY:Kiwanis Meeting
DESCRIPTION:
URL:https://www.goeldorado.com/event/kiwanis-meeting-2/2023-08-16/
LOCATION:First Presbyterian Church\, 300 E. Main St\, El Dorado
END:VEVENT
BEGIN:VEVENT
DTSTART;TZID=America/Chicago:20230815T170000
DTEND;TZID=America/Chicago:20230815T180000
DTSTAMP:20260422T073933
CREATED:20230720T213737Z
LAST-MODIFIED:20230720T213743Z
UID:10014486-1692118800-1692122400@www.goeldorado.com
SUMMARY:Business After Hours @ El Dorado Printing
DESCRIPTION:A time of socializing and Networking hosted by the Chamber of Commerce and El Dorado Printing
URL:https://www.goeldorado.com/event/business-after-hours-el-dorado-printing/
LOCATION:El Dorado Printing
CATEGORIES:Business,Chamber Of Commerce
END:VEVENT
BEGIN:VEVENT
DTSTART;TZID=America/Chicago:20230814T200000
DTEND;TZID=America/Chicago:20230814T220000
DTSTAMP:20260422T073933
CREATED:20230810T155337Z
LAST-MODIFIED:20230810T155844Z
UID:10014503-1692043200-1692050400@www.goeldorado.com
SUMMARY:MAD Movie Monday - DC League of Super-Pets
DESCRIPTION:LAST MAD Movie Monday of the year presented by South Arkansas Regional Hospital. \n 
URL:https://www.goeldorado.com/event/mad-movie-monday-dc-league-of-super-pets/
CATEGORIES:Community
ATTACH;FMTTYPE=image/jpeg:https://www.goeldorado.com/wp-content/uploads/2023/08/SUPERPETS-2.jpg
END:VEVENT
BEGIN:VEVENT
DTSTART;TZID=America/Chicago:20230814T180000
DTEND;TZID=America/Chicago:20230814T200000
DTSTAMP:20260422T073933
CREATED:20230810T160126Z
LAST-MODIFIED:20230810T162120Z
UID:10014504-1692036000-1692043200@www.goeldorado.com
SUMMARY:Back To School Jam
DESCRIPTION:Party at the Murphy Arts District on Monday\, August 14th from 6-8pm for a back to school jam! \nDunk a teacher\, bounce house\, food truck\, giveaways\, splash pad and more! FREE and open to the public. \nFollowing the back to school event will be DC League of Super-Pets MAD Movie Monday presented by South Arkansas Regional Hospital. \n  \n 
URL:https://www.goeldorado.com/event/back-to-school-jam/
CATEGORIES:Community,Schools
ATTACH;FMTTYPE=image/jpeg:https://www.goeldorado.com/wp-content/uploads/2023/08/BACKTOSCHOOL-4.jpg
END:VEVENT
BEGIN:VEVENT
DTSTART;TZID=America/Chicago:20230813T130000
DTEND;TZID=America/Chicago:20230813T170000
DTSTAMP:20260422T073933
CREATED:20230718T144151Z
LAST-MODIFIED:20230718T144151Z
UID:10014477-1691931600-1691946000@www.goeldorado.com
SUMMARY:ESL presents Wildcutz 2023
DESCRIPTION:Save the Date: Sunday\, August 13 from 1 p.m. to 5 p.m.\nProfessional Cosmetology Education Center (PCEC) – 460 N. Washington Ave.\nESL presents WildCutz! (Year 3)\nWildCutz provides FREE Hair Cuts & Styles for ALL Union County students before the 2023-24 school year starts.\nAnd… we are proudly partnering with the Professional Cosmetology Education Center for WildCutz!\nPCEC has opened their doors to host and work alongside local stylists (Many of them Alumni of PCEC) to cut\, style and braid.\nWe even have hair tinsel this year!\nCome celebrate with us! ESL members will be there with fun activities and Sticky Finger Ice Cream and Sweets will be serving up cool treats!!!\nWe can’t wait to see you there!\n*Please make sure hair is freshly washed and dried and ready for that new look!\n-WildCutz Crew of 2023
URL:https://www.goeldorado.com/event/esl-presents-wildcutz-2023/
LOCATION:Professional Cosmetology Education Center\, 460 N Washington\, El Dorado\, AR\, 71730
CATEGORIES:Community,Family and Children
ATTACH;FMTTYPE=image/jpeg:https://www.goeldorado.com/wp-content/uploads/2023/07/348589511_649379243891931_7314291251287755310_n.jpg
END:VEVENT
BEGIN:VEVENT
DTSTART;TZID=America/Chicago:20230812T220000
DTEND;TZID=America/Chicago:20230812T233000
DTSTAMP:20260422T073934
CREATED:20230718T144552Z
LAST-MODIFIED:20230718T144552Z
UID:10014478-1691877600-1691883000@www.goeldorado.com
SUMMARY:Champagne Showers Show
DESCRIPTION:Ok\, The Time Has Come And It’s Goin Down Like The Basement\, Champagne Showers (Kings And Queens Edition) Is Official\, August 12th At The Municipal Auditorium\, Featuring T-Rell Everett Hegler Jr. And Blacc Lyriqq !! This Is A Grown And Sexy Event\, So PTSO!!! But If You’re Not Able To\, Just Dress It Up And Make It Real!!! Champagne Will Be Served While It Last!!! $20 For Single\, $30 For Couples\, $150 For VIP Tables!! It’s Goin Down In A Major Way\, So Make Sure You Have Ya Face In The Place!!!
URL:https://www.goeldorado.com/event/champagne-showers-show/
LOCATION:El Dorado Municipal Auditorium\, El Dorado\, AR\, 71730\, United States
CATEGORIES:Business,Live Music
ATTACH;FMTTYPE=image/jpeg:https://www.goeldorado.com/wp-content/uploads/2023/07/359507700_936911064163914_9121157699447220494_n.jpg
ORGANIZER;CN="DNB Entertainment":MAILTO:Dnbbay453@gmail.com
END:VEVENT
BEGIN:VEVENT
DTSTART;TZID=America/Chicago:20230812T170000
DTEND;TZID=America/Chicago:20230812T213000
DTSTAMP:20260422T073934
CREATED:20230123T171108Z
LAST-MODIFIED:20230123T171108Z
UID:10011023-1691859600-1691875800@www.goeldorado.com
SUMMARY:Bingo @ The VFW
DESCRIPTION:The VFW will be hosting BINGO! Every Saturday night. \nQuarter Bingo starts at 5pm \nRegular Bingo starts at 7pm
URL:https://www.goeldorado.com/event/bingo-the-vfw/2023-08-12/
LOCATION:VFW\, 451 Industrial Rd\, El Dorado\, AR\, 71730\, United States
CATEGORIES:Clubs/Organizations,Community,Recreation & Sports
END:VEVENT
BEGIN:VEVENT
DTSTART;TZID=America/Chicago:20230812T080000
DTEND;TZID=America/Chicago:20230812T110000
DTSTAMP:20260422T073934
CREATED:20230414T212537Z
LAST-MODIFIED:20230626T140535Z
UID:10014350-1691827200-1691838000@www.goeldorado.com
SUMMARY:Farmers Market at MAD
DESCRIPTION:Shop local vendors at the MAD Amphitheater!
URL:https://www.goeldorado.com/event/farmers-market-at-mad-3/2023-08-12/
CATEGORIES:Arts & Culture,Community,Family and Children
ATTACH;FMTTYPE=image/jpeg:https://www.goeldorado.com/wp-content/uploads/2023/04/famersmarketevent.jpg
END:VEVENT
BEGIN:VEVENT
DTSTART;TZID=America/Chicago:20230810T200000
DTEND;TZID=America/Chicago:20230810T220000
DTSTAMP:20260422T073934
CREATED:20230414T131343Z
LAST-MODIFIED:20230414T131343Z
UID:10013204-1691697600-1691704800@www.goeldorado.com
SUMMARY:Casey Penn LIVE @ Mad House 101
DESCRIPTION:No Cover. Reservations at Open Table or 870-444-3008.\nBased in Central Arkansas\, Casey Penn is an Arkansas Country Music Award-nominated songwriter\, performing bluegrass and Americana artist\, and a happy new member of the Mountain Fever Records family. Casey has released three singles from her forthcoming album\, One Step Away (releasing in full on Feb. 10\, 2023). Her newest single\, “We Go Together Like a Guitar and a Fiddle\,” is available now. Casey’s second single released September 13\, 2022\, and you can check it out here. Her first single for the label\, “Chasing Rainbows\,” earned a spot on the Bluegrass Today’s Top 20 Song chart a few months ago. Casey’s first album for Mountain Fever is forthcoming. Past albums include KingPenn (2016\, Independent).\nCasey is a former founding member of the Americana duo Lee Street Lyrical. Now dissolved\, the band was signed to MFM’s Travianna Records and was a repeat ACMA nominee for Acoustic Act of the Year. The LSL release\, “I’ll Never Be A Mountain Girl\,” written by Penn and Irene Kelley\, reached #8 on Bluegrass Today’s Weekly Grassicana chart.\nPast Albums\nWith co-writer Rodger King\, Casey won an Arkansas-wide songwriting competition hosted by Infrared Studios. As a result\, the two produced and released a Spring/Summer 2016 LP\, KINGPENN. Bluegrass Unlimited reviewer Bill Conger wrote of the album\, “One of the greatest joys in reviewing CDs is the discovery of new music … Penn’s cut-to-the-soul vocals are featured in several of the songs … My favorite is the opening cut\, ‘Oceans (I Have Cried)\,’ which won an honorable mention in the 2016 Hazel Dickens Bluegrass Songwriting Competition.”
URL:https://www.goeldorado.com/event/casey-penn-live-mad-house-101/
LOCATION:MAD House 101 Restuarant and Bar\, 101 E Locust\, El Dorado\, AR\, 71730\, United States
CATEGORIES:Live Music
ATTACH;FMTTYPE=image/jpeg:https://www.goeldorado.com/wp-content/uploads/2023/04/casey-penn.jpg
END:VEVENT
END:VCALENDAR