BEGIN:VCALENDAR
VERSION:2.0
PRODID:-//El Dorado, Arkansas - ECPv6.15.20//NONSGML v1.0//EN
CALSCALE:GREGORIAN
METHOD:PUBLISH
X-WR-CALNAME:El Dorado, Arkansas
X-ORIGINAL-URL:https://www.goeldorado.com
X-WR-CALDESC:Events for El Dorado, Arkansas
REFRESH-INTERVAL;VALUE=DURATION:PT1H
X-Robots-Tag:noindex
X-PUBLISHED-TTL:PT1H
BEGIN:VTIMEZONE
TZID:America/Chicago
BEGIN:DAYLIGHT
TZOFFSETFROM:-0600
TZOFFSETTO:-0500
TZNAME:CDT
DTSTART:20240310T080000
END:DAYLIGHT
BEGIN:STANDARD
TZOFFSETFROM:-0500
TZOFFSETTO:-0600
TZNAME:CST
DTSTART:20241103T070000
END:STANDARD
BEGIN:DAYLIGHT
TZOFFSETFROM:-0600
TZOFFSETTO:-0500
TZNAME:CDT
DTSTART:20250309T080000
END:DAYLIGHT
BEGIN:STANDARD
TZOFFSETFROM:-0500
TZOFFSETTO:-0600
TZNAME:CST
DTSTART:20251102T070000
END:STANDARD
BEGIN:DAYLIGHT
TZOFFSETFROM:-0600
TZOFFSETTO:-0500
TZNAME:CDT
DTSTART:20260308T080000
END:DAYLIGHT
BEGIN:STANDARD
TZOFFSETFROM:-0500
TZOFFSETTO:-0600
TZNAME:CST
DTSTART:20261101T070000
END:STANDARD
END:VTIMEZONE
BEGIN:VEVENT
DTSTART;TZID=America/Chicago:20250717T100000
DTEND;TZID=America/Chicago:20250717T120000
DTSTAMP:20260420T142658
CREATED:20250519T213444Z
LAST-MODIFIED:20250519T213444Z
UID:10025819-1752746400-1752753600@www.goeldorado.com
SUMMARY:Free Summer Movie: Garfield The Movie @ Starts Theater
DESCRIPTION:2025 FREE Kids Summer Movie Lineup\nTuesday and Thursday at 10am\nFREE ADMISSION\nGroups Encouraged\n\n\n6/3-6/5: Bad Guys\n6/10-6/12: Despicable Me 4\n6/17-6/19: Kung Fu Panda 4\n6/24-6/26: Harold and the Purple Crayon\n\n\n7/1-7/3: Wild Robot\n7/8-7/10: Sonic 3\n7/15-7/17: Garfield\n7/22-7/24: Transformers One
URL:https://www.goeldorado.com/event/free-summer-movie-garfield-the-movie-starts-theater-2/
LOCATION:Stars Theaters\, 2620 W Hillsboro\, El Dorado\, AR\, 71730\, United States
CATEGORIES:Community,Family and Children
ATTACH;FMTTYPE=image/jpeg:https://www.goeldorado.com/wp-content/uploads/2025/05/494307051_1090617472876877_4152037135579583503_n.jpg
END:VEVENT
BEGIN:VEVENT
DTSTART;TZID=America/Chicago:20250717T100000
DTEND;TZID=America/Chicago:20250717T120000
DTSTAMP:20260420T142658
CREATED:20250605T133804Z
LAST-MODIFIED:20250605T133804Z
UID:10027021-1752746400-1752753600@www.goeldorado.com
SUMMARY:Summer Workshop: Oil Derrick Collage Project
DESCRIPTION:
URL:https://www.goeldorado.com/event/summer-workshop-oil-derrick-collage-project/
LOCATION:Arkansas Museum of Natural Resources\, 4087 Smackover Hwy\, Smackover\, AR\, 71730\, United States
CATEGORIES:Arts & Culture,Community,Family and Children
ATTACH;FMTTYPE=image/jpeg:https://www.goeldorado.com/wp-content/uploads/2025/06/501042257_1259956282805724_2377795943791221597_n.jpg
END:VEVENT
BEGIN:VEVENT
DTSTART;TZID=America/Chicago:20250717T120000
DTEND;TZID=America/Chicago:20250717T130000
DTSTAMP:20260420T142658
CREATED:20250702T165654Z
LAST-MODIFIED:20250703T200035Z
UID:10027120-1752753600-1752757200@www.goeldorado.com
SUMMARY:Lithium 101 Lunch Lecture
DESCRIPTION:  \n\n\nLithium 101 Lunch Lecture\n\nJuly 17 \n12:00 PM – 01:00 PM \n\nMahony Family Library\n\n\nLithium 101\nWhat it is\, Where it is\, and Why it Matters \nJoin us for another illuminating session with Robert Reynolds as he returns to unpack one of today’s most talked-about underground resources-lithium. \nThis session will explore: \nWhat lithium is and where it comes from \nWhy it’s in high demand-and where it’s actually being extracted in our region \nHow lithium is mined and what the environmental considerations are \nWhat the broader implications are for our community and economy \nThis month’s lunch lecture is offered in partnership with the El Dorado Union County Chamber of Commerce. \nDate: July 17 \nTime: 12:00 PM- 1:00 PM \nLocation: Mahony Family Library \nAddress: 300 Summit Ave\, El Dorado\, AR \nFee: FREE \nLunch is provided for those who register.
URL:https://www.goeldorado.com/event/lithium-101-lunch-lecture/
LOCATION:Mahony Family Library\, 300 Summit Ave\, El Dorado\, AR\, 71730\, United States
CATEGORIES:Business,Chamber Of Commerce,Community
ATTACH;FMTTYPE=image/png:https://www.goeldorado.com/wp-content/uploads/2025/07/Robert-Reynolds.png
END:VEVENT
BEGIN:VEVENT
DTSTART;TZID=America/Chicago:20250717T130000
DTEND;TZID=America/Chicago:20250717T140000
DTSTAMP:20260420T142658
CREATED:20250516T181317Z
LAST-MODIFIED:20250519T204614Z
UID:10025797-1752757200-1752760800@www.goeldorado.com
SUMMARY:Big Poppa Bubble @ Barton Library
DESCRIPTION:Bubble party\, free lunch provided by the Salvation Army\, and Summer Reading Program awards!
URL:https://www.goeldorado.com/event/big-poppa-bubble-barton-library/
LOCATION:Barton Library\, 200 E 5th\, El Dorado\, AR\, 71730\, United States
CATEGORIES:Community,Family and Children
ORGANIZER;CN="Barton Library":MAILTO:eldorado@ucpls.org
END:VEVENT
BEGIN:VEVENT
DTSTART;TZID=America/Chicago:20250717T180000
DTEND;TZID=America/Chicago:20250717T190000
DTSTAMP:20260420T142658
CREATED:20241009T203328Z
LAST-MODIFIED:20241009T203328Z
UID:10022681-1752775200-1752778800@www.goeldorado.com
SUMMARY:Trivia @ DPs Food Truck Park
DESCRIPTION:
URL:https://www.goeldorado.com/event/trivia-dps-food-truck-park/2025-07-17/
LOCATION:DP’s Food Truck Court\, 2117 N College Ave\, 2117 N College Ave\, El Dorado\, AR\, 71730\, United States
CATEGORIES:Community,Family and Children
ATTACH;FMTTYPE=image/jpeg:https://www.goeldorado.com/wp-content/uploads/2023/11/trivia.jpg
END:VEVENT
BEGIN:VEVENT
DTSTART;TZID=America/Chicago:20250717T190000
DTEND;TZID=America/Chicago:20250717T210000
DTSTAMP:20260420T142658
CREATED:20250512T202121Z
LAST-MODIFIED:20250512T202412Z
UID:10025731-1752778800-1752786000@www.goeldorado.com
SUMMARY:Jordan Sheppard at MAD House 101
DESCRIPTION:Get ready for an unforgettable night of soulful music with Jordan Sheppard!  On July 17th\, Jordan takes the stage at Mad House 101 for an intimate performance you won’t want to miss.\n Date: July 17th Time: 7:00 PM – 9:00 PM Location: Mad House 101 Restaurant\nBring your friends\, grab a drink\, and enjoy a night of great music!
URL:https://www.goeldorado.com/event/jordan-sheppard-at-mad-house-101/
LOCATION:MAD House 101 Restuarant and Bar\, 101 E Locust\, El Dorado\, AR\, 71730\, United States
CATEGORIES:Live Music
ATTACH;FMTTYPE=image/jpeg:https://www.goeldorado.com/wp-content/uploads/2025/05/Jordan-2.jpg
END:VEVENT
BEGIN:VEVENT
DTSTART;TZID=America/Chicago:20250717T190000
DTEND;TZID=America/Chicago:20250717T230000
DTSTAMP:20260420T142658
CREATED:20250102T173410Z
LAST-MODIFIED:20250102T173410Z
UID:10023671-1752778800-1752793200@www.goeldorado.com
SUMMARY:8 Ball Tournament @ Hot Shots
DESCRIPTION:
URL:https://www.goeldorado.com/event/8-ball-tournament-hot-shots/2025-07-17/
LOCATION:Hot Shots\, 601 S Timberlane\, El Dorado\, AR\, 71730\, United States
CATEGORIES:Recreation & Sports
ATTACH;FMTTYPE=image/jpeg:https://www.goeldorado.com/wp-content/uploads/2025/01/466892415_1134041465397884_9191985232359032281_n.jpg
END:VEVENT
BEGIN:VEVENT
DTSTART;TZID=America/Chicago:20250717T193000
DTEND;TZID=America/Chicago:20250717T223000
DTSTAMP:20260420T142658
CREATED:20250530T161828Z
LAST-MODIFIED:20250530T161828Z
UID:10026950-1752780600-1752791400@www.goeldorado.com
SUMMARY:"Hairspray\," SAAC's Summer Musical
DESCRIPTION:Based on the 1988 film *Hairspray*\, set in 1960s Baltimore\, the story follows Tracy Turnblad\, a confident girl who dreams of dancing on a TV show. Despite her weight and modest background\, she impresses judges and becomes a local star. When she chooses a Black partner\, the racist director opposes her\, but Tracy leads a rebellion against segregation. In the end\, she wins the contest and champions equality. \n  \nTickets: South Arkansas Arts Center | Buy Tickets\, Packages or make a Donation on TicketstotheCity.com
URL:https://www.goeldorado.com/event/hairspray-saacs-summer-musical-3/2025-07-17/
LOCATION:South Arkansas Arts Center
CATEGORIES:Arts & Culture,Community,Family and Children
END:VEVENT
BEGIN:VEVENT
DTSTART;VALUE=DATE:20250718
DTEND;VALUE=DATE:20250720
DTSTAMP:20260420T142658
CREATED:20250718T165319Z
LAST-MODIFIED:20250718T165319Z
UID:10027126-1752796800-1752969599@www.goeldorado.com
SUMMARY:Triple Steak Cook-Off
DESCRIPTION:  \nGrill Wars: Triple Steak Cook-OffJuly 18 & 19 | Downtown El Dorado\nGet ready for two days of exciting steak competitions\, delicious food\, and local vendors. Whether you’re a pro cook or just here to eat like one\, there’s something for everyone at Grill Wars!\n Cook OffsJoin us for three SCA-sanctioned steak cook-offs: one on Friday and two on Saturday. Friday features the Tacos ancillary\, then Saturday includes the Kids Pork Chop Cook-Off and Anything Red White and Blue ancillary.\n Public Steak PlatesEnjoy a $30 steak plate prepared by four-time SCA World Champion Johnny Joseph. Each plate includes steak\, grilled baked potato\, roll\, dessert\, and drink. Pickup is Saturday\, July 19\, from 4 to 4:30 PM at the corner of Elm and Washington. Limited quantities available! Tickets can be purchased online or at our office.Purchase plates here: www.ticketsignup.io/TicketEvent/MSESteakPlates\n Saturday Vendor Market10 AM to 1 PM featuring youth entrepreneurs and local vendors!\n Want to compete?Sign up herehttps://www.steakcookoffs.com/cookoffs\nMore infohttps://www.mainstreeteldorado.org/steak\n 
URL:https://www.goeldorado.com/event/triple-steak-cook-off/
LOCATION:Downtown El Dorado\, 101 N. Washington\, El Dorado\, AR\, 71730
CATEGORIES:Clubs/Organizations,Community,Family and Children,Festivals & Celebrations
ATTACH;FMTTYPE=image/jpeg:https://www.goeldorado.com/wp-content/uploads/2025/07/513025558_1049177544014695_6412662887826607464_n.jpg
END:VEVENT
BEGIN:VEVENT
DTSTART;TZID=America/Chicago:20250718T130000
DTEND;TZID=America/Chicago:20250718T140000
DTSTAMP:20260420T142658
CREATED:20250516T181508Z
LAST-MODIFIED:20250519T204648Z
UID:10025798-1752843600-1752847200@www.goeldorado.com
SUMMARY:Color Your Own Kitchen Apron @ Norphlet
DESCRIPTION:
URL:https://www.goeldorado.com/event/color-your-own-kitchen-apron-norphlet/
LOCATION:Norphlet Library\, 101 E Padgett ST\, Norphlet\, AR\, 71759
CATEGORIES:Community,Family and Children
ORGANIZER;CN="Barton Library":MAILTO:eldorado@ucpls.org
END:VEVENT
BEGIN:VEVENT
DTSTART;TZID=America/Chicago:20250718T193000
DTEND;TZID=America/Chicago:20250718T223000
DTSTAMP:20260420T142658
CREATED:20250530T161828Z
LAST-MODIFIED:20250530T161828Z
UID:10026951-1752867000-1752877800@www.goeldorado.com
SUMMARY:"Hairspray\," SAAC's Summer Musical
DESCRIPTION:Based on the 1988 film *Hairspray*\, set in 1960s Baltimore\, the story follows Tracy Turnblad\, a confident girl who dreams of dancing on a TV show. Despite her weight and modest background\, she impresses judges and becomes a local star. When she chooses a Black partner\, the racist director opposes her\, but Tracy leads a rebellion against segregation. In the end\, she wins the contest and champions equality. \n  \nTickets: South Arkansas Arts Center | Buy Tickets\, Packages or make a Donation on TicketstotheCity.com
URL:https://www.goeldorado.com/event/hairspray-saacs-summer-musical-3/2025-07-18/
LOCATION:South Arkansas Arts Center
CATEGORIES:Arts & Culture,Community,Family and Children
END:VEVENT
BEGIN:VEVENT
DTSTART;TZID=America/Chicago:20250718T210000
DTEND;TZID=America/Chicago:20250718T230000
DTSTAMP:20260420T142658
CREATED:20250718T165730Z
LAST-MODIFIED:20250718T165730Z
UID:10027128-1752872400-1752879600@www.goeldorado.com
SUMMARY:Chris Loggins LIVE @ The Mink Eye
DESCRIPTION:  \nLocal legend Chris Loggins rocks The Mink Eye this Friday night! Join us for great vibes\, drink specials and an all-out good time!
URL:https://www.goeldorado.com/event/chris-loggins-live-the-mink-eye-5/
LOCATION:The Mink Eye\, 117 Main st\, El Dorado\, AR\, 71730\, United States
CATEGORIES:Live Music
ATTACH;FMTTYPE=image/jpeg:https://www.goeldorado.com/wp-content/uploads/2025/07/518323546_1338263218307114_1759641117556203054_n.jpg
END:VEVENT
BEGIN:VEVENT
DTSTART;TZID=America/Chicago:20250719T070000
DTEND;TZID=America/Chicago:20250719T083000
DTSTAMP:20260420T142658
CREATED:20250326T151019Z
LAST-MODIFIED:20250326T212721Z
UID:10025434-1752908400-1752913800@www.goeldorado.com
SUMMARY:Women Moving Forward - Saturday Morning Walk
DESCRIPTION:Come join Women Moving Forward for a morning walk! Women Moving Forward is a Non-Profit Organization empowering women to take control of their health and wellness by incorporating walking and physical activity into their weekly schedule. Every Saturday morning we gather to walk\, talk\, and share with other women in our community. Our conversations are rich\, and our progress is real. Do yourself a favor and join us Saturday morning to Move Forward one step at a time. \n  \n(3) Facebook
URL:https://www.goeldorado.com/event/women-moving-forward-saturday-morning-walk-2/2025-07-19/
LOCATION:Memorial Stadium\, N West Ave\, El Dorado\, AR\, 71730\, United States
CATEGORIES:Clubs/Organizations,Community,Recreation & Sports
ATTACH;FMTTYPE=image/png:https://www.goeldorado.com/wp-content/uploads/2025/03/WMF-Saturday-Morning-Walk.png
ORGANIZER;CN="Women Moving Forward":MAILTO:womenmovingforward21@gmail.com
END:VEVENT
BEGIN:VEVENT
DTSTART;TZID=America/Chicago:20250719T090000
DTEND;TZID=America/Chicago:20250719T120000
DTSTAMP:20260420T142658
CREATED:20250605T133634Z
LAST-MODIFIED:20250605T133634Z
UID:10027014-1752915600-1752926400@www.goeldorado.com
SUMMARY:Farmers Market @ MAD
DESCRIPTION:
URL:https://www.goeldorado.com/event/farmers-market-mad/2025-07-19/
LOCATION:MAD Amphitheater\, 101 E Locust\, El Dorado\, AR\, 71730\, United States
CATEGORIES:Business,Community,Family and Children
END:VEVENT
BEGIN:VEVENT
DTSTART;TZID=America/Chicago:20250719T100000
DTEND;TZID=America/Chicago:20250719T120000
DTSTAMP:20260420T142658
CREATED:20250516T181817Z
LAST-MODIFIED:20250519T204715Z
UID:10025799-1752919200-1752926400@www.goeldorado.com
SUMMARY:Summer Reading Art Show @ Norphlet Museum
DESCRIPTION:
URL:https://www.goeldorado.com/event/summer-reading-art-show-norphlet-museum/
LOCATION:Norphlet Library\, 101 E Padgett ST\, Norphlet\, AR\, 71759
CATEGORIES:Community,Family and Children
ORGANIZER;CN="Barton Library":MAILTO:eldorado@ucpls.org
END:VEVENT
BEGIN:VEVENT
DTSTART;TZID=America/Chicago:20250719T100000
DTEND;TZID=America/Chicago:20250719T160000
DTSTAMP:20260420T142658
CREATED:20250718T165852Z
LAST-MODIFIED:20250718T165852Z
UID:10027129-1752919200-1752940800@www.goeldorado.com
SUMMARY:Used Book & Puzzle Trade IN
DESCRIPTION:
URL:https://www.goeldorado.com/event/used-book-puzzle-trade-in/
LOCATION:The 1988\, 117 N Jefferson Ave\, El Dorado\, AR\, 71730
CATEGORIES:Community
END:VEVENT
BEGIN:VEVENT
DTSTART;TZID=America/Chicago:20250719T140000
DTEND;TZID=America/Chicago:20250719T190000
DTSTAMP:20260420T142658
CREATED:20250602T184219Z
LAST-MODIFIED:20250602T184219Z
UID:10026955-1752933600-1752951600@www.goeldorado.com
SUMMARY:Hot Dogs & Hugs with Lawrence Levy: 2025 Summer community  extravaganze
DESCRIPTION:  \n  \n\nthe 2025 Summer Community Extravaganza\, presented by South Arkansas Men of Purpose\, eXtreme Programs\, and the Boys & Girls Clubs of Union County – Arkansas. This extravaganza will be featuring Hot Dogs & Hugs\, with special guest\, Lawrence Levy!\n\n\nJoin us for a vibrant celebration of unity\, diversity\, and community spirit on Saturday\, July 19\, 2025\, from 2:00 PM – 7:00 PM at The TAC House parking lot and the Col. Frank Hash Tailgate Pavilion (1101 NW Avenue\, El Dorado\, AR).\n\n\nThis family-friendly event is designed to bring people of all backgrounds together in the spirit of agape love and connection.\n\n\nExtravaganza Highlights Include:\n Food and refreshments\n Live music and entertainment\n Bouncy houses and kids’ activities\n Local community vendors\n Engagement opportunities with local leaders and organizations\n Special guest appearance by Lawrence Levy\n\n\nThis is more than just a summer event — it’s a movement to uplift\, encourage\, and unify our community. All are welcome\, and we encourage you to bring your friends\, family\, and neighbors!\n\n\nFor more information\, please contact:\n\n\nLorenzo Lawson – (832) 817-4880\n\n\nDominique Turner – (870) 863-8753 x 106\n\n\nLet’s make this summer unforgettable. We can’t wait to see you there!
URL:https://www.goeldorado.com/event/hot-dogs-hugs-with-lawrence-levy-2025-summer-community-extravaganze/
LOCATION:Boys & Girls Club of Union County\, 1201 N W Ave\, El Dorado\, AR\, 71730
CATEGORIES:Clubs/Organizations,Community,Family and Children,Festivals & Celebrations
ATTACH;FMTTYPE=image/jpeg:https://www.goeldorado.com/wp-content/uploads/2025/06/503497825_1100830492081211_8045227561950429811_n.jpg
END:VEVENT
BEGIN:VEVENT
DTSTART;TZID=America/Chicago:20250719T170000
DTEND;TZID=America/Chicago:20250719T213000
DTSTAMP:20260420T142659
CREATED:20230123T171108Z
LAST-MODIFIED:20230123T171108Z
UID:10011124-1752944400-1752960600@www.goeldorado.com
SUMMARY:Bingo @ The VFW
DESCRIPTION:The VFW will be hosting BINGO! Every Saturday night. \nQuarter Bingo starts at 5pm \nRegular Bingo starts at 7pm
URL:https://www.goeldorado.com/event/bingo-the-vfw/2025-07-19/
LOCATION:VFW\, 451 Industrial Rd\, El Dorado\, AR\, 71730\, United States
CATEGORIES:Clubs/Organizations,Community,Recreation & Sports
END:VEVENT
BEGIN:VEVENT
DTSTART;TZID=America/Chicago:20250719T190000
DTEND;TZID=America/Chicago:20250719T210000
DTSTAMP:20260420T142659
CREATED:20250512T202435Z
LAST-MODIFIED:20250512T202712Z
UID:10025732-1752951600-1752958800@www.goeldorado.com
SUMMARY:Trey Johnson at MAD House 101
DESCRIPTION:Join us for a night of incredible live music with Trey Johnson on July 19th at Mad House 101! \n Date: July 19th Time: 7:00 PM – 9:00 PM Location: Mad House 101 Restaurant
URL:https://www.goeldorado.com/event/trey-johnson-at-mad-house-101-2/
LOCATION:MAD House 101 Restuarant and Bar\, 101 E Locust\, El Dorado\, AR\, 71730\, United States
CATEGORIES:Live Music
ATTACH;FMTTYPE=image/jpeg:https://www.goeldorado.com/wp-content/uploads/2025/05/trey-3.jpg
END:VEVENT
BEGIN:VEVENT
DTSTART;TZID=America/Chicago:20250719T193000
DTEND;TZID=America/Chicago:20250719T223000
DTSTAMP:20260420T142659
CREATED:20250530T161828Z
LAST-MODIFIED:20250530T161828Z
UID:10026952-1752953400-1752964200@www.goeldorado.com
SUMMARY:"Hairspray\," SAAC's Summer Musical
DESCRIPTION:Based on the 1988 film *Hairspray*\, set in 1960s Baltimore\, the story follows Tracy Turnblad\, a confident girl who dreams of dancing on a TV show. Despite her weight and modest background\, she impresses judges and becomes a local star. When she chooses a Black partner\, the racist director opposes her\, but Tracy leads a rebellion against segregation. In the end\, she wins the contest and champions equality. \n  \nTickets: South Arkansas Arts Center | Buy Tickets\, Packages or make a Donation on TicketstotheCity.com
URL:https://www.goeldorado.com/event/hairspray-saacs-summer-musical-3/2025-07-19/
LOCATION:South Arkansas Arts Center
CATEGORIES:Arts & Culture,Community,Family and Children
END:VEVENT
BEGIN:VEVENT
DTSTART;TZID=America/Chicago:20250720T143000
DTEND;TZID=America/Chicago:20250720T173000
DTSTAMP:20260420T142659
CREATED:20250530T161444Z
LAST-MODIFIED:20250530T161444Z
UID:10026895-1753021800-1753032600@www.goeldorado.com
SUMMARY:"Hairspray\," SAAC's Summer Musical
DESCRIPTION:Based on the 1988 film *Hairspray*\, set in 1960s Baltimore\, the story follows Tracy Turnblad\, a confident girl who dreams of dancing on a TV show. Despite her weight and modest background\, she impresses judges and becomes a local star. When she chooses a Black partner\, the racist director opposes her\, but Tracy leads a rebellion against segregation. In the end\, she wins the contest and champions equality. \n  \nTickets: South Arkansas Arts Center | Buy Tickets\, Packages or make a Donation on TicketstotheCity.com
URL:https://www.goeldorado.com/event/hairspray-saacs-summer-musical-2/2025-07-20/
LOCATION:South Arkansas Arts Center
CATEGORIES:Arts & Culture,Community,Family and Children
END:VEVENT
BEGIN:VEVENT
DTSTART;TZID=America/Chicago:20250722T100000
DTEND;TZID=America/Chicago:20250722T120000
DTSTAMP:20260420T142659
CREATED:20250519T213553Z
LAST-MODIFIED:20250519T213553Z
UID:10025820-1753178400-1753185600@www.goeldorado.com
SUMMARY:Free Summer Movie: Transformers 1 @ Stars Theaters
DESCRIPTION:2025 FREE Kids Summer Movie Lineup\nTuesday and Thursday at 10am\nFREE ADMISSION\nGroups Encouraged\n\n\n6/3-6/5: Bad Guys\n6/10-6/12: Despicable Me 4\n6/17-6/19: Kung Fu Panda 4\n6/24-6/26: Harold and the Purple Crayon\n\n\n7/1-7/3: Wild Robot\n7/8-7/10: Sonic 3\n7/15-7/17: Garfield\n7/22-7/24: Transformers One
URL:https://www.goeldorado.com/event/free-summer-movie-transformers-1-stars-theaters/
LOCATION:Stars Theaters\, 2620 W Hillsboro\, El Dorado\, AR\, 71730\, United States
CATEGORIES:Community,Family and Children
ATTACH;FMTTYPE=image/jpeg:https://www.goeldorado.com/wp-content/uploads/2025/05/490518873_1090617426210215_4001920745127043942_n.jpg
END:VEVENT
BEGIN:VEVENT
DTSTART;TZID=America/Chicago:20250722T180000
DTEND;TZID=America/Chicago:20250722T200000
DTSTAMP:20260420T142659
CREATED:20250718T165503Z
LAST-MODIFIED:20250718T165503Z
UID:10027127-1753207200-1753214400@www.goeldorado.com
SUMMARY:Back-the-kids BBQ & Bingo
DESCRIPTION:
URL:https://www.goeldorado.com/event/back-the-kids-bbq-bingo/
LOCATION:DP’s Food Truck Court\, 2117 N College Ave\, 2117 N College Ave\, El Dorado\, AR\, 71730\, United States
CATEGORIES:Clubs/Organizations,Community,Family and Children
ATTACH;FMTTYPE=image/jpeg:https://www.goeldorado.com/wp-content/uploads/2025/07/518200178_653550891073545_2444406638873583073_n.jpg
END:VEVENT
BEGIN:VEVENT
DTSTART;TZID=America/Chicago:20250723T103000
DTEND;TZID=America/Chicago:20250723T123000
DTSTAMP:20260420T142659
CREATED:20250627T180357Z
LAST-MODIFIED:20250627T180357Z
UID:10027117-1753266600-1753273800@www.goeldorado.com
SUMMARY:"A Meal to Heal" By Turning Point
DESCRIPTION:
URL:https://www.goeldorado.com/event/a-meal-to-heal-by-turning-point/
LOCATION:FayRays\, 110 E. Elm Street\, El Dorado\, AR\, 71730\, United States
CATEGORIES:Clubs/Organizations,Community
ATTACH;FMTTYPE=image/png:https://www.goeldorado.com/wp-content/uploads/2025/06/food-fundraiser.png
END:VEVENT
BEGIN:VEVENT
DTSTART;TZID=America/Chicago:20250724T100000
DTEND;TZID=America/Chicago:20250724T110000
DTSTAMP:20260420T142659
CREATED:20250516T182013Z
LAST-MODIFIED:20250519T204749Z
UID:10025800-1753351200-1753354800@www.goeldorado.com
SUMMARY:One Heart Dojo @ Harper Memorial Library
DESCRIPTION:
URL:https://www.goeldorado.com/event/one-heart-dojo-harper-memorial-library/
LOCATION:Harper Memorial Library: Junction City\, 300 N Myrtle St\, Junction City\, AR\, 71749\, United States
CATEGORIES:Community,Family and Children
ORGANIZER;CN="Barton Library":MAILTO:eldorado@ucpls.org
END:VEVENT
BEGIN:VEVENT
DTSTART;TZID=America/Chicago:20250724T100000
DTEND;TZID=America/Chicago:20250724T110000
DTSTAMP:20260420T142659
CREATED:20250522T154848Z
LAST-MODIFIED:20250604T141813Z
UID:10025827-1753351200-1753354800@www.goeldorado.com
SUMMARY:Summer Fun @ The Museum: Hands on History: Derricks\, Pumping Units & Dinosaurs
DESCRIPTION:Come join the fun at the Arkansas Museum of Natural Resources. Every Thursday\, 10:00am for the month of July. Call 870-725-2877 for more information and to register.
URL:https://www.goeldorado.com/event/summer-fun-the-museum-3/
LOCATION:Arkansas Museum of Natural Resources\, 4087 Smackover Hwy\, Smackover\, AR\, 71730\, United States
CATEGORIES:Community,Family and Children
ATTACH;FMTTYPE=image/jpeg:https://www.goeldorado.com/wp-content/uploads/2025/05/summer-program-announcement3.jpg
END:VEVENT
BEGIN:VEVENT
DTSTART;TZID=America/Chicago:20250724T100000
DTEND;TZID=America/Chicago:20250724T120000
DTSTAMP:20260420T142659
CREATED:20250519T213611Z
LAST-MODIFIED:20250519T213611Z
UID:10025821-1753351200-1753358400@www.goeldorado.com
SUMMARY:Free Summer Movie: Transformers 1 @ Stars Theaters
DESCRIPTION:2025 FREE Kids Summer Movie Lineup\nTuesday and Thursday at 10am\nFREE ADMISSION\nGroups Encouraged\n\n\n6/3-6/5: Bad Guys\n6/10-6/12: Despicable Me 4\n6/17-6/19: Kung Fu Panda 4\n6/24-6/26: Harold and the Purple Crayon\n\n\n7/1-7/3: Wild Robot\n7/8-7/10: Sonic 3\n7/15-7/17: Garfield\n7/22-7/24: Transformers One
URL:https://www.goeldorado.com/event/free-summer-movie-transformers-1-stars-theaters-2/
LOCATION:Stars Theaters\, 2620 W Hillsboro\, El Dorado\, AR\, 71730\, United States
CATEGORIES:Community,Family and Children
ATTACH;FMTTYPE=image/jpeg:https://www.goeldorado.com/wp-content/uploads/2025/05/490518873_1090617426210215_4001920745127043942_n.jpg
END:VEVENT
BEGIN:VEVENT
DTSTART;TZID=America/Chicago:20250724T100000
DTEND;TZID=America/Chicago:20250724T200000
DTSTAMP:20260420T142659
CREATED:20250715T163103Z
LAST-MODIFIED:20250716T145542Z
UID:10027124-1753351200-1753387200@www.goeldorado.com
SUMMARY:SAAC Celebrates “Christmas in July” with Free Movie Screening of "The Best Christmas Pageant Ever"
DESCRIPTION:The South Arkansas Arts Center (SAAC) invites the community to celebrate the holiday spirit early with a special “Christmas in July” event on Thursday\, July 24 featuring a free screening of the heartwarming family film “The Best Christmas Pageant Ever\,” Sponsored by The El Dorado Film Festival and with licensing rights from Kingdom Story Company. \nThis free event serves as a festive promotional kick-off for SAAC’s upcoming winter theatre production of “The Best Christmas Pageant Ever.” As this will be a family-friendly event\, all guests under the age of 16 must be accompanied by an adult 18 years or older—no drop-offs will be permitted. Adult supervision is required.
URL:https://www.goeldorado.com/event/saac-celebrates-christmas-in-july-with-free-movie-screening-of-the-best-christmas-pageant-ever/
LOCATION:South Arkansas Arts Center
CATEGORIES:Arts & Culture,Community,Family and Children,Holiday
ATTACH;FMTTYPE=image/jpeg:https://www.goeldorado.com/wp-content/uploads/2025/07/BCPE-Movie-invite.jpg
END:VEVENT
BEGIN:VEVENT
DTSTART;TZID=America/Chicago:20250724T130000
DTEND;TZID=America/Chicago:20250724T140000
DTSTAMP:20260420T142659
CREATED:20250516T182225Z
LAST-MODIFIED:20250519T204824Z
UID:10025801-1753362000-1753365600@www.goeldorado.com
SUMMARY:Summer Reading Program Snow Cone Party at Strong Park
DESCRIPTION:
URL:https://www.goeldorado.com/event/summer-reading-program-snow-cone-party-at-strong-park/
LOCATION:strong library\, 2299 W 2nd Ave\, Strong\, AR\, 71765
CATEGORIES:Community,Family and Children
ORGANIZER;CN="Barton Library":MAILTO:eldorado@ucpls.org
END:VEVENT
BEGIN:VEVENT
DTSTART;TZID=America/Chicago:20250724T143000
DTEND;TZID=America/Chicago:20250724T153000
DTSTAMP:20260420T142659
CREATED:20250527T172906Z
LAST-MODIFIED:20250627T151132Z
UID:10026148-1753367400-1753371000@www.goeldorado.com
SUMMARY:Teatime with South Arkansas Center on Aging\, Live and Virtual
DESCRIPTION:Teatime with South Arkansas Center on Aging is a free Support Group that meets at 2:30p.m. the fourth Thursday of every month\, virtual and live. Meetings occur at 1119 N. Madison Avenue in El Dorado and online through our personalized ZOOM link. Visits include tips and resources for older adults and caregivers\, social contact for individuals who may live alone\, and care and support for those going through a stressful time. There will be guest speakers as well as coffee\, tea\, water and cookies made available for participants. \nPlease RSVP on our website so we can give you access to the ZOOM link and you will be able to join and participate in the meeting if you cannot join us in person.
URL:https://www.goeldorado.com/event/teatime-with-south-arkansas-center-on-aging-live-and-virtual-2/2025-07-24/
LOCATION:South Arkansas Center on Aging\, 1119 N Madison\, El Dorado\, AR\, 71730
CATEGORIES:Community
ATTACH;FMTTYPE=image/png:https://www.goeldorado.com/wp-content/uploads/2025/05/Teatime-JPG.png
END:VEVENT
END:VCALENDAR