BEGIN:VCALENDAR
VERSION:2.0
PRODID:-//El Dorado, Arkansas - ECPv6.15.20//NONSGML v1.0//EN
CALSCALE:GREGORIAN
METHOD:PUBLISH
X-WR-CALNAME:El Dorado, Arkansas
X-ORIGINAL-URL:https://www.goeldorado.com
X-WR-CALDESC:Events for El Dorado, Arkansas
REFRESH-INTERVAL;VALUE=DURATION:PT1H
X-Robots-Tag:noindex
X-PUBLISHED-TTL:PT1H
BEGIN:VTIMEZONE
TZID:America/Chicago
BEGIN:DAYLIGHT
TZOFFSETFROM:-0600
TZOFFSETTO:-0500
TZNAME:CDT
DTSTART:20230312T080000
END:DAYLIGHT
BEGIN:STANDARD
TZOFFSETFROM:-0500
TZOFFSETTO:-0600
TZNAME:CST
DTSTART:20231105T070000
END:STANDARD
BEGIN:DAYLIGHT
TZOFFSETFROM:-0600
TZOFFSETTO:-0500
TZNAME:CDT
DTSTART:20240310T080000
END:DAYLIGHT
BEGIN:STANDARD
TZOFFSETFROM:-0500
TZOFFSETTO:-0600
TZNAME:CST
DTSTART:20241103T070000
END:STANDARD
BEGIN:DAYLIGHT
TZOFFSETFROM:-0600
TZOFFSETTO:-0500
TZNAME:CDT
DTSTART:20250309T080000
END:DAYLIGHT
BEGIN:STANDARD
TZOFFSETFROM:-0500
TZOFFSETTO:-0600
TZNAME:CST
DTSTART:20251102T070000
END:STANDARD
END:VTIMEZONE
BEGIN:VEVENT
DTSTART;TZID=America/Chicago:20240510T160000
DTEND;TZID=America/Chicago:20240510T163000
DTSTAMP:20260420T101704
CREATED:20240223T162525Z
LAST-MODIFIED:20240223T162525Z
UID:10018677-1715356800-1715358600@www.goeldorado.com
SUMMARY:Ribbon Cutting: Sewphisticated Hair Studio
DESCRIPTION:
URL:https://www.goeldorado.com/event/ribbon-cutting-sewphisticated-hair-studio/
LOCATION:Arkansas
CATEGORIES:Business,Chamber Of Commerce
ATTACH;FMTTYPE=image/png:https://www.goeldorado.com/wp-content/uploads/2024/02/sewphifistaced-hair-salon.png
END:VEVENT
BEGIN:VEVENT
DTSTART;TZID=America/Chicago:20240509T190000
DTEND;TZID=America/Chicago:20240509T213000
DTSTAMP:20260420T101704
CREATED:20240105T135735Z
LAST-MODIFIED:20240425T195444Z
UID:10017764-1715281200-1715290200@www.goeldorado.com
SUMMARY:Comedian Rodney Carrington LIVE @ First Financial Music Hall
DESCRIPTION:Tickets: \nRodney Carrington – The Greatest Tits Tour Tickets\, Thu\, May 9\, 2024 at 7:00 PM | Eventbrite
URL:https://www.goeldorado.com/event/comedian-rodney-carrington-live-first-financial-music-hall/
LOCATION:First Financial Music hall\, 101 E Locust\, El Dorado\, AR\, 71730\, United States
CATEGORIES:Community
ATTACH;FMTTYPE=image/jpeg:https://www.goeldorado.com/wp-content/uploads/2024/01/rodneycarrington.jpg
END:VEVENT
BEGIN:VEVENT
DTSTART;TZID=America/Chicago:20240509T180000
DTEND;TZID=America/Chicago:20240509T200000
DTSTAMP:20260420T101704
CREATED:20240402T221549Z
LAST-MODIFIED:20240403T141710Z
UID:10018834-1715277600-1715284800@www.goeldorado.com
SUMMARY:Power of the Purse- A Dolly Parton Imagination Library Fundraiser
DESCRIPTION:It sounds almost too good to be true – free books for children in Union County\, Arkansas! \nTo support childhood literacy and the Dolly Parton Imagination Library\, the United Way of Union County will host Power of the Purse at 6 p.m. on Thursday\, May 9\, at the Granite Club in El Dorado. This event and the Dolly Parton Imagination Library were so special to Alexis! Join us as we continue to honor her and grow this wonderful program! \nThe Power of the Purse will feature a fashion show from local merchants\, a silent auction featuring designer purses and other items\, a dessert auction\, heavy hors d’oeuvres\, adult beverages\, and entertainment. \nIndividual tickets for the event are $40. Tickets for a designer purse raffle are also available for $5 each. Tickets can be purchased online at eventbrite.com. \nThanks to the Dolly Parton Imagination Library and the United Way of Union County\, children under the age of 5 can now have access to their own library. A book is mailed to each enrolled child every month until their fifth birthday. Currently\, almost 1\,500 children are enrolled in the program. We sent more than 17\,600 books to 1\,844 Union County kids in 2023. To enroll more children\, we must raise funds to continue to advance the program! \nAll proceeds from the event will directly benefit United Way of Union County’s early literacy initiative – the Dolly Parton Imagination Library. The book program is offered to families at no cost. Parents can register their eligible child/children online at www.imaginationlibrary.com. \nTo purchase tickets\, donate to the silent or dessert auction\, or get more information\, please get in touch with Tyler Turner at director@unitedwayunioncounty.com or 870.862.4903.
URL:https://www.goeldorado.com/event/power-of-the-purse-a-dolly-parton-imagination-library-fundraiser/
LOCATION:Arkansas
CATEGORIES:Community,Education,Live Music
ATTACH;FMTTYPE=image/jpeg:https://www.goeldorado.com/wp-content/uploads/2024/04/flyer-donate-purses.jpg
END:VEVENT
BEGIN:VEVENT
DTSTART;TZID=America/Chicago:20240509T170000
DTEND;TZID=America/Chicago:20240509T180000
DTSTAMP:20260420T101704
CREATED:20220809T212644Z
LAST-MODIFIED:20220816T204808Z
UID:10009506-1715274000-1715277600@www.goeldorado.com
SUMMARY:El Dorado City Council Meeting
DESCRIPTION:The City of El Dorado’s City Council meeting to discuss city business. Meeting is open to the public. To be placed on the agenda contact the Mayor’s office or your local Alderman. 
URL:https://www.goeldorado.com/event/el-dorado-city-council-meeting/2024-05-09/
LOCATION:Arkansas
CATEGORIES:Community,Government
END:VEVENT
BEGIN:VEVENT
DTSTART;TZID=America/Chicago:20240507T193000
DTEND;TZID=America/Chicago:20240507T223000
DTSTAMP:20260420T101704
CREATED:20240227T145710Z
LAST-MODIFIED:20240227T145710Z
UID:10018679-1715110200-1715121000@www.goeldorado.com
SUMMARY:George Thorogood and the Destroyers LIVE @ MAD
DESCRIPTION:
URL:https://www.goeldorado.com/event/george-thorogood-and-the-destroyers-live-mad/
LOCATION:First Financial Music hall\, 101 E Locust\, El Dorado\, AR\, 71730\, United States
CATEGORIES:Live Music
ATTACH;FMTTYPE=image/jpeg:https://www.goeldorado.com/wp-content/uploads/2024/02/428331222_7415169581878136_5786379341743712312_n.jpg
END:VEVENT
BEGIN:VEVENT
DTSTART;TZID=America/Chicago:20240506T183000
DTEND;TZID=America/Chicago:20240506T193000
DTSTAMP:20260420T101704
CREATED:20240506T160337Z
LAST-MODIFIED:20240506T160337Z
UID:10018939-1715020200-1715023800@www.goeldorado.com
SUMMARY:SAAC Theater Commitee Season Announcement
DESCRIPTION:
URL:https://www.goeldorado.com/event/saac-theater-commitee-season-announcement/
LOCATION:South Arkansas Arts Center
CATEGORIES:Arts & Culture,Community
ATTACH;FMTTYPE=image/jpeg:https://www.goeldorado.com/wp-content/uploads/2024/05/440985065_827758579388212_5368983034344621130_n-1.jpg
END:VEVENT
BEGIN:VEVENT
DTSTART;TZID=America/Chicago:20240504T193000
DTEND;TZID=America/Chicago:20240504T213000
DTSTAMP:20260420T101704
CREATED:20240123T222434Z
LAST-MODIFIED:20240123T222434Z
UID:10017804-1714851000-1714858200@www.goeldorado.com
SUMMARY:Marcuz Deon Creekwater LIVE @ DP's Food Truck Park
DESCRIPTION:
URL:https://www.goeldorado.com/event/marcuz-deon-creekwater-live-dps-food-truck-park/
LOCATION:DP’s Food Truck Court\, 2117 N College Ave\, 2117 N College Ave\, El Dorado\, AR\, 71730\, United States
CATEGORIES:Business,Community,Family and Children,Live Music
END:VEVENT
BEGIN:VEVENT
DTSTART;TZID=America/Chicago:20240504T180000
DTEND;TZID=America/Chicago:20240504T200000
DTSTAMP:20260420T101704
CREATED:20240229T175414Z
LAST-MODIFIED:20240229T175414Z
UID:10018683-1714845600-1714852800@www.goeldorado.com
SUMMARY:Tonio Armani LIVE in Concert
DESCRIPTION:  \nTonio Armani will be performing live :\nThe El Dorado High School Auditorium\n#Live #Concert #ElDorado #Arkansas \nHit Gospel Songs: \n– Free At Last (Finally Free)\n– Living Testimony\n– Somebody Prayed For Me\n– All I Need \nAnd Many More…\nCome Praise God With Us in Arkansas \nBig S/O to the Southern Arkansas\nMen of Purpose Prayer Warriors
URL:https://www.goeldorado.com/event/tonio-armani-live-in-concert/
LOCATION:EHS Auditorium\, 2000 Wildcat Dr\, El Dorado\, AR\, 71730\, United States
CATEGORIES:Community,Family and Children,Live Music
ATTACH;FMTTYPE=image/jpeg:https://www.goeldorado.com/wp-content/uploads/2024/02/show-at-EHS.jpg
END:VEVENT
BEGIN:VEVENT
DTSTART;TZID=America/Chicago:20240504T170000
DTEND;TZID=America/Chicago:20240504T213000
DTSTAMP:20260420T101704
CREATED:20230123T171108Z
LAST-MODIFIED:20230123T171108Z
UID:10011061-1714842000-1714858200@www.goeldorado.com
SUMMARY:Bingo @ The VFW
DESCRIPTION:The VFW will be hosting BINGO! Every Saturday night. \nQuarter Bingo starts at 5pm \nRegular Bingo starts at 7pm
URL:https://www.goeldorado.com/event/bingo-the-vfw/2024-05-04/
LOCATION:VFW\, 451 Industrial Rd\, El Dorado\, AR\, 71730\, United States
CATEGORIES:Clubs/Organizations,Community,Recreation & Sports
END:VEVENT
BEGIN:VEVENT
DTSTART;TZID=America/Chicago:20240504T080000
DTEND;TZID=America/Chicago:20240504T220000
DTSTAMP:20260420T101704
CREATED:20240205T202704Z
LAST-MODIFIED:20240205T202704Z
UID:10018347-1714809600-1714860000@www.goeldorado.com
SUMMARY:Jimmy Lewis & 8 Second Ride LIVE at Mad House 101
DESCRIPTION:
URL:https://www.goeldorado.com/event/jimmy-lewis-8-second-ride-live-at-mad-house-101/
LOCATION:MAD House 101 Restuarant and Bar\, 101 E Locust\, El Dorado\, AR\, 71730\, United States
CATEGORIES:Community,Live Music
ATTACH;FMTTYPE=image/jpeg:https://www.goeldorado.com/wp-content/uploads/2024/02/423236812_409539791447690_5248892401218997384_n.jpg
END:VEVENT
BEGIN:VEVENT
DTSTART;TZID=America/Chicago:20240504T080000
DTEND;TZID=America/Chicago:20240504T140000
DTSTAMP:20260420T101704
CREATED:20240130T194732Z
LAST-MODIFIED:20240130T194732Z
UID:10018193-1714809600-1714831200@www.goeldorado.com
SUMMARY:Mayhaw Festival
DESCRIPTION:
URL:https://www.goeldorado.com/event/mayhaw-festival-3/
LOCATION:Gallery of History Museum\, 415 E Faulkner\, El Dorado\, AR\, 71730
CATEGORIES:Festivals & Celebrations,Live Music
ORGANIZER;CN="South Arkansas Historical Preservation Society":MAILTO:info@soarkhistory.com
END:VEVENT
BEGIN:VEVENT
DTSTART;VALUE=DATE:20240504
DTEND;VALUE=DATE:20240505
DTSTAMP:20260420T101704
CREATED:20240103T180109Z
LAST-MODIFIED:20240103T195432Z
UID:10017751-1714780800-1714867199@www.goeldorado.com
SUMMARY:May on Main
DESCRIPTION:Information coming soon.  Check social media and our website for information as details become available \nMain Street El Dorado \nwww.mainstreeteldorado.org
URL:https://www.goeldorado.com/event/may-on-main-3/
LOCATION:Downtown El Dorado\, 101 N. Washington\, El Dorado\, AR\, 71730
CATEGORIES:Arts & Culture,Business,Chamber Of Commerce,Clubs/Organizations,Community,Festivals & Celebrations,Holiday,Live Music,Recreation & Sports
ATTACH;FMTTYPE=image/jpeg:https://www.goeldorado.com/wp-content/uploads/2024/01/MoM-logo.jpg
END:VEVENT
BEGIN:VEVENT
DTSTART;TZID=America/Chicago:20240502T180000
DTEND;TZID=America/Chicago:20240502T200000
DTSTAMP:20260420T101704
CREATED:20240409T185121Z
LAST-MODIFIED:20240411T195832Z
UID:10018837-1714672800-1714680000@www.goeldorado.com
SUMMARY:Chef's Table @ MAD (for Gold and Platinum Members)
DESCRIPTION:The Murphy Arts District is thrilled to announce that we are bringing back monthly Chef’s Tables for our Gold and Platinum members. This first one will be on May 2nd at 6:00 p.m.\nThis event is exclusive with only 30 seats available. Reserve yours today by calling (870) 444-3007 Ext. 106 or emailing madmembership@eldofest.com. More details will be provided via email confirmation.
URL:https://www.goeldorado.com/event/chefs-table-mad-for-gold-and-platinum-members/
LOCATION:Murphy Arts District\, 101 E. Locust Street\, El Dorado\, AR\, 71730\, United States
CATEGORIES:Arts & Culture
ATTACH;FMTTYPE=image/png:https://www.goeldorado.com/wp-content/uploads/2024/04/MAD-Member-Chefs-Table.png
END:VEVENT
BEGIN:VEVENT
DTSTART;TZID=America/Chicago:20240430T170000
DTEND;TZID=America/Chicago:20240430T183000
DTSTAMP:20260420T101704
CREATED:20240318T202327Z
LAST-MODIFIED:20240321T145116Z
UID:10018741-1714496400-1714501800@www.goeldorado.com
SUMMARY:Art Show Reception & Unveiling of SouthArk's Starry Night
DESCRIPTION:Join us for a reception celebrating the talent showcased by our own at the SouthArk Student\, Faculty\, and Staff Art Show! \nBe the first to witness the grand unveiling of “SouthArk’s Starry Night” – a masterpiece in the making. \nMingle with artists\, enjoy light refreshments\, and immerse yourself in the vibrant world of art. \nOpen to the public – it’s a night you won’t want to miss!
URL:https://www.goeldorado.com/event/art-show-reception-unveiling-of-southarks-starry-night/
LOCATION:Arkansas
CATEGORIES:Arts & Culture,Community,Education,Family and Children,Schools
ATTACH;FMTTYPE=image/png:https://www.goeldorado.com/wp-content/uploads/2024/03/Reception-Flyer-1.png
END:VEVENT
BEGIN:VEVENT
DTSTART;TZID=America/Chicago:20240429T110000
DTEND;TZID=America/Chicago:20240430T030000
DTSTAMP:20260420T101704
CREATED:20240410T032408Z
LAST-MODIFIED:20240411T195916Z
UID:10018838-1714388400-1714446000@www.goeldorado.com
SUMMARY:RISE Digital Literacy Mobile Lab
DESCRIPTION:
URL:https://www.goeldorado.com/event/rise-digital-literacy-mobile-lab/
LOCATION:South Arkansas Arts Center
CATEGORIES:Education
ATTACH;FMTTYPE=image/jpeg:https://www.goeldorado.com/wp-content/uploads/2024/04/Screenshot_20240405-111939_Facebook.jpg
END:VEVENT
BEGIN:VEVENT
DTSTART;TZID=America/Chicago:20240427T190000
DTEND;TZID=America/Chicago:20240427T220000
DTSTAMP:20260420T101704
CREATED:20231109T215902Z
LAST-MODIFIED:20240422T133037Z
UID:10016571-1714244400-1714255200@www.goeldorado.com
SUMMARY:Hansel & Gretel Opera w/ South Arkansas Symphony Orchestra & South Arkansas Arts Center
DESCRIPTION:
URL:https://www.goeldorado.com/event/hansel-gretel-opera-w-south-arkansas-symphony-orchestra-south-arkansas-arts-center/
LOCATION:Arkansas
CATEGORIES:Arts & Culture,Community,Family and Children,Live Music
END:VEVENT
BEGIN:VEVENT
DTSTART;TZID=America/Chicago:20240427T170000
DTEND;TZID=America/Chicago:20240427T213000
DTSTAMP:20260420T101704
CREATED:20230123T171108Z
LAST-MODIFIED:20230123T171108Z
UID:10011060-1714237200-1714253400@www.goeldorado.com
SUMMARY:Bingo @ The VFW
DESCRIPTION:The VFW will be hosting BINGO! Every Saturday night. \nQuarter Bingo starts at 5pm \nRegular Bingo starts at 7pm
URL:https://www.goeldorado.com/event/bingo-the-vfw/2024-04-27/
LOCATION:VFW\, 451 Industrial Rd\, El Dorado\, AR\, 71730\, United States
CATEGORIES:Clubs/Organizations,Community,Recreation & Sports
END:VEVENT
BEGIN:VEVENT
DTSTART;TZID=America/Chicago:20240427T160000
DTEND;TZID=America/Chicago:20240427T200000
DTSTAMP:20260420T101704
CREATED:20230628T143043Z
LAST-MODIFIED:20230628T143043Z
UID:10014423-1714233600-1714248000@www.goeldorado.com
SUMMARY:Cruise Night Car Show
DESCRIPTION:
URL:https://www.goeldorado.com/event/cruise-night-car-show/2024-04-27/
LOCATION:Downtown El Dorado\, 101 N. Washington\, El Dorado\, AR\, 71730
CATEGORIES:Clubs/Organizations,Community,Family and Children
ATTACH;FMTTYPE=image/jpeg:https://www.goeldorado.com/wp-content/uploads/2023/06/292313811_354253066884080_3925772226374212086_n.jpg
ORGANIZER;CN="Joe":MAILTO:jjsgourmetbbq@msn.com
END:VEVENT
BEGIN:VEVENT
DTSTART;TZID=America/Chicago:20240427T150000
DTEND;TZID=America/Chicago:20240427T233000
DTSTAMP:20260420T101704
CREATED:20240104T203821Z
LAST-MODIFIED:20240216T170417Z
UID:10017759-1714230000-1714260600@www.goeldorado.com
SUMMARY:Mr Mike Productions Presents: The 23rd annual Soul Fest
DESCRIPTION:The 23rd Annual South Arkansas SoulFest Saturday April 27th At The Union County Fairgrounds Starring Avail Hollywood\, F.P.J.\, MarcellusDaSinger\, PC Band\, Karen Wolfe\, Donnie Ray\, RoyalD\, Leroy Jermaine\, BluesBoyBo\, KaeDavine\, And More!!! Flyer&Details Dropping Soon!!! ELDORADO ARKANSAS!!!!
URL:https://www.goeldorado.com/event/mr-mike-productions-presents-the-23rd-annual-soul-fest/
LOCATION:Union County Fair Grounds\, 430 E 19th St\, El Dorado\, AR\, 71730\, United States
CATEGORIES:Chamber Of Commerce,Community,Live Music
ATTACH;FMTTYPE=image/jpeg:https://www.goeldorado.com/wp-content/uploads/2024/01/mr-mike.jpg
END:VEVENT
BEGIN:VEVENT
DTSTART;TZID=America/Chicago:20240427T100000
DTEND;TZID=America/Chicago:20240427T140000
DTSTAMP:20260420T101704
CREATED:20240415T164445Z
LAST-MODIFIED:20240415T174846Z
UID:10018840-1714212000-1714226400@www.goeldorado.com
SUMMARY:Prescription Drug Take Back @ Walmart from 10-2
DESCRIPTION:Turn in unneeded medication for safe disposal. This will be a drive through drop off. Simply drive up to the tent in front of the Pharmacy doors and a law enforcement officer will kindly take your medications and deposit them into a container for incineration. A volunteer will hand you information and other goodies.
URL:https://www.goeldorado.com/event/prescription-drug-take-back-walmart-from-10-2/
LOCATION:WalMart\, 2730 N West Ave\, El Dorado\, AR\, 71730
CATEGORIES:Community
ATTACH;FMTTYPE=image/jpeg:https://www.goeldorado.com/wp-content/uploads/2024/04/DrugTakeBack2024april-flyer.jpg
END:VEVENT
BEGIN:VEVENT
DTSTART;TZID=America/Chicago:20240427T100000
DTEND;TZID=America/Chicago:20240427T140000
DTSTAMP:20260420T101704
CREATED:20240318T204005Z
LAST-MODIFIED:20240321T145130Z
UID:10018742-1714212000-1714226400@www.goeldorado.com
SUMMARY:National  Arbor Day Celebration @ The Arboretum
DESCRIPTION:Arkansas State Parks and the Arkansas Museum of Natural Resources invite tree lovers in South Arkansas to join us at South Arkansas Arboretum for outdoor fun and an opportunity to explore and enjoy this beautiful natural resource on April 27\, 2024 from 10:00am – 2:00pm. Activities include planting loblolly pine trees in pots\, tree bark rubbings\, and an arboretum scavenger hunt. This program is fun for all ages! There is no fee for the program\, but to ensure we bring enough supplies and materials\, please call (870) 725-2877 or paige.creed@arkansas.gov to reserve your spot.
URL:https://www.goeldorado.com/event/national-arbor-day-celebration-the-arboretum/
LOCATION:Arkansas
CATEGORIES:Community,Family and Children,Festivals & Celebrations,Schools
ATTACH;FMTTYPE=image/jpeg:https://www.goeldorado.com/wp-content/uploads/2024/03/arboretum.jpg
END:VEVENT
BEGIN:VEVENT
DTSTART;TZID=America/Chicago:20240427T090000
DTEND;TZID=America/Chicago:20240427T113000
DTSTAMP:20260420T101704
CREATED:20240328T152830Z
LAST-MODIFIED:20240328T152830Z
UID:10018749-1714208400-1714217400@www.goeldorado.com
SUMMARY:Annual Plant Sale @ Farmer's Market at MAD
DESCRIPTION:
URL:https://www.goeldorado.com/event/annual-plant-sale-farmers-market-at-mad/
LOCATION:MAD Amphitheater\, 101 E Locust\, El Dorado\, AR\, 71730\, United States
CATEGORIES:Clubs/Organizations,Family and Children
ATTACH;FMTTYPE=image/png:https://www.goeldorado.com/wp-content/uploads/2024/03/Plant-Sale-2024.png
END:VEVENT
BEGIN:VEVENT
DTSTART;VALUE=DATE:20240426
DTEND;VALUE=DATE:20240428
DTSTAMP:20260420T101704
CREATED:20240112T202458Z
LAST-MODIFIED:20240119T161223Z
UID:10017777-1714089600-1714262399@www.goeldorado.com
SUMMARY:Home Improvement Expo
DESCRIPTION:Find Experts\, Inspiration & More\nAt the Home Improvement Expo\, our goal is simple: to inspire\, motivate and excite you for your upcoming home improvement – whether it’s a minor renovation or a major remodel. \nOur events feature a wide selection of home improvement professionals in a fun\, interactive environment. After meeting with and comparing our expert exhibitors\, we know you’ll be inspired and motivated to start planning with confidence. More importantly\, we want you to be excited for all the fantastic possibilities that come with your project! \nWhen it’s all said and done and you’re ready to celebrate your home\, we’ll do a little celebrating ourselves\, knowing we had some part in it.
URL:https://www.goeldorado.com/event/home-improvement-expo/
LOCATION:El Dorado Conference Center\, 311 S West Ave\, El Dorado\, 71730\, United States
CATEGORIES:Community
ATTACH;FMTTYPE=image/jpeg:https://www.goeldorado.com/wp-content/uploads/2024/01/BizBuz-ChamberCalendar-2024.jpg
ORGANIZER;CN="Biz Buz Events":MAILTO:tammy@bizbuzevents.com
END:VEVENT
BEGIN:VEVENT
DTSTART;TZID=America/Chicago:20240425T200000
DTEND;TZID=America/Chicago:20240425T220000
DTSTAMP:20260420T101704
CREATED:20240424T223118Z
LAST-MODIFIED:20240503T194632Z
UID:10018848-1714075200-1714082400@www.goeldorado.com
SUMMARY:Boomer Hill Band at MAD House 101
DESCRIPTION:
URL:https://www.goeldorado.com/event/boomer-hill-band-at-mad-house-101/
LOCATION:MAD House 101 Restuarant and Bar\, 101 E Locust\, El Dorado\, AR\, 71730\, United States
CATEGORIES:Live Music
ATTACH;FMTTYPE=image/jpeg:https://www.goeldorado.com/wp-content/uploads/2024/04/BHBMADHOUSECOVER.jpg
END:VEVENT
BEGIN:VEVENT
DTSTART;VALUE=DATE:20240425
DTEND;VALUE=DATE:20240430
DTSTAMP:20260420T101704
CREATED:20240103T175732Z
LAST-MODIFIED:20240103T195110Z
UID:10017750-1714003200-1714435199@www.goeldorado.com
SUMMARY:7th Annual Airstreams on the Square
DESCRIPTION:An urban camping experience that brings Airstream campers from all of the United States to camp around our courthouse.  They dine\, shop\, eat\, stay and play for 4 days in Downtown\nEl Dorado!
URL:https://www.goeldorado.com/event/7th-annual-airstreams-on-the-square/
LOCATION:Downtown El Dorado\, 101 N. Washington\, El Dorado\, AR\, 71730
CATEGORIES:Arts & Culture,Business,Chamber Of Commerce,Clubs/Organizations,Community,Festivals & Celebrations,Live Music,Recreation & Sports
ATTACH;FMTTYPE=image/jpeg:https://www.goeldorado.com/wp-content/uploads/2024/01/Airstream-Logo.jpg
END:VEVENT
BEGIN:VEVENT
DTSTART;TZID=America/Chicago:20240424T133000
DTEND;TZID=America/Chicago:20240424T143000
DTSTAMP:20260420T101704
CREATED:20240202T153524Z
LAST-MODIFIED:20240202T153524Z
UID:10018281-1713965400-1713969000@www.goeldorado.com
SUMMARY:Wednesday of Wonder @ Barton Library
DESCRIPTION:Wed
URL:https://www.goeldorado.com/event/wednesday-of-wonder-barton-library/2024-04-24/
LOCATION:Barton Library\, 200 E 5th\, El Dorado\, AR\, 71730\, United States
CATEGORIES:Arts & Culture,Community,Education,Family and Children
ATTACH;FMTTYPE=image/jpeg:https://www.goeldorado.com/wp-content/uploads/2024/02/423583792_689582633381336_6789171151967273724_n.jpg
ORGANIZER;CN="Barton Library":MAILTO:eldorado@ucpls.org
END:VEVENT
BEGIN:VEVENT
DTSTART;TZID=America/Chicago:20240424T120000
DTEND;TZID=America/Chicago:20240424T133000
DTSTAMP:20260420T101704
CREATED:20240319T140710Z
LAST-MODIFIED:20240321T145156Z
UID:10018744-1713960000-1713965400@www.goeldorado.com
SUMMARY:Lunch & Learn - The Future of Storytelling: Insights from Local Authors
DESCRIPTION:Help us celebrate Arts in April at South Arkansas College by joining us at the Mahony Family Library for our Lunch Lecture Series featuring a panel of local authors offering an enriching exploration into the world of storytelling. \nDelve into the creative minds of esteemed writers from our community as they share invaluable insights on the writing process\, navigating the publishing industry\, and the art of illustration in children’s books. Whether you’re an aspiring author\, an avid reader\, or simply intrigued by the magic of storytelling\, this event promises to inspire and inform. \nDon’t miss this opportunity to gain firsthand knowledge and connect with the future of storytelling! \nPanelists:  \nShaneil “PJ” Yarbrough – Author\, Educator\, and Speaker \nDr. Steve Smart – Retired Oral & Maxillofacial Surgeon and Author \nRamona Wood – Children’s Book Author & Illustrator \nHeath Waldrop – Director\, Marketing & Public Relations at SouthArk \n  \nPanel Facilitator / Emcee: Steve Biernacki\, Executive Director of the South Arkansas Historical Preservation Society
URL:https://www.goeldorado.com/event/lunch-learn-the-future-of-storytelling-insights-from-local-authors/
LOCATION:Arkansas
CATEGORIES:Arts & Culture,Business,Community,Education,Family and Children,Schools
ATTACH;FMTTYPE=image/png:https://www.goeldorado.com/wp-content/uploads/2024/03/Future-of-Storytelling.png
END:VEVENT
BEGIN:VEVENT
DTSTART;TZID=America/Chicago:20240424T113000
DTEND;TZID=America/Chicago:20240424T130000
DTSTAMP:20260420T101704
CREATED:20231211T221717Z
LAST-MODIFIED:20231211T221717Z
UID:10016610-1713958200-1713963600@www.goeldorado.com
SUMMARY:Admin Professionals Luncheon
DESCRIPTION:more details coming soon
URL:https://www.goeldorado.com/event/admin-professionals-luncheon/
LOCATION:El Dorado Golf & Country Club\, 101 Shady Side St\, El Dorado A\, AR\, 71730
CATEGORIES:Business,Chamber Of Commerce
END:VEVENT
BEGIN:VEVENT
DTSTART;TZID=America/Chicago:20240423T173000
DTEND;TZID=America/Chicago:20240423T190000
DTSTAMP:20260420T101704
CREATED:20240417T203231Z
LAST-MODIFIED:20240417T203231Z
UID:10018842-1713893400-1713898800@www.goeldorado.com
SUMMARY:Business After Hours: CARTI Cancer Center
DESCRIPTION:
URL:https://www.goeldorado.com/event/business-after-hours-carti-cancer-center/
LOCATION:Carti Canter Center\, 1601 N West AVe\, El Dorado
CATEGORIES:Business,Chamber Of Commerce
ATTACH;FMTTYPE=image/png:https://www.goeldorado.com/wp-content/uploads/2024/04/BAH-Carti.png
END:VEVENT
BEGIN:VEVENT
DTSTART;TZID=America/Chicago:20240421T140000
DTEND;TZID=America/Chicago:20240421T180000
DTSTAMP:20260420T101704
CREATED:20240315T143549Z
LAST-MODIFIED:20240315T150019Z
UID:10018710-1713708000-1713722400@www.goeldorado.com
SUMMARY:One City Serve Day #1 at Newhaven
DESCRIPTION:Join us as we partner with Newhaven Counseling to work on their new facility at 2301 Champagnolle Rd\, El Dorado\, AR 71730. For this project\, we will be inside deep cleaning/sanitizing the facility\, removing old furniture\, installing additional shelves\, and putting together beds. Items that we need you to bring: mops\, swiffers\, vacuums\, gloves for cleaning\, electric drills\, and anything else that makes cleaning easier.
URL:https://www.goeldorado.com/event/one-city-serve-day-1-at-newhaven/
LOCATION:Arkansas
CATEGORIES:Community
ATTACH;FMTTYPE=image/png:https://www.goeldorado.com/wp-content/uploads/2024/03/OneCityLogoMain.png
END:VEVENT
END:VCALENDAR