BEGIN:VCALENDAR
VERSION:2.0
PRODID:-//El Dorado, Arkansas - ECPv6.15.20//NONSGML v1.0//EN
CALSCALE:GREGORIAN
METHOD:PUBLISH
X-WR-CALNAME:El Dorado, Arkansas
X-ORIGINAL-URL:https://www.goeldorado.com
X-WR-CALDESC:Events for El Dorado, Arkansas
REFRESH-INTERVAL;VALUE=DURATION:PT1H
X-Robots-Tag:noindex
X-PUBLISHED-TTL:PT1H
BEGIN:VTIMEZONE
TZID:America/Chicago
BEGIN:DAYLIGHT
TZOFFSETFROM:-0600
TZOFFSETTO:-0500
TZNAME:CDT
DTSTART:20240310T080000
END:DAYLIGHT
BEGIN:STANDARD
TZOFFSETFROM:-0500
TZOFFSETTO:-0600
TZNAME:CST
DTSTART:20241103T070000
END:STANDARD
BEGIN:DAYLIGHT
TZOFFSETFROM:-0600
TZOFFSETTO:-0500
TZNAME:CDT
DTSTART:20250309T080000
END:DAYLIGHT
BEGIN:STANDARD
TZOFFSETFROM:-0500
TZOFFSETTO:-0600
TZNAME:CST
DTSTART:20251102T070000
END:STANDARD
BEGIN:DAYLIGHT
TZOFFSETFROM:-0600
TZOFFSETTO:-0500
TZNAME:CDT
DTSTART:20260308T080000
END:DAYLIGHT
BEGIN:STANDARD
TZOFFSETFROM:-0500
TZOFFSETTO:-0600
TZNAME:CST
DTSTART:20261101T070000
END:STANDARD
END:VTIMEZONE
BEGIN:VEVENT
DTSTART;TZID=America/Chicago:20250724T180000
DTEND;TZID=America/Chicago:20250724T190000
DTSTAMP:20260420T195355
CREATED:20241009T203328Z
LAST-MODIFIED:20241009T203328Z
UID:10022682-1753380000-1753383600@www.goeldorado.com
SUMMARY:Trivia @ DPs Food Truck Park
DESCRIPTION:
URL:https://www.goeldorado.com/event/trivia-dps-food-truck-park/2025-07-24/
LOCATION:DP’s Food Truck Court\, 2117 N College Ave\, 2117 N College Ave\, El Dorado\, AR\, 71730\, United States
CATEGORIES:Community,Family and Children
ATTACH;FMTTYPE=image/jpeg:https://www.goeldorado.com/wp-content/uploads/2023/11/trivia.jpg
END:VEVENT
BEGIN:VEVENT
DTSTART;TZID=America/Chicago:20250724T190000
DTEND;TZID=America/Chicago:20250724T230000
DTSTAMP:20260420T195355
CREATED:20250102T173410Z
LAST-MODIFIED:20250102T173410Z
UID:10023672-1753383600-1753398000@www.goeldorado.com
SUMMARY:8 Ball Tournament @ Hot Shots
DESCRIPTION:
URL:https://www.goeldorado.com/event/8-ball-tournament-hot-shots/2025-07-24/
LOCATION:Hot Shots\, 601 S Timberlane\, El Dorado\, AR\, 71730\, United States
CATEGORIES:Recreation & Sports
ATTACH;FMTTYPE=image/jpeg:https://www.goeldorado.com/wp-content/uploads/2025/01/466892415_1134041465397884_9191985232359032281_n.jpg
END:VEVENT
BEGIN:VEVENT
DTSTART;TZID=America/Chicago:20250725T190000
DTEND;TZID=America/Chicago:20250725T210000
DTSTAMP:20260420T195355
CREATED:20250512T202745Z
LAST-MODIFIED:20250512T203316Z
UID:10025733-1753470000-1753477200@www.goeldorado.com
SUMMARY:Boomer Hill Band at MAD House 101
DESCRIPTION:Boomer Hill Band Live at Mad House 101Friday\, July 25 | 7PM – 9PM | No Cover\nGet ready for a night of soul\, blues\, and rock ‘n’ roll as the Boomer Hill Band brings the heat to Mad House 101! Grab a drink\, bring some friends\, and kick off your weekend with high-energy tunes and good vibes—no cover charge\, just great music.
URL:https://www.goeldorado.com/event/boomer-hill-band-at-mad-house-101-2/
LOCATION:MAD House 101 Restuarant and Bar\, 101 E Locust\, El Dorado\, AR\, 71730\, United States
CATEGORIES:Live Music
ATTACH;FMTTYPE=image/jpeg:https://www.goeldorado.com/wp-content/uploads/2025/05/boomerhillbandjuly25.jpg
END:VEVENT
BEGIN:VEVENT
DTSTART;TZID=America/Chicago:20250726T070000
DTEND;TZID=America/Chicago:20250726T083000
DTSTAMP:20260420T195355
CREATED:20250326T151019Z
LAST-MODIFIED:20250326T212721Z
UID:10025435-1753513200-1753518600@www.goeldorado.com
SUMMARY:Women Moving Forward - Saturday Morning Walk
DESCRIPTION:Come join Women Moving Forward for a morning walk! Women Moving Forward is a Non-Profit Organization empowering women to take control of their health and wellness by incorporating walking and physical activity into their weekly schedule. Every Saturday morning we gather to walk\, talk\, and share with other women in our community. Our conversations are rich\, and our progress is real. Do yourself a favor and join us Saturday morning to Move Forward one step at a time. \n  \n(3) Facebook
URL:https://www.goeldorado.com/event/women-moving-forward-saturday-morning-walk-2/2025-07-26/
LOCATION:Memorial Stadium\, N West Ave\, El Dorado\, AR\, 71730\, United States
CATEGORIES:Clubs/Organizations,Community,Recreation & Sports
ATTACH;FMTTYPE=image/png:https://www.goeldorado.com/wp-content/uploads/2025/03/WMF-Saturday-Morning-Walk.png
ORGANIZER;CN="Women Moving Forward":MAILTO:womenmovingforward21@gmail.com
END:VEVENT
BEGIN:VEVENT
DTSTART;TZID=America/Chicago:20250726T090000
DTEND;TZID=America/Chicago:20250726T120000
DTSTAMP:20260420T195355
CREATED:20250605T133634Z
LAST-MODIFIED:20250605T133634Z
UID:10027015-1753520400-1753531200@www.goeldorado.com
SUMMARY:Farmers Market @ MAD
DESCRIPTION:
URL:https://www.goeldorado.com/event/farmers-market-mad/2025-07-26/
LOCATION:MAD Amphitheater\, 101 E Locust\, El Dorado\, AR\, 71730\, United States
CATEGORIES:Business,Community,Family and Children
END:VEVENT
BEGIN:VEVENT
DTSTART;TZID=America/Chicago:20250726T170000
DTEND;TZID=America/Chicago:20250726T213000
DTSTAMP:20260420T195355
CREATED:20230123T171108Z
LAST-MODIFIED:20230123T171108Z
UID:10011125-1753549200-1753565400@www.goeldorado.com
SUMMARY:Bingo @ The VFW
DESCRIPTION:The VFW will be hosting BINGO! Every Saturday night. \nQuarter Bingo starts at 5pm \nRegular Bingo starts at 7pm
URL:https://www.goeldorado.com/event/bingo-the-vfw/2025-07-26/
LOCATION:VFW\, 451 Industrial Rd\, El Dorado\, AR\, 71730\, United States
CATEGORIES:Clubs/Organizations,Community,Recreation & Sports
END:VEVENT
BEGIN:VEVENT
DTSTART;VALUE=DATE:20250728
DTEND;VALUE=DATE:20250801
DTSTAMP:20260420T195355
CREATED:20250620T173454Z
LAST-MODIFIED:20250620T191317Z
UID:10027105-1753660800-1754006399@www.goeldorado.com
SUMMARY:SAAC's iPad Drawing Camp
DESCRIPTION:This camp introduces participants to digital art creation\, teaching them how to craft graphic designs using SAAC iPads and the “Pro-Create” app. This approach to art education aims to develop digital literacy and contemporary artistic skills in a fun\, engaging setting.
URL:https://www.goeldorado.com/event/saacs-ipad-drawing-camp/
LOCATION:South Arkansas Arts Center
CATEGORIES:Arts & Culture,Family and Children
END:VEVENT
BEGIN:VEVENT
DTSTART;VALUE=DATE:20250728
DTEND;VALUE=DATE:20250803
DTSTAMP:20260420T195355
CREATED:20250620T174416Z
LAST-MODIFIED:20250620T191351Z
UID:10027106-1753660800-1754179199@www.goeldorado.com
SUMMARY:SAAC's Summer Ballet Camp - "The Greatest Circus"
DESCRIPTION:Participants will embody circus characters\, help create sets and costumes\, and gain behind-the-scenes experience\, culminating in a performance on August 8th at 6:00 PM. They will refine technique\, increase strength\, and build stage confidence. Senior dancers will focus on pointe work and set assistance\, while junior dancers enjoy fun ballet classes that promote stretching and storytelling through ballet. Whether flipping like trapeze artists\, gliding across the stage like tightrope walkers\, or spinning into the spotlight\, all dancers will have the opportunity to shine in this unique circus ballet experience. So grab your top hat and join — because the greatest show is you!
URL:https://www.goeldorado.com/event/saacs-summer-ballet-camp-the-greatest-circus/
LOCATION:South Arkansas Arts Center
CATEGORIES:Arts & Culture,Family and Children
END:VEVENT
BEGIN:VEVENT
DTSTART;TZID=America/Chicago:20250731T100000
DTEND;TZID=America/Chicago:20250731T110000
DTSTAMP:20260420T195355
CREATED:20250522T155750Z
LAST-MODIFIED:20250604T141929Z
UID:10025836-1753956000-1753959600@www.goeldorado.com
SUMMARY:Summer Fun @ The Museum: Hands on History: The Goat Women
DESCRIPTION:Come join the fun at the Arkansas Museum of Natural Resources. Every Thursday\, 10:00am  for the month of July. Call 870-725-2877 for more information and to register.
URL:https://www.goeldorado.com/event/summer-fun-the-museum-11/
LOCATION:Arkansas Museum of Natural Resources\, 4087 Smackover Hwy\, Smackover\, AR\, 71730\, United States
CATEGORIES:Family and Children
ATTACH;FMTTYPE=image/jpeg:https://www.goeldorado.com/wp-content/uploads/2025/05/summer-program-announcement4.jpg
END:VEVENT
BEGIN:VEVENT
DTSTART;TZID=America/Chicago:20250731T190000
DTEND;TZID=America/Chicago:20250731T230000
DTSTAMP:20260420T195355
CREATED:20250102T173410Z
LAST-MODIFIED:20250102T173410Z
UID:10023673-1753988400-1754002800@www.goeldorado.com
SUMMARY:8 Ball Tournament @ Hot Shots
DESCRIPTION:
URL:https://www.goeldorado.com/event/8-ball-tournament-hot-shots/2025-07-31/
LOCATION:Hot Shots\, 601 S Timberlane\, El Dorado\, AR\, 71730\, United States
CATEGORIES:Recreation & Sports
ATTACH;FMTTYPE=image/jpeg:https://www.goeldorado.com/wp-content/uploads/2025/01/466892415_1134041465397884_9191985232359032281_n.jpg
END:VEVENT
BEGIN:VEVENT
DTSTART;TZID=America/Chicago:20250802T070000
DTEND;TZID=America/Chicago:20250802T083000
DTSTAMP:20260420T195355
CREATED:20250326T151019Z
LAST-MODIFIED:20250326T212721Z
UID:10025436-1754118000-1754123400@www.goeldorado.com
SUMMARY:Women Moving Forward - Saturday Morning Walk
DESCRIPTION:Come join Women Moving Forward for a morning walk! Women Moving Forward is a Non-Profit Organization empowering women to take control of their health and wellness by incorporating walking and physical activity into their weekly schedule. Every Saturday morning we gather to walk\, talk\, and share with other women in our community. Our conversations are rich\, and our progress is real. Do yourself a favor and join us Saturday morning to Move Forward one step at a time. \n  \n(3) Facebook
URL:https://www.goeldorado.com/event/women-moving-forward-saturday-morning-walk-2/2025-08-02/
LOCATION:Memorial Stadium\, N West Ave\, El Dorado\, AR\, 71730\, United States
CATEGORIES:Clubs/Organizations,Community,Recreation & Sports
ATTACH;FMTTYPE=image/png:https://www.goeldorado.com/wp-content/uploads/2025/03/WMF-Saturday-Morning-Walk.png
ORGANIZER;CN="Women Moving Forward":MAILTO:womenmovingforward21@gmail.com
END:VEVENT
BEGIN:VEVENT
DTSTART;TZID=America/Chicago:20250802T090000
DTEND;TZID=America/Chicago:20250802T120000
DTSTAMP:20260420T195355
CREATED:20250605T133634Z
LAST-MODIFIED:20250605T133634Z
UID:10027016-1754125200-1754136000@www.goeldorado.com
SUMMARY:Farmers Market @ MAD
DESCRIPTION:
URL:https://www.goeldorado.com/event/farmers-market-mad/2025-08-02/
LOCATION:MAD Amphitheater\, 101 E Locust\, El Dorado\, AR\, 71730\, United States
CATEGORIES:Business,Community,Family and Children
END:VEVENT
BEGIN:VEVENT
DTSTART;TZID=America/Chicago:20250802T090000
DTEND;TZID=America/Chicago:20250802T130000
DTSTAMP:20260420T195355
CREATED:20250728T191328Z
LAST-MODIFIED:20250731T134414Z
UID:10027140-1754125200-1754139600@www.goeldorado.com
SUMMARY:2025 Union County Touch-A-Truck
DESCRIPTION:See life-sized trucks and equipment (fire\, police\, EMS\, construction\, and more!) and visit with community and workforce leaders! While you’re here\, donate a few items to help our kids in need go back to school with confidence! 9-10 am is a sensory-sensitive hour with less noise\, lights\, and people. See you on August 2nd at the garden center side of El Dorado Walmart!\n\nThank you to all of the area partners and companies who are making this possible!
URL:https://www.goeldorado.com/event/2025-union-county-touch-a-truck/
LOCATION:AR
CATEGORIES:Education,Family and Children
ATTACH;FMTTYPE=image/png:https://www.goeldorado.com/wp-content/uploads/2025/07/Touch-a-Truck-2025-at-WM.png
END:VEVENT
BEGIN:VEVENT
DTSTART;TZID=America/Chicago:20250802T170000
DTEND;TZID=America/Chicago:20250802T213000
DTSTAMP:20260420T195355
CREATED:20230123T171108Z
LAST-MODIFIED:20230123T171108Z
UID:10011126-1754154000-1754170200@www.goeldorado.com
SUMMARY:Bingo @ The VFW
DESCRIPTION:The VFW will be hosting BINGO! Every Saturday night. \nQuarter Bingo starts at 5pm \nRegular Bingo starts at 7pm
URL:https://www.goeldorado.com/event/bingo-the-vfw/2025-08-02/
LOCATION:VFW\, 451 Industrial Rd\, El Dorado\, AR\, 71730\, United States
CATEGORIES:Clubs/Organizations,Community,Recreation & Sports
END:VEVENT
BEGIN:VEVENT
DTSTART;TZID=America/Chicago:20250802T193000
DTEND;TZID=America/Chicago:20250802T210000
DTSTAMP:20260420T195355
CREATED:20250521T190355Z
LAST-MODIFIED:20250522T145015Z
UID:10025825-1754163000-1754168400@www.goeldorado.com
SUMMARY:Larry Fleet at First Financial Music Hall
DESCRIPTION:
URL:https://www.goeldorado.com/event/larry-fleet-at-first-financial-music-hall/
LOCATION:First Financial Music hall\, 101 E Locust\, El Dorado\, AR\, 71730\, United States
CATEGORIES:Live Music
ATTACH;FMTTYPE=image/jpeg:https://www.goeldorado.com/wp-content/uploads/2025/05/LARRYFLEETANNOUNCE-2.jpg
END:VEVENT
BEGIN:VEVENT
DTSTART;TZID=America/Chicago:20250804T090000
DTEND;TZID=America/Chicago:20250918T170000
DTSTAMP:20260420T195355
CREATED:20250715T160506Z
LAST-MODIFIED:20250716T144912Z
UID:10027123-1754298000-1758214800@www.goeldorado.com
SUMMARY:Louisiana Artist and ULM Professor Vitus Shell Presents “Free Lunch” at SAAC
DESCRIPTION:Louisiana-born artist and university assistant professor Vitus Shell will bring his compelling exhibition\, “Free Lunch\,” to the Merkle Gallery at the South Arkansas Arts Center from August 5 through October 29\, 2024. Shell’s powerful mixed-media works focus his interpretation of the black experience by deconstructing\, sampling\, and remixing themes of identity\, civil rights\, and contemporary black culture.
URL:https://www.goeldorado.com/event/louisiana-artist-and-ulm-professor-vitus-shell-presents-free-lunch-at-saac/
LOCATION:South Arkansas Arts Center
CATEGORIES:Arts & Culture
END:VEVENT
BEGIN:VEVENT
DTSTART;TZID=America/Chicago:20250804T180000
DTEND;TZID=America/Chicago:20250804T190000
DTSTAMP:20260420T195355
CREATED:20250303T222850Z
LAST-MODIFIED:20250303T222850Z
UID:10025358-1754330400-1754334000@www.goeldorado.com
SUMMARY:Union County Republican Committee
DESCRIPTION:Monthly meeting of area Republicans with civic and political speakers throughout the year. \nMeets the first Monday of each month at 6pm – Simmons Bank Building 2nd Floor Meeting Room. \nThe meeting is free and open to members and guests.  For more information\, text or call the \nclub secretary at 870.312.3127. UNION County Republicans | El Dorado AR | Facebook
URL:https://www.goeldorado.com/event/union-county-republican-committee-4/2025-08-04/
LOCATION:Simmons Bank\, 100 W Grove St 2nd floor\, El Dorado\, AR\, 71730\, United States
CATEGORIES:Clubs/Organizations,Community
END:VEVENT
BEGIN:VEVENT
DTSTART;TZID=America/Chicago:20250807T180000
DTEND;TZID=America/Chicago:20250807T190000
DTSTAMP:20260420T195355
CREATED:20241009T203328Z
LAST-MODIFIED:20241009T203328Z
UID:10022684-1754589600-1754593200@www.goeldorado.com
SUMMARY:Trivia @ DPs Food Truck Park
DESCRIPTION:
URL:https://www.goeldorado.com/event/trivia-dps-food-truck-park/2025-08-07/
LOCATION:DP’s Food Truck Court\, 2117 N College Ave\, 2117 N College Ave\, El Dorado\, AR\, 71730\, United States
CATEGORIES:Community,Family and Children
ATTACH;FMTTYPE=image/jpeg:https://www.goeldorado.com/wp-content/uploads/2023/11/trivia.jpg
END:VEVENT
BEGIN:VEVENT
DTSTART;TZID=America/Chicago:20250807T190000
DTEND;TZID=America/Chicago:20250807T230000
DTSTAMP:20260420T195355
CREATED:20250102T173410Z
LAST-MODIFIED:20250102T173410Z
UID:10023674-1754593200-1754607600@www.goeldorado.com
SUMMARY:8 Ball Tournament @ Hot Shots
DESCRIPTION:
URL:https://www.goeldorado.com/event/8-ball-tournament-hot-shots/2025-08-07/
LOCATION:Hot Shots\, 601 S Timberlane\, El Dorado\, AR\, 71730\, United States
CATEGORIES:Recreation & Sports
ATTACH;FMTTYPE=image/jpeg:https://www.goeldorado.com/wp-content/uploads/2025/01/466892415_1134041465397884_9191985232359032281_n.jpg
END:VEVENT
BEGIN:VEVENT
DTSTART;TZID=America/Chicago:20250808T190000
DTEND;TZID=America/Chicago:20250808T210000
DTSTAMP:20260420T195355
CREATED:20250512T210258Z
LAST-MODIFIED:20250801T155845Z
UID:10025734-1754679600-1754686800@www.goeldorado.com
SUMMARY:Marcus Sugg Presents: The King Returns Elvis Tribute
DESCRIPTION:🎤 Marcus Sugg Presents: The King Returns — A Tribute to Elvis \nJoin us on Friday\, August 8\, 2025\, at MAD House 101 Restaurant & Bar for a spectacular tribute to the one and only Elvis Presley. As part of the global Elvis Week celebrations\, Marcus Sugg brings his acclaimed show\, The King Returns\, to the stage\, delivering an electrifying performance that captures the essence of the King of Rock ‘n’ Roll.
URL:https://www.goeldorado.com/event/marcuss-sugg-presents-the-king-returns-elvis-tribute/
LOCATION:MAD House 101 Restuarant and Bar\, 101 E Locust\, El Dorado\, AR\, 71730\, United States
CATEGORIES:Live Music
ATTACH;FMTTYPE=image/jpeg:https://www.goeldorado.com/wp-content/uploads/2025/05/elvisweek.jpg
END:VEVENT
BEGIN:VEVENT
DTSTART;TZID=America/Chicago:20250809T070000
DTEND;TZID=America/Chicago:20250809T083000
DTSTAMP:20260420T195355
CREATED:20250326T151019Z
LAST-MODIFIED:20250326T212721Z
UID:10025437-1754722800-1754728200@www.goeldorado.com
SUMMARY:Women Moving Forward - Saturday Morning Walk
DESCRIPTION:Come join Women Moving Forward for a morning walk! Women Moving Forward is a Non-Profit Organization empowering women to take control of their health and wellness by incorporating walking and physical activity into their weekly schedule. Every Saturday morning we gather to walk\, talk\, and share with other women in our community. Our conversations are rich\, and our progress is real. Do yourself a favor and join us Saturday morning to Move Forward one step at a time. \n  \n(3) Facebook
URL:https://www.goeldorado.com/event/women-moving-forward-saturday-morning-walk-2/2025-08-09/
LOCATION:Memorial Stadium\, N West Ave\, El Dorado\, AR\, 71730\, United States
CATEGORIES:Clubs/Organizations,Community,Recreation & Sports
ATTACH;FMTTYPE=image/png:https://www.goeldorado.com/wp-content/uploads/2025/03/WMF-Saturday-Morning-Walk.png
ORGANIZER;CN="Women Moving Forward":MAILTO:womenmovingforward21@gmail.com
END:VEVENT
BEGIN:VEVENT
DTSTART;TZID=America/Chicago:20250809T080000
DTEND;TZID=America/Chicago:20250809T170000
DTSTAMP:20260420T195355
CREATED:20250729T210940Z
LAST-MODIFIED:20250729T210940Z
UID:10027139-1754726400-1754758800@www.goeldorado.com
SUMMARY:Back to School Free Hairstyles
DESCRIPTION:
URL:https://www.goeldorado.com/event/back-to-school-free-hairstyles/
LOCATION:Style Factory Hair Salon\, 1104 N. Madison Ave.\, El Dorado\, AR\, 71730\, United States
CATEGORIES:Community,Family and Children
ATTACH;FMTTYPE=image/jpeg:https://www.goeldorado.com/wp-content/uploads/2025/07/thumbnail_IMG_1938.jpg
END:VEVENT
BEGIN:VEVENT
DTSTART;TZID=America/Chicago:20250809T090000
DTEND;TZID=America/Chicago:20250809T120000
DTSTAMP:20260420T195355
CREATED:20250605T133634Z
LAST-MODIFIED:20250605T133634Z
UID:10027017-1754730000-1754740800@www.goeldorado.com
SUMMARY:Farmers Market @ MAD
DESCRIPTION:
URL:https://www.goeldorado.com/event/farmers-market-mad/2025-08-09/
LOCATION:MAD Amphitheater\, 101 E Locust\, El Dorado\, AR\, 71730\, United States
CATEGORIES:Business,Community,Family and Children
END:VEVENT
BEGIN:VEVENT
DTSTART;TZID=America/Chicago:20250809T090000
DTEND;TZID=America/Chicago:20250809T140000
DTSTAMP:20260420T195355
CREATED:20250512T184355Z
LAST-MODIFIED:20250616T210926Z
UID:10025726-1754730000-1754748000@www.goeldorado.com
SUMMARY:34th Annual Back to School Bash
DESCRIPTION:The annual event is sponsored by the Fairview Community Development Association and will be held at St. John Missionary Baptist Church on August 9th from 9:00 am – 2:00 pm.  The event is held every year to serve the children in our community grades K-6 with personal hygiene products\, dental hygiene products\, and school supplies.
URL:https://www.goeldorado.com/event/34th-annual-back-to-school-bash/
LOCATION:St John MBC\, 1018 Wilson\, El Dorado\, 71730\, United States
CATEGORIES:Community,Family and Children,Schools
ATTACH;FMTTYPE=image/png:https://www.goeldorado.com/wp-content/uploads/2025/06/BTSB-Updated-Flyer.png
END:VEVENT
BEGIN:VEVENT
DTSTART;TZID=America/Chicago:20250809T170000
DTEND;TZID=America/Chicago:20250809T213000
DTSTAMP:20260420T195355
CREATED:20230123T171108Z
LAST-MODIFIED:20230123T171108Z
UID:10011127-1754758800-1754775000@www.goeldorado.com
SUMMARY:Bingo @ The VFW
DESCRIPTION:The VFW will be hosting BINGO! Every Saturday night. \nQuarter Bingo starts at 5pm \nRegular Bingo starts at 7pm
URL:https://www.goeldorado.com/event/bingo-the-vfw/2025-08-09/
LOCATION:VFW\, 451 Industrial Rd\, El Dorado\, AR\, 71730\, United States
CATEGORIES:Clubs/Organizations,Community,Recreation & Sports
END:VEVENT
BEGIN:VEVENT
DTSTART;TZID=America/Chicago:20250809T180000
DTEND;TZID=America/Chicago:20250809T210000
DTSTAMP:20260420T195355
CREATED:20250730T210250Z
LAST-MODIFIED:20250731T134712Z
UID:10027142-1754762400-1754773200@www.goeldorado.com
SUMMARY:Ducks Unlimited Banquet
DESCRIPTION:Make plans to join us at the Union County DU banquet in El Dorado on Saturday\, August 9th! Enjoy a fantastic meal and great fun & fellowship at our event! Union Co. DU has been away for a couple of years\, and we plan to bring this event back in style\, and you won’t want to miss it! We’ll have a live & silent auction\, games\, raffles\, exclusive DU firearms and more\, featuring the all-new 2025 DU merchandise collection!\n\n\n\nDoors open at 5:30 PM at the El Dorado Conference Center located at 311 S West Ave\, El Dorado\, AR 71730.\n\n\n\nIf you have question’s\, call Roger @ 601-513-2180\, Jake @ 501-230-5503\, or Jimmy @ 870-918-0258. We look forward to seeing you there!
URL:https://www.goeldorado.com/event/ducks-unlimited-banquet/
LOCATION:AR
CATEGORIES:Clubs/Organizations,Community,Festivals & Celebrations,Recreation & Sports
ATTACH;FMTTYPE=image/png:https://www.goeldorado.com/wp-content/uploads/2025/07/El_Dorado_2026_Flyer.png
END:VEVENT
BEGIN:VEVENT
DTSTART;TZID=America/Chicago:20250814T170000
DTEND;TZID=America/Chicago:20250814T180000
DTSTAMP:20260420T195355
CREATED:20250808T172204Z
LAST-MODIFIED:20250808T172338Z
UID:10009521-1755190800-1755194400@www.goeldorado.com
SUMMARY:El Dorado City Council Meeting
DESCRIPTION:The City of El Dorado’s City Council meeting to discuss city business. Meeting is open to the public. To be placed on the agenda contact the Mayor’s office or your local Alderman.
URL:https://www.goeldorado.com/event/el-dorado-city-council-meeting-2/
LOCATION:AR
CATEGORIES:Community,Government
ATTACH;FMTTYPE=image/jpeg:https://www.goeldorado.com/wp-content/uploads/2025/08/2025-August-Regular-Agenda-draft-1-1.jpg
END:VEVENT
BEGIN:VEVENT
DTSTART;TZID=America/Chicago:20250814T180000
DTEND;TZID=America/Chicago:20250814T190000
DTSTAMP:20260420T195355
CREATED:20241009T203328Z
LAST-MODIFIED:20241009T203328Z
UID:10022685-1755194400-1755198000@www.goeldorado.com
SUMMARY:Trivia @ DPs Food Truck Park
DESCRIPTION:
URL:https://www.goeldorado.com/event/trivia-dps-food-truck-park/2025-08-14/
LOCATION:DP’s Food Truck Court\, 2117 N College Ave\, 2117 N College Ave\, El Dorado\, AR\, 71730\, United States
CATEGORIES:Community,Family and Children
ATTACH;FMTTYPE=image/jpeg:https://www.goeldorado.com/wp-content/uploads/2023/11/trivia.jpg
END:VEVENT
BEGIN:VEVENT
DTSTART;TZID=America/Chicago:20250814T190000
DTEND;TZID=America/Chicago:20250814T230000
DTSTAMP:20260420T195355
CREATED:20250102T173410Z
LAST-MODIFIED:20250102T173410Z
UID:10023675-1755198000-1755212400@www.goeldorado.com
SUMMARY:8 Ball Tournament @ Hot Shots
DESCRIPTION:
URL:https://www.goeldorado.com/event/8-ball-tournament-hot-shots/2025-08-14/
LOCATION:Hot Shots\, 601 S Timberlane\, El Dorado\, AR\, 71730\, United States
CATEGORIES:Recreation & Sports
ATTACH;FMTTYPE=image/jpeg:https://www.goeldorado.com/wp-content/uploads/2025/01/466892415_1134041465397884_9191985232359032281_n.jpg
END:VEVENT
BEGIN:VEVENT
DTSTART;TZID=America/Chicago:20250815T183000
DTEND;TZID=America/Chicago:20250815T203000
DTSTAMP:20260420T195355
CREATED:20250814T201301Z
LAST-MODIFIED:20250814T201301Z
UID:10027162-1755282600-1755289800@www.goeldorado.com
SUMMARY:Meet the Cats!
DESCRIPTION:
URL:https://www.goeldorado.com/event/meet-the-cats/
LOCATION:Memorial Stadium\, N West Ave\, El Dorado\, AR\, 71730\, United States
CATEGORIES:Education,Recreation & Sports,Schools
ATTACH;FMTTYPE=image/jpeg:https://www.goeldorado.com/wp-content/uploads/2025/08/530940279_745624114926679_1139768184388728231_n.jpg
END:VEVENT
END:VCALENDAR