BEGIN:VCALENDAR
VERSION:2.0
PRODID:-//El Dorado, Arkansas - ECPv6.15.20//NONSGML v1.0//EN
CALSCALE:GREGORIAN
METHOD:PUBLISH
X-WR-CALNAME:El Dorado, Arkansas
X-ORIGINAL-URL:https://www.goeldorado.com
X-WR-CALDESC:Events for El Dorado, Arkansas
REFRESH-INTERVAL;VALUE=DURATION:PT1H
X-Robots-Tag:noindex
X-PUBLISHED-TTL:PT1H
BEGIN:VTIMEZONE
TZID:America/Chicago
BEGIN:DAYLIGHT
TZOFFSETFROM:-0600
TZOFFSETTO:-0500
TZNAME:CDT
DTSTART:20250309T080000
END:DAYLIGHT
BEGIN:STANDARD
TZOFFSETFROM:-0500
TZOFFSETTO:-0600
TZNAME:CST
DTSTART:20251102T070000
END:STANDARD
BEGIN:DAYLIGHT
TZOFFSETFROM:-0600
TZOFFSETTO:-0500
TZNAME:CDT
DTSTART:20260308T080000
END:DAYLIGHT
BEGIN:STANDARD
TZOFFSETFROM:-0500
TZOFFSETTO:-0600
TZNAME:CST
DTSTART:20261101T070000
END:STANDARD
BEGIN:DAYLIGHT
TZOFFSETFROM:-0600
TZOFFSETTO:-0500
TZNAME:CDT
DTSTART:20270314T080000
END:DAYLIGHT
BEGIN:STANDARD
TZOFFSETFROM:-0500
TZOFFSETTO:-0600
TZNAME:CST
DTSTART:20271107T070000
END:STANDARD
END:VTIMEZONE
BEGIN:VEVENT
DTSTART;TZID=America/Chicago:20260601T090000
DTEND;TZID=America/Chicago:20260601T140000
DTSTAMP:20260420T140017
CREATED:20260407T194027Z
LAST-MODIFIED:20260408T173613Z
UID:10029760-1780304400-1780322400@www.goeldorado.com
SUMMARY:Horizons Day Camp
DESCRIPTION:Please register for this camp at Horizons located 915 Arkansas St\, El Dorado\, AR 71730
URL:https://www.goeldorado.com/event/horizons-day-camp/2026-06-01/
CATEGORIES:Clubs/Organizations,Community,Recreation & Sports
ATTACH;FMTTYPE=image/jpeg:https://www.goeldorado.com/wp-content/uploads/2026/04/Horizons-Day-Camp-2026-1.jpg
END:VEVENT
BEGIN:VEVENT
DTSTART;TZID=America/Chicago:20260602T090000
DTEND;TZID=America/Chicago:20260602T140000
DTSTAMP:20260420T140017
CREATED:20260407T194027Z
LAST-MODIFIED:20260408T173613Z
UID:10029761-1780390800-1780408800@www.goeldorado.com
SUMMARY:Horizons Day Camp
DESCRIPTION:Please register for this camp at Horizons located 915 Arkansas St\, El Dorado\, AR 71730
URL:https://www.goeldorado.com/event/horizons-day-camp/2026-06-02/
CATEGORIES:Clubs/Organizations,Community,Recreation & Sports
ATTACH;FMTTYPE=image/jpeg:https://www.goeldorado.com/wp-content/uploads/2026/04/Horizons-Day-Camp-2026-1.jpg
END:VEVENT
BEGIN:VEVENT
DTSTART;TZID=America/Chicago:20260603T090000
DTEND;TZID=America/Chicago:20260603T140000
DTSTAMP:20260420T140017
CREATED:20260407T194027Z
LAST-MODIFIED:20260408T173613Z
UID:10029762-1780477200-1780495200@www.goeldorado.com
SUMMARY:Horizons Day Camp
DESCRIPTION:Please register for this camp at Horizons located 915 Arkansas St\, El Dorado\, AR 71730
URL:https://www.goeldorado.com/event/horizons-day-camp/2026-06-03/
CATEGORIES:Clubs/Organizations,Community,Recreation & Sports
ATTACH;FMTTYPE=image/jpeg:https://www.goeldorado.com/wp-content/uploads/2026/04/Horizons-Day-Camp-2026-1.jpg
END:VEVENT
END:VCALENDAR