BEGIN:VCALENDAR
VERSION:2.0
PRODID:-//El Dorado, Arkansas - ECPv6.15.20//NONSGML v1.0//EN
CALSCALE:GREGORIAN
METHOD:PUBLISH
X-WR-CALNAME:El Dorado, Arkansas
X-ORIGINAL-URL:https://www.goeldorado.com
X-WR-CALDESC:Events for El Dorado, Arkansas
REFRESH-INTERVAL;VALUE=DURATION:PT1H
X-Robots-Tag:noindex
X-PUBLISHED-TTL:PT1H
BEGIN:VTIMEZONE
TZID:America/Chicago
BEGIN:DAYLIGHT
TZOFFSETFROM:-0600
TZOFFSETTO:-0500
TZNAME:CDT
DTSTART:20230312T080000
END:DAYLIGHT
BEGIN:STANDARD
TZOFFSETFROM:-0500
TZOFFSETTO:-0600
TZNAME:CST
DTSTART:20231105T070000
END:STANDARD
BEGIN:DAYLIGHT
TZOFFSETFROM:-0600
TZOFFSETTO:-0500
TZNAME:CDT
DTSTART:20240310T080000
END:DAYLIGHT
BEGIN:STANDARD
TZOFFSETFROM:-0500
TZOFFSETTO:-0600
TZNAME:CST
DTSTART:20241103T070000
END:STANDARD
BEGIN:DAYLIGHT
TZOFFSETFROM:-0600
TZOFFSETTO:-0500
TZNAME:CDT
DTSTART:20250309T080000
END:DAYLIGHT
BEGIN:STANDARD
TZOFFSETFROM:-0500
TZOFFSETTO:-0600
TZNAME:CST
DTSTART:20251102T070000
END:STANDARD
BEGIN:DAYLIGHT
TZOFFSETFROM:-0600
TZOFFSETTO:-0500
TZNAME:CDT
DTSTART:20260308T080000
END:DAYLIGHT
BEGIN:STANDARD
TZOFFSETFROM:-0500
TZOFFSETTO:-0600
TZNAME:CST
DTSTART:20261101T070000
END:STANDARD
END:VTIMEZONE
BEGIN:VEVENT
DTSTART;TZID=America/Chicago:20250626T180000
DTEND;TZID=America/Chicago:20250626T190000
DTSTAMP:20260421T074314
CREATED:20241009T203328Z
LAST-MODIFIED:20241009T203328Z
UID:10022678-1750960800-1750964400@www.goeldorado.com
SUMMARY:Trivia @ DPs Food Truck Park
DESCRIPTION:
URL:https://www.goeldorado.com/event/trivia-dps-food-truck-park/2025-06-26/
LOCATION:DP’s Food Truck Court\, 2117 N College Ave\, 2117 N College Ave\, El Dorado\, AR\, 71730\, United States
CATEGORIES:Community,Family and Children
ATTACH;FMTTYPE=image/jpeg:https://www.goeldorado.com/wp-content/uploads/2023/11/trivia.jpg
END:VEVENT
BEGIN:VEVENT
DTSTART;TZID=America/Chicago:20250619T180000
DTEND;TZID=America/Chicago:20250619T190000
DTSTAMP:20260421T074314
CREATED:20241009T203328Z
LAST-MODIFIED:20241009T203328Z
UID:10022677-1750356000-1750359600@www.goeldorado.com
SUMMARY:Trivia @ DPs Food Truck Park
DESCRIPTION:
URL:https://www.goeldorado.com/event/trivia-dps-food-truck-park/2025-06-19/
LOCATION:DP’s Food Truck Court\, 2117 N College Ave\, 2117 N College Ave\, El Dorado\, AR\, 71730\, United States
CATEGORIES:Community,Family and Children
ATTACH;FMTTYPE=image/jpeg:https://www.goeldorado.com/wp-content/uploads/2023/11/trivia.jpg
END:VEVENT
BEGIN:VEVENT
DTSTART;TZID=America/Chicago:20250613T180000
DTEND;TZID=America/Chicago:20250613T200000
DTSTAMP:20260421T074314
CREATED:20250603T145551Z
LAST-MODIFIED:20250603T145551Z
UID:10026959-1749837600-1749844800@www.goeldorado.com
SUMMARY:Glenn Parker LIVE @ DP's Food Truck Park
DESCRIPTION:
URL:https://www.goeldorado.com/event/glenn-parker-live-dps-food-truck-park/
LOCATION:DP’s Food Truck Court\, 2117 N College Ave\, 2117 N College Ave\, El Dorado\, AR\, 71730\, United States
CATEGORIES:Community,Family and Children,Live Music
ATTACH;FMTTYPE=image/jpeg:https://www.goeldorado.com/wp-content/uploads/2025/06/488541604_578716695223632_3254399281569800675_n.jpg
END:VEVENT
BEGIN:VEVENT
DTSTART;TZID=America/Chicago:20250605T180000
DTEND;TZID=America/Chicago:20250605T190000
DTSTAMP:20260421T074314
CREATED:20241009T203328Z
LAST-MODIFIED:20241009T203328Z
UID:10022675-1749146400-1749150000@www.goeldorado.com
SUMMARY:Trivia @ DPs Food Truck Park
DESCRIPTION:
URL:https://www.goeldorado.com/event/trivia-dps-food-truck-park/2025-06-05/
LOCATION:DP’s Food Truck Court\, 2117 N College Ave\, 2117 N College Ave\, El Dorado\, AR\, 71730\, United States
CATEGORIES:Community,Family and Children
ATTACH;FMTTYPE=image/jpeg:https://www.goeldorado.com/wp-content/uploads/2023/11/trivia.jpg
END:VEVENT
BEGIN:VEVENT
DTSTART;TZID=America/Chicago:20250529T180000
DTEND;TZID=America/Chicago:20250529T190000
DTSTAMP:20260421T074314
CREATED:20241009T203328Z
LAST-MODIFIED:20241009T203328Z
UID:10022674-1748541600-1748545200@www.goeldorado.com
SUMMARY:Trivia @ DPs Food Truck Park
DESCRIPTION:
URL:https://www.goeldorado.com/event/trivia-dps-food-truck-park/2025-05-29/
LOCATION:DP’s Food Truck Court\, 2117 N College Ave\, 2117 N College Ave\, El Dorado\, AR\, 71730\, United States
CATEGORIES:Community,Family and Children
ATTACH;FMTTYPE=image/jpeg:https://www.goeldorado.com/wp-content/uploads/2023/11/trivia.jpg
END:VEVENT
BEGIN:VEVENT
DTSTART;TZID=America/Chicago:20250522T180000
DTEND;TZID=America/Chicago:20250522T190000
DTSTAMP:20260421T074314
CREATED:20241009T203328Z
LAST-MODIFIED:20241009T203328Z
UID:10022673-1747936800-1747940400@www.goeldorado.com
SUMMARY:Trivia @ DPs Food Truck Park
DESCRIPTION:
URL:https://www.goeldorado.com/event/trivia-dps-food-truck-park/2025-05-22/
LOCATION:DP’s Food Truck Court\, 2117 N College Ave\, 2117 N College Ave\, El Dorado\, AR\, 71730\, United States
CATEGORIES:Community,Family and Children
ATTACH;FMTTYPE=image/jpeg:https://www.goeldorado.com/wp-content/uploads/2023/11/trivia.jpg
END:VEVENT
BEGIN:VEVENT
DTSTART;TZID=America/Chicago:20250515T180000
DTEND;TZID=America/Chicago:20250515T190000
DTSTAMP:20260421T074314
CREATED:20241009T203328Z
LAST-MODIFIED:20241009T203328Z
UID:10022672-1747332000-1747335600@www.goeldorado.com
SUMMARY:Trivia @ DPs Food Truck Park
DESCRIPTION:
URL:https://www.goeldorado.com/event/trivia-dps-food-truck-park/2025-05-15/
LOCATION:DP’s Food Truck Court\, 2117 N College Ave\, 2117 N College Ave\, El Dorado\, AR\, 71730\, United States
CATEGORIES:Community,Family and Children
ATTACH;FMTTYPE=image/jpeg:https://www.goeldorado.com/wp-content/uploads/2023/11/trivia.jpg
END:VEVENT
BEGIN:VEVENT
DTSTART;TZID=America/Chicago:20250508T180000
DTEND;TZID=America/Chicago:20250508T190000
DTSTAMP:20260421T074314
CREATED:20241009T203328Z
LAST-MODIFIED:20241009T203328Z
UID:10022671-1746727200-1746730800@www.goeldorado.com
SUMMARY:Trivia @ DPs Food Truck Park
DESCRIPTION:
URL:https://www.goeldorado.com/event/trivia-dps-food-truck-park/2025-05-08/
LOCATION:DP’s Food Truck Court\, 2117 N College Ave\, 2117 N College Ave\, El Dorado\, AR\, 71730\, United States
CATEGORIES:Community,Family and Children
ATTACH;FMTTYPE=image/jpeg:https://www.goeldorado.com/wp-content/uploads/2023/11/trivia.jpg
END:VEVENT
BEGIN:VEVENT
DTSTART;TZID=America/Chicago:20250501T180000
DTEND;TZID=America/Chicago:20250501T190000
DTSTAMP:20260421T074314
CREATED:20241009T203328Z
LAST-MODIFIED:20241009T203328Z
UID:10022670-1746122400-1746126000@www.goeldorado.com
SUMMARY:Trivia @ DPs Food Truck Park
DESCRIPTION:
URL:https://www.goeldorado.com/event/trivia-dps-food-truck-park/2025-05-01/
LOCATION:DP’s Food Truck Court\, 2117 N College Ave\, 2117 N College Ave\, El Dorado\, AR\, 71730\, United States
CATEGORIES:Community,Family and Children
ATTACH;FMTTYPE=image/jpeg:https://www.goeldorado.com/wp-content/uploads/2023/11/trivia.jpg
END:VEVENT
BEGIN:VEVENT
DTSTART;TZID=America/Chicago:20250424T180000
DTEND;TZID=America/Chicago:20250424T190000
DTSTAMP:20260421T074314
CREATED:20241009T203328Z
LAST-MODIFIED:20241009T203328Z
UID:10022669-1745517600-1745521200@www.goeldorado.com
SUMMARY:Trivia @ DPs Food Truck Park
DESCRIPTION:
URL:https://www.goeldorado.com/event/trivia-dps-food-truck-park/2025-04-24/
LOCATION:DP’s Food Truck Court\, 2117 N College Ave\, 2117 N College Ave\, El Dorado\, AR\, 71730\, United States
CATEGORIES:Community,Family and Children
ATTACH;FMTTYPE=image/jpeg:https://www.goeldorado.com/wp-content/uploads/2023/11/trivia.jpg
END:VEVENT
BEGIN:VEVENT
DTSTART;TZID=America/Chicago:20250417T180000
DTEND;TZID=America/Chicago:20250417T190000
DTSTAMP:20260421T074314
CREATED:20241009T203328Z
LAST-MODIFIED:20241009T203328Z
UID:10022668-1744912800-1744916400@www.goeldorado.com
SUMMARY:Trivia @ DPs Food Truck Park
DESCRIPTION:
URL:https://www.goeldorado.com/event/trivia-dps-food-truck-park/2025-04-17/
LOCATION:DP’s Food Truck Court\, 2117 N College Ave\, 2117 N College Ave\, El Dorado\, AR\, 71730\, United States
CATEGORIES:Community,Family and Children
ATTACH;FMTTYPE=image/jpeg:https://www.goeldorado.com/wp-content/uploads/2023/11/trivia.jpg
END:VEVENT
BEGIN:VEVENT
DTSTART;TZID=America/Chicago:20250410T180000
DTEND;TZID=America/Chicago:20250410T190000
DTSTAMP:20260421T074314
CREATED:20241009T203328Z
LAST-MODIFIED:20241009T203328Z
UID:10022667-1744308000-1744311600@www.goeldorado.com
SUMMARY:Trivia @ DPs Food Truck Park
DESCRIPTION:
URL:https://www.goeldorado.com/event/trivia-dps-food-truck-park/2025-04-10/
LOCATION:DP’s Food Truck Court\, 2117 N College Ave\, 2117 N College Ave\, El Dorado\, AR\, 71730\, United States
CATEGORIES:Community,Family and Children
ATTACH;FMTTYPE=image/jpeg:https://www.goeldorado.com/wp-content/uploads/2023/11/trivia.jpg
END:VEVENT
BEGIN:VEVENT
DTSTART;TZID=America/Chicago:20250405T180000
DTEND;TZID=America/Chicago:20250405T210000
DTSTAMP:20260421T074314
CREATED:20250306T220059Z
LAST-MODIFIED:20250328T191222Z
UID:10025373-1743876000-1743886800@www.goeldorado.com
SUMMARY:Glenn Parker LIVE at DPs Food Truck Park
DESCRIPTION:
URL:https://www.goeldorado.com/event/glenn-parker-live-at-dps-food-truck-park/
LOCATION:DP’s Food Truck Court\, 2117 N College Ave\, 2117 N College Ave\, El Dorado\, AR\, 71730\, United States
CATEGORIES:Community,Family and Children,Live Music
ATTACH;FMTTYPE=image/jpeg:https://www.goeldorado.com/wp-content/uploads/2025/03/487309906_10233195855911146_8753006045145834888_n.jpg
END:VEVENT
BEGIN:VEVENT
DTSTART;TZID=America/Chicago:20250403T180000
DTEND;TZID=America/Chicago:20250403T190000
DTSTAMP:20260421T074314
CREATED:20241009T203328Z
LAST-MODIFIED:20241009T203328Z
UID:10022666-1743703200-1743706800@www.goeldorado.com
SUMMARY:Trivia @ DPs Food Truck Park
DESCRIPTION:
URL:https://www.goeldorado.com/event/trivia-dps-food-truck-park/2025-04-03/
LOCATION:DP’s Food Truck Court\, 2117 N College Ave\, 2117 N College Ave\, El Dorado\, AR\, 71730\, United States
CATEGORIES:Community,Family and Children
ATTACH;FMTTYPE=image/jpeg:https://www.goeldorado.com/wp-content/uploads/2023/11/trivia.jpg
END:VEVENT
BEGIN:VEVENT
DTSTART;TZID=America/Chicago:20250327T180000
DTEND;TZID=America/Chicago:20250327T190000
DTSTAMP:20260421T074314
CREATED:20241009T203328Z
LAST-MODIFIED:20241009T203328Z
UID:10022665-1743098400-1743102000@www.goeldorado.com
SUMMARY:Trivia @ DPs Food Truck Park
DESCRIPTION:
URL:https://www.goeldorado.com/event/trivia-dps-food-truck-park/2025-03-27/
LOCATION:DP’s Food Truck Court\, 2117 N College Ave\, 2117 N College Ave\, El Dorado\, AR\, 71730\, United States
CATEGORIES:Community,Family and Children
ATTACH;FMTTYPE=image/jpeg:https://www.goeldorado.com/wp-content/uploads/2023/11/trivia.jpg
END:VEVENT
BEGIN:VEVENT
DTSTART;TZID=America/Chicago:20250320T180000
DTEND;TZID=America/Chicago:20250320T190000
DTSTAMP:20260421T074314
CREATED:20241009T203328Z
LAST-MODIFIED:20241009T203328Z
UID:10022664-1742493600-1742497200@www.goeldorado.com
SUMMARY:Trivia @ DPs Food Truck Park
DESCRIPTION:
URL:https://www.goeldorado.com/event/trivia-dps-food-truck-park/2025-03-20/
LOCATION:DP’s Food Truck Court\, 2117 N College Ave\, 2117 N College Ave\, El Dorado\, AR\, 71730\, United States
CATEGORIES:Community,Family and Children
ATTACH;FMTTYPE=image/jpeg:https://www.goeldorado.com/wp-content/uploads/2023/11/trivia.jpg
END:VEVENT
BEGIN:VEVENT
DTSTART;TZID=America/Chicago:20250313T180000
DTEND;TZID=America/Chicago:20250313T190000
DTSTAMP:20260421T074314
CREATED:20241009T203328Z
LAST-MODIFIED:20241009T203328Z
UID:10022663-1741888800-1741892400@www.goeldorado.com
SUMMARY:Trivia @ DPs Food Truck Park
DESCRIPTION:
URL:https://www.goeldorado.com/event/trivia-dps-food-truck-park/2025-03-13/
LOCATION:DP’s Food Truck Court\, 2117 N College Ave\, 2117 N College Ave\, El Dorado\, AR\, 71730\, United States
CATEGORIES:Community,Family and Children
ATTACH;FMTTYPE=image/jpeg:https://www.goeldorado.com/wp-content/uploads/2023/11/trivia.jpg
END:VEVENT
BEGIN:VEVENT
DTSTART;TZID=America/Chicago:20250306T180000
DTEND;TZID=America/Chicago:20250306T190000
DTSTAMP:20260421T074314
CREATED:20241009T203328Z
LAST-MODIFIED:20241009T203328Z
UID:10022662-1741284000-1741287600@www.goeldorado.com
SUMMARY:Trivia @ DPs Food Truck Park
DESCRIPTION:
URL:https://www.goeldorado.com/event/trivia-dps-food-truck-park/2025-03-06/
LOCATION:DP’s Food Truck Court\, 2117 N College Ave\, 2117 N College Ave\, El Dorado\, AR\, 71730\, United States
CATEGORIES:Community,Family and Children
ATTACH;FMTTYPE=image/jpeg:https://www.goeldorado.com/wp-content/uploads/2023/11/trivia.jpg
END:VEVENT
BEGIN:VEVENT
DTSTART;TZID=America/Chicago:20250227T180000
DTEND;TZID=America/Chicago:20250227T190000
DTSTAMP:20260421T074314
CREATED:20241009T203328Z
LAST-MODIFIED:20241009T203328Z
UID:10022661-1740679200-1740682800@www.goeldorado.com
SUMMARY:Trivia @ DPs Food Truck Park
DESCRIPTION:
URL:https://www.goeldorado.com/event/trivia-dps-food-truck-park/2025-02-27/
LOCATION:DP’s Food Truck Court\, 2117 N College Ave\, 2117 N College Ave\, El Dorado\, AR\, 71730\, United States
CATEGORIES:Community,Family and Children
ATTACH;FMTTYPE=image/jpeg:https://www.goeldorado.com/wp-content/uploads/2023/11/trivia.jpg
END:VEVENT
BEGIN:VEVENT
DTSTART;TZID=America/Chicago:20250220T180000
DTEND;TZID=America/Chicago:20250220T190000
DTSTAMP:20260421T074314
CREATED:20241009T203328Z
LAST-MODIFIED:20241009T203328Z
UID:10022660-1740074400-1740078000@www.goeldorado.com
SUMMARY:Trivia @ DPs Food Truck Park
DESCRIPTION:
URL:https://www.goeldorado.com/event/trivia-dps-food-truck-park/2025-02-20/
LOCATION:DP’s Food Truck Court\, 2117 N College Ave\, 2117 N College Ave\, El Dorado\, AR\, 71730\, United States
CATEGORIES:Community,Family and Children
ATTACH;FMTTYPE=image/jpeg:https://www.goeldorado.com/wp-content/uploads/2023/11/trivia.jpg
END:VEVENT
BEGIN:VEVENT
DTSTART;TZID=America/Chicago:20250213T180000
DTEND;TZID=America/Chicago:20250213T190000
DTSTAMP:20260421T074314
CREATED:20241009T203328Z
LAST-MODIFIED:20241009T203328Z
UID:10022659-1739469600-1739473200@www.goeldorado.com
SUMMARY:Trivia @ DPs Food Truck Park
DESCRIPTION:
URL:https://www.goeldorado.com/event/trivia-dps-food-truck-park/2025-02-13/
LOCATION:DP’s Food Truck Court\, 2117 N College Ave\, 2117 N College Ave\, El Dorado\, AR\, 71730\, United States
CATEGORIES:Community,Family and Children
ATTACH;FMTTYPE=image/jpeg:https://www.goeldorado.com/wp-content/uploads/2023/11/trivia.jpg
END:VEVENT
BEGIN:VEVENT
DTSTART;TZID=America/Chicago:20250206T180000
DTEND;TZID=America/Chicago:20250206T190000
DTSTAMP:20260421T074314
CREATED:20241009T203328Z
LAST-MODIFIED:20241009T203328Z
UID:10022658-1738864800-1738868400@www.goeldorado.com
SUMMARY:Trivia @ DPs Food Truck Park
DESCRIPTION:
URL:https://www.goeldorado.com/event/trivia-dps-food-truck-park/2025-02-06/
LOCATION:DP’s Food Truck Court\, 2117 N College Ave\, 2117 N College Ave\, El Dorado\, AR\, 71730\, United States
CATEGORIES:Community,Family and Children
ATTACH;FMTTYPE=image/jpeg:https://www.goeldorado.com/wp-content/uploads/2023/11/trivia.jpg
END:VEVENT
BEGIN:VEVENT
DTSTART;TZID=America/Chicago:20250130T180000
DTEND;TZID=America/Chicago:20250130T190000
DTSTAMP:20260421T074314
CREATED:20241009T203328Z
LAST-MODIFIED:20241009T203328Z
UID:10022657-1738260000-1738263600@www.goeldorado.com
SUMMARY:Trivia @ DPs Food Truck Park
DESCRIPTION:
URL:https://www.goeldorado.com/event/trivia-dps-food-truck-park/2025-01-30/
LOCATION:DP’s Food Truck Court\, 2117 N College Ave\, 2117 N College Ave\, El Dorado\, AR\, 71730\, United States
CATEGORIES:Community,Family and Children
ATTACH;FMTTYPE=image/jpeg:https://www.goeldorado.com/wp-content/uploads/2023/11/trivia.jpg
END:VEVENT
BEGIN:VEVENT
DTSTART;TZID=America/Chicago:20250123T180000
DTEND;TZID=America/Chicago:20250123T190000
DTSTAMP:20260421T074314
CREATED:20241009T203328Z
LAST-MODIFIED:20241009T203328Z
UID:10022656-1737655200-1737658800@www.goeldorado.com
SUMMARY:Trivia @ DPs Food Truck Park
DESCRIPTION:
URL:https://www.goeldorado.com/event/trivia-dps-food-truck-park/2025-01-23/
LOCATION:DP’s Food Truck Court\, 2117 N College Ave\, 2117 N College Ave\, El Dorado\, AR\, 71730\, United States
CATEGORIES:Community,Family and Children
ATTACH;FMTTYPE=image/jpeg:https://www.goeldorado.com/wp-content/uploads/2023/11/trivia.jpg
END:VEVENT
BEGIN:VEVENT
DTSTART;TZID=America/Chicago:20250117T180000
DTEND;TZID=America/Chicago:20250117T210000
DTSTAMP:20260421T074314
CREATED:20250117T162617Z
LAST-MODIFIED:20250117T162659Z
UID:10023769-1737136800-1737147600@www.goeldorado.com
SUMMARY:Karaoke Night @ DPs Food Truck Park
DESCRIPTION:
URL:https://www.goeldorado.com/event/karaoke-night-dps-food-truck-park/
LOCATION:DP’s Food Truck Court\, 2117 N College Ave\, 2117 N College Ave\, El Dorado\, AR\, 71730\, United States
CATEGORIES:Community,Live Music
ATTACH;FMTTYPE=image/jpeg:https://www.goeldorado.com/wp-content/uploads/2025/01/473662128_519207047841264_800808295358838492_n.jpg
END:VEVENT
BEGIN:VEVENT
DTSTART;TZID=America/Chicago:20250116T180000
DTEND;TZID=America/Chicago:20250116T190000
DTSTAMP:20260421T074314
CREATED:20241009T203328Z
LAST-MODIFIED:20241009T203328Z
UID:10022655-1737050400-1737054000@www.goeldorado.com
SUMMARY:Trivia @ DPs Food Truck Park
DESCRIPTION:
URL:https://www.goeldorado.com/event/trivia-dps-food-truck-park/2025-01-16/
LOCATION:DP’s Food Truck Court\, 2117 N College Ave\, 2117 N College Ave\, El Dorado\, AR\, 71730\, United States
CATEGORIES:Community,Family and Children
ATTACH;FMTTYPE=image/jpeg:https://www.goeldorado.com/wp-content/uploads/2023/11/trivia.jpg
END:VEVENT
BEGIN:VEVENT
DTSTART;TZID=America/Chicago:20250109T180000
DTEND;TZID=America/Chicago:20250109T190000
DTSTAMP:20260421T074314
CREATED:20241009T203328Z
LAST-MODIFIED:20241009T203328Z
UID:10022654-1736445600-1736449200@www.goeldorado.com
SUMMARY:Trivia @ DPs Food Truck Park
DESCRIPTION:
URL:https://www.goeldorado.com/event/trivia-dps-food-truck-park/2025-01-09/
LOCATION:DP’s Food Truck Court\, 2117 N College Ave\, 2117 N College Ave\, El Dorado\, AR\, 71730\, United States
CATEGORIES:Community,Family and Children
ATTACH;FMTTYPE=image/jpeg:https://www.goeldorado.com/wp-content/uploads/2023/11/trivia.jpg
END:VEVENT
BEGIN:VEVENT
DTSTART;TZID=America/Chicago:20250102T180000
DTEND;TZID=America/Chicago:20250102T190000
DTSTAMP:20260421T074314
CREATED:20241009T203328Z
LAST-MODIFIED:20241009T203328Z
UID:10022653-1735840800-1735844400@www.goeldorado.com
SUMMARY:Trivia @ DPs Food Truck Park
DESCRIPTION:
URL:https://www.goeldorado.com/event/trivia-dps-food-truck-park/2025-01-02/
LOCATION:DP’s Food Truck Court\, 2117 N College Ave\, 2117 N College Ave\, El Dorado\, AR\, 71730\, United States
CATEGORIES:Community,Family and Children
ATTACH;FMTTYPE=image/jpeg:https://www.goeldorado.com/wp-content/uploads/2023/11/trivia.jpg
END:VEVENT
BEGIN:VEVENT
DTSTART;TZID=America/Chicago:20250101T180000
DTEND;TZID=America/Chicago:20250101T200000
DTSTAMP:20260421T074314
CREATED:20241010T125356Z
LAST-MODIFIED:20241018T163156Z
UID:10022927-1735754400-1735761600@www.goeldorado.com
SUMMARY:Dart Tournament @ DP's Food Truck Park
DESCRIPTION:
URL:https://www.goeldorado.com/event/dart-tournament-dps-food-truck-park/2025-01-01/
LOCATION:DP’s Food Truck Court\, 2117 N College Ave\, 2117 N College Ave\, El Dorado\, AR\, 71730\, United States
CATEGORIES:Community,Recreation & Sports
END:VEVENT
BEGIN:VEVENT
DTSTART;TZID=America/Chicago:20241231T180000
DTEND;TZID=America/Chicago:20241231T200000
DTSTAMP:20260421T074314
CREATED:20240930T141007Z
LAST-MODIFIED:20241009T202740Z
UID:10022601-1735668000-1735675200@www.goeldorado.com
SUMMARY:Cornhole League @ DPs Food Truck Park
DESCRIPTION:
URL:https://www.goeldorado.com/event/cornhole-league-dps-food-truck-park/2024-12-31/
LOCATION:DP’s Food Truck Court\, 2117 N College Ave\, 2117 N College Ave\, El Dorado\, AR\, 71730\, United States
CATEGORIES:Community,Family and Children,Recreation & Sports
ATTACH;FMTTYPE=image/jpeg:https://www.goeldorado.com/wp-content/uploads/2024/09/461598144_441103185651651_8430174363691887894_n.jpg
END:VEVENT
END:VCALENDAR