BEGIN:VCALENDAR
VERSION:2.0
PRODID:-//El Dorado, Arkansas - ECPv6.15.20//NONSGML v1.0//EN
CALSCALE:GREGORIAN
METHOD:PUBLISH
X-WR-CALNAME:El Dorado, Arkansas
X-ORIGINAL-URL:https://www.goeldorado.com
X-WR-CALDESC:Events for El Dorado, Arkansas
REFRESH-INTERVAL;VALUE=DURATION:PT1H
X-Robots-Tag:noindex
X-PUBLISHED-TTL:PT1H
BEGIN:VTIMEZONE
TZID:America/Chicago
BEGIN:DAYLIGHT
TZOFFSETFROM:-0600
TZOFFSETTO:-0500
TZNAME:CDT
DTSTART:20220313T080000
END:DAYLIGHT
BEGIN:STANDARD
TZOFFSETFROM:-0500
TZOFFSETTO:-0600
TZNAME:CST
DTSTART:20221106T070000
END:STANDARD
BEGIN:DAYLIGHT
TZOFFSETFROM:-0600
TZOFFSETTO:-0500
TZNAME:CDT
DTSTART:20230312T080000
END:DAYLIGHT
BEGIN:STANDARD
TZOFFSETFROM:-0500
TZOFFSETTO:-0600
TZNAME:CST
DTSTART:20231105T070000
END:STANDARD
BEGIN:DAYLIGHT
TZOFFSETFROM:-0600
TZOFFSETTO:-0500
TZNAME:CDT
DTSTART:20240310T080000
END:DAYLIGHT
BEGIN:STANDARD
TZOFFSETFROM:-0500
TZOFFSETTO:-0600
TZNAME:CST
DTSTART:20241103T070000
END:STANDARD
BEGIN:DAYLIGHT
TZOFFSETFROM:-0600
TZOFFSETTO:-0500
TZNAME:CDT
DTSTART:20250309T080000
END:DAYLIGHT
BEGIN:STANDARD
TZOFFSETFROM:-0500
TZOFFSETTO:-0600
TZNAME:CST
DTSTART:20251102T070000
END:STANDARD
BEGIN:DAYLIGHT
TZOFFSETFROM:-0600
TZOFFSETTO:-0500
TZNAME:CDT
DTSTART:20260308T080000
END:DAYLIGHT
BEGIN:STANDARD
TZOFFSETFROM:-0500
TZOFFSETTO:-0600
TZNAME:CST
DTSTART:20261101T070000
END:STANDARD
END:VTIMEZONE
BEGIN:VEVENT
DTSTART;TZID=America/Chicago:20251109T101500
DTEND;TZID=America/Chicago:20251109T110000
DTSTAMP:20260422T042100
CREATED:20251031T143017Z
LAST-MODIFIED:20251031T143025Z
UID:10028599-1762683300-1762686000@www.goeldorado.com
SUMMARY:Celebrating 180 Years with First Baptist Church El Dorado
DESCRIPTION:
URL:https://www.goeldorado.com/event/celebrating-180-years-with-first-baptist-church-el-dorado/
LOCATION:First Baptist Church\, 200 W Main St\, El Dorado\, AR\, 71730\, United States
CATEGORIES:Community,Family and Children
ATTACH;FMTTYPE=image/jpeg:https://www.goeldorado.com/wp-content/uploads/2025/10/1238a516-8631-6d0b-1735-99ccbd6310b0.jpeg
END:VEVENT
BEGIN:VEVENT
DTSTART;TZID=America/Chicago:20251026T163000
DTEND;TZID=America/Chicago:20251026T183000
DTSTAMP:20260422T042100
CREATED:20251023T193209Z
LAST-MODIFIED:20251023T193209Z
UID:10028598-1761496200-1761503400@www.goeldorado.com
SUMMARY:Fall fest @ FBC
DESCRIPTION:
URL:https://www.goeldorado.com/event/fall-fest-fbc/
LOCATION:First Baptist Church\, 200 W Main St\, El Dorado\, AR\, 71730\, United States
CATEGORIES:Community,Family and Children,Holiday
ATTACH;FMTTYPE=image/jpeg:https://www.goeldorado.com/wp-content/uploads/2025/10/606c8c7d-7182-09ce-a4c0-c7331272e304-scaled.jpeg
END:VEVENT
BEGIN:VEVENT
DTSTART;TZID=America/Chicago:20231210T180000
DTEND;TZID=America/Chicago:20231210T200000
DTSTAMP:20260422T042100
CREATED:20231109T214653Z
LAST-MODIFIED:20231109T214653Z
UID:10016568-1702231200-1702238400@www.goeldorado.com
SUMMARY:FBC Celebration Orchestra presents "The Gift"
DESCRIPTION:Celebrate the sounds of the season at the presentation of The Gift\, a festive and heartwarming musical event scheduled for December 10 at 6pm\, at FBC on Main Street. This annual performance is presented by FBC’s Celebration Orchestra and includes traditional Christmas carols as well as other holiday-themed compositions.
URL:https://www.goeldorado.com/event/fbc-celebration-orchestra-presents-the-gift-2/
LOCATION:First Baptist Church\, 200 W Main St\, El Dorado\, AR\, 71730\, United States
CATEGORIES:Arts & Culture,Community,Family and Children,Festivals & Celebrations,Holiday,Live Music
END:VEVENT
END:VCALENDAR