BEGIN:VCALENDAR
VERSION:2.0
PRODID:-//El Dorado, Arkansas - ECPv6.15.20//NONSGML v1.0//EN
CALSCALE:GREGORIAN
METHOD:PUBLISH
X-WR-CALNAME:El Dorado, Arkansas
X-ORIGINAL-URL:https://www.goeldorado.com
X-WR-CALDESC:Events for El Dorado, Arkansas
REFRESH-INTERVAL;VALUE=DURATION:PT1H
X-Robots-Tag:noindex
X-PUBLISHED-TTL:PT1H
BEGIN:VTIMEZONE
TZID:America/Chicago
BEGIN:DAYLIGHT
TZOFFSETFROM:-0600
TZOFFSETTO:-0500
TZNAME:CDT
DTSTART:20240310T080000
END:DAYLIGHT
BEGIN:STANDARD
TZOFFSETFROM:-0500
TZOFFSETTO:-0600
TZNAME:CST
DTSTART:20241103T070000
END:STANDARD
BEGIN:DAYLIGHT
TZOFFSETFROM:-0600
TZOFFSETTO:-0500
TZNAME:CDT
DTSTART:20250309T080000
END:DAYLIGHT
BEGIN:STANDARD
TZOFFSETFROM:-0500
TZOFFSETTO:-0600
TZNAME:CST
DTSTART:20251102T070000
END:STANDARD
BEGIN:DAYLIGHT
TZOFFSETFROM:-0600
TZOFFSETTO:-0500
TZNAME:CDT
DTSTART:20260308T080000
END:DAYLIGHT
BEGIN:STANDARD
TZOFFSETFROM:-0500
TZOFFSETTO:-0600
TZNAME:CST
DTSTART:20261101T070000
END:STANDARD
END:VTIMEZONE
BEGIN:VEVENT
DTSTART;TZID=America/Chicago:20251029T180000
DTEND;TZID=America/Chicago:20251029T200000
DTSTAMP:20260424T073724
CREATED:20250924T183302Z
LAST-MODIFIED:20250924T183302Z
UID:10028048-1761760800-1761768000@www.goeldorado.com
SUMMARY:Fall Fest Marrable Hill Chapel
DESCRIPTION:  \nan evening of fun! Trunk or treat\, bounce house slide\, games\, candy! Costumes encouraged\, please no scary costumes.
URL:https://www.goeldorado.com/event/fall-fest-marrable-hill-chapel/
LOCATION:Marrable Hill\, 110 Chapel Avenue\, El Dorado\, ar\, 71730
CATEGORIES:Community,Family and Children,Festivals & Celebrations,Holiday
ATTACH;FMTTYPE=image/jpeg:https://www.goeldorado.com/wp-content/uploads/2025/09/553910010_1214101757418833_4663622028234814748_n.jpg
END:VEVENT
BEGIN:VEVENT
DTSTART;TZID=America/Chicago:20250419T100000
DTEND;TZID=America/Chicago:20250419T120000
DTSTAMP:20260424T073724
CREATED:20250317T215832Z
LAST-MODIFIED:20250317T215832Z
UID:10025401-1745056800-1745064000@www.goeldorado.com
SUMMARY:Easter Egg Hunt with Marrable Hill
DESCRIPTION:
URL:https://www.goeldorado.com/event/easter-egg-hunt-with-marrable-hill/
LOCATION:Marrable Hill\, 110 Chapel Avenue\, El Dorado\, ar\, 71730
CATEGORIES:Clubs/Organizations,Community,Family and Children,Holiday
ATTACH;FMTTYPE=image/jpeg:https://www.goeldorado.com/wp-content/uploads/2025/03/484092978_1060943516067992_2862062563512058842_n.jpg
END:VEVENT
BEGIN:VEVENT
DTSTART;TZID=America/Chicago:20250317T080000
DTEND;TZID=America/Chicago:20250317T170000
DTSTAMP:20260424T073724
CREATED:20250317T215415Z
LAST-MODIFIED:20250317T215415Z
UID:10025398-1742198400-1742230800@www.goeldorado.com
SUMMARY:Marrable Hill VBS
DESCRIPTION:  \nHowdy\, partners! Welcome to Wonder Junction! There’s no greater joy than to praise the name of the Lord!Join us each night from 6pm-8pm.Register herehttps://marrablehillchapel.myanswers.com/wonder-junction/
URL:https://www.goeldorado.com/event/marrable-hill-vbs/
LOCATION:Marrable Hill\, 110 Chapel Avenue\, El Dorado\, ar\, 71730
CATEGORIES:Clubs/Organizations,Community,Family and Children
ATTACH;FMTTYPE=image/jpeg:https://www.goeldorado.com/wp-content/uploads/2025/03/483488832_1060008712828139_2257737523999061689_n.jpg
END:VEVENT
END:VCALENDAR