BEGIN:VCALENDAR
VERSION:2.0
PRODID:-//El Dorado, Arkansas - ECPv6.15.20//NONSGML v1.0//EN
CALSCALE:GREGORIAN
METHOD:PUBLISH
X-ORIGINAL-URL:https://www.goeldorado.com
X-WR-CALDESC:Events for El Dorado, Arkansas
REFRESH-INTERVAL;VALUE=DURATION:PT1H
X-Robots-Tag:noindex
X-PUBLISHED-TTL:PT1H
BEGIN:VTIMEZONE
TZID:America/Chicago
BEGIN:DAYLIGHT
TZOFFSETFROM:-0600
TZOFFSETTO:-0500
TZNAME:CDT
DTSTART:20220313T080000
END:DAYLIGHT
BEGIN:STANDARD
TZOFFSETFROM:-0500
TZOFFSETTO:-0600
TZNAME:CST
DTSTART:20221106T070000
END:STANDARD
BEGIN:DAYLIGHT
TZOFFSETFROM:-0600
TZOFFSETTO:-0500
TZNAME:CDT
DTSTART:20230312T080000
END:DAYLIGHT
BEGIN:STANDARD
TZOFFSETFROM:-0500
TZOFFSETTO:-0600
TZNAME:CST
DTSTART:20231105T070000
END:STANDARD
BEGIN:DAYLIGHT
TZOFFSETFROM:-0600
TZOFFSETTO:-0500
TZNAME:CDT
DTSTART:20240310T080000
END:DAYLIGHT
BEGIN:STANDARD
TZOFFSETFROM:-0500
TZOFFSETTO:-0600
TZNAME:CST
DTSTART:20241103T070000
END:STANDARD
BEGIN:DAYLIGHT
TZOFFSETFROM:-0600
TZOFFSETTO:-0500
TZNAME:CDT
DTSTART:20250309T080000
END:DAYLIGHT
BEGIN:STANDARD
TZOFFSETFROM:-0500
TZOFFSETTO:-0600
TZNAME:CST
DTSTART:20251102T070000
END:STANDARD
BEGIN:DAYLIGHT
TZOFFSETFROM:-0600
TZOFFSETTO:-0500
TZNAME:CDT
DTSTART:20260308T080000
END:DAYLIGHT
BEGIN:STANDARD
TZOFFSETFROM:-0500
TZOFFSETTO:-0600
TZNAME:CST
DTSTART:20261101T070000
END:STANDARD
END:VTIMEZONE
BEGIN:VEVENT
DTSTART;TZID=America/Chicago:20250925T090000
DTEND;TZID=America/Chicago:20250925T110000
DTSTAMP:20260422T054137
CREATED:20250827T142516Z
LAST-MODIFIED:20250827T142746Z
UID:10027712-1758790800-1758798000@www.goeldorado.com
SUMMARY:Senior Fun Day
DESCRIPTION:Anyone interested in setting up a booth or donating a door prize\, please reach out to Lynne Kemp at 870-243-9179!
URL:https://www.goeldorado.com/event/senior-fun-day/
LOCATION:Champagnolle Landing\, 910 Champagnolle Rd\, El Dorado\, AR\, 71730\, United States
CATEGORIES:Clubs/Organizations,Community,Festivals & Celebrations
ATTACH;FMTTYPE=image/png:https://www.goeldorado.com/wp-content/uploads/2025/08/seniorfunday2025september.png
END:VEVENT
BEGIN:VEVENT
DTSTART;TZID=America/Chicago:20241025T100000
DTEND;TZID=America/Chicago:20241025T130000
DTSTAMP:20260422T054137
CREATED:20240923T172334Z
LAST-MODIFIED:20240923T172334Z
UID:10022341-1729850400-1729861200@www.goeldorado.com
SUMMARY:Senior FUNDAY
DESCRIPTION:Senior FUNDAY at Champagnolle Landing \nFriday\, October 25th \n10 a.m. to 1 p.m. \n910 Champagnolle Road \nHalloween Costume Contest – Vendor Booths – Games – Prizes – Lunch will be served!
URL:https://www.goeldorado.com/event/senior-funday/
LOCATION:Champagnolle Landing\, 910 Champagnolle Rd\, El Dorado\, AR\, 71730\, United States
CATEGORIES:Clubs/Organizations,Community,Festivals & Celebrations
ATTACH;FMTTYPE=image/png:https://www.goeldorado.com/wp-content/uploads/2024/09/Timberlane-senior-Funday.png
END:VEVENT
BEGIN:VEVENT
DTSTART;TZID=America/Chicago:20240816T190000
DTEND;TZID=America/Chicago:20240816T220000
DTSTAMP:20260422T054137
CREATED:20240814T211302Z
LAST-MODIFIED:20240814T211303Z
UID:10018776-1723834800-1723845600@www.goeldorado.com
SUMMARY:Dance @ Champagnolle Landing
DESCRIPTION: 
URL:https://www.goeldorado.com/event/dance-champagnolle-landing-3/
LOCATION:Champagnolle Landing\, 910 Champagnolle Rd\, El Dorado\, AR\, 71730\, United States
CATEGORIES:Live Music
ATTACH;FMTTYPE=image/png:https://www.goeldorado.com/wp-content/uploads/2024/04/Dance.png
END:VEVENT
BEGIN:VEVENT
DTSTART;TZID=America/Chicago:20240412T190000
DTEND;TZID=America/Chicago:20240412T220000
DTSTAMP:20260422T054137
CREATED:20240411T203045Z
LAST-MODIFIED:20240411T203047Z
UID:10018758-1712948400-1712959200@www.goeldorado.com
SUMMARY:Dance @ Champagnolle Landing with Southern Coast
DESCRIPTION: 
URL:https://www.goeldorado.com/event/dance-champagnolle-landing-2/
LOCATION:Champagnolle Landing\, 910 Champagnolle Rd\, El Dorado\, AR\, 71730\, United States
CATEGORIES:Live Music
ATTACH;FMTTYPE=image/png:https://www.goeldorado.com/wp-content/uploads/2024/04/Dance.png
END:VEVENT
BEGIN:VEVENT
DTSTART;TZID=America/Chicago:20230413T113000
DTEND;TZID=America/Chicago:20230413T130000
DTSTAMP:20260422T054137
CREATED:20230411T131828Z
LAST-MODIFIED:20230411T131840Z
UID:10013195-1681385400-1681390800@www.goeldorado.com
SUMMARY:Spring Fest Fun @ Champagnolle Landing
DESCRIPTION:  \nHost: Champagnolle Landing Senior Wellness Center. Organizing: Timberlane Health and Rehab\, South Arkansas Home Health\, and Lifetouch Hospice \n2. Open to all senior adults ages 55 and better\, their adult family members and caregivers \n3. We are firing up the grill outside by the patio to include hamburgers\, hot dogs\, potato salad\, baked beans and cookies and ice cold bottled water. We are wanting to get everyone outside to enjoy the sunshine\, have some fun while enjoying friendly games of corn hole. There will be prizes! \n4. All senior adults and their adult family members\, and caregivers\,???????. Anyone who enjoys getting out of their homes and staying connected. Staying involved in senior programs can help delay onset of chronic diseases all while improving your physical\, social\, spiritual\, emotional and mental well -being.  \nChampagnolle Landing Senior Wellness Center is one of El Dorado’s hidden gems! It is a place for senior adults ages 55 and better to be around new and old friends\, socialize\, play games\, exercise\, or simply just enjoy being around others.  \nIf you have been wondering what this hidden gem is all about please stop by Champagnolle Landing this Thursday\, April 13 from 11:30am to 1:00pm for a tour of the facility and find out what it is all about and how all it’s amenities can improve your quality of life. While your there\, enjoy a grilled hamburger or hot dog plate on us! \n 
URL:https://www.goeldorado.com/event/spring-fest-fun-champagnolle-landing/
LOCATION:Champagnolle Landing\, 910 Champagnolle Rd\, El Dorado\, AR\, 71730\, United States
CATEGORIES:Community,Family and Children
ATTACH;FMTTYPE=image/jpeg:https://www.goeldorado.com/wp-content/uploads/2023/04/Spring-Fest-at-CL.jpg
END:VEVENT
END:VCALENDAR