BEGIN:VCALENDAR
VERSION:2.0
PRODID:-//El Dorado, Arkansas - ECPv6.15.20//NONSGML v1.0//EN
CALSCALE:GREGORIAN
METHOD:PUBLISH
X-WR-CALNAME:El Dorado, Arkansas
X-ORIGINAL-URL:https://www.goeldorado.com
X-WR-CALDESC:Events for El Dorado, Arkansas
REFRESH-INTERVAL;VALUE=DURATION:PT1H
X-Robots-Tag:noindex
X-PUBLISHED-TTL:PT1H
BEGIN:VTIMEZONE
TZID:America/Chicago
BEGIN:DAYLIGHT
TZOFFSETFROM:-0600
TZOFFSETTO:-0500
TZNAME:CDT
DTSTART:20250309T080000
END:DAYLIGHT
BEGIN:STANDARD
TZOFFSETFROM:-0500
TZOFFSETTO:-0600
TZNAME:CST
DTSTART:20251102T070000
END:STANDARD
BEGIN:DAYLIGHT
TZOFFSETFROM:-0600
TZOFFSETTO:-0500
TZNAME:CDT
DTSTART:20260308T080000
END:DAYLIGHT
BEGIN:STANDARD
TZOFFSETFROM:-0500
TZOFFSETTO:-0600
TZNAME:CST
DTSTART:20261101T070000
END:STANDARD
BEGIN:DAYLIGHT
TZOFFSETFROM:-0600
TZOFFSETTO:-0500
TZNAME:CDT
DTSTART:20270314T080000
END:DAYLIGHT
BEGIN:STANDARD
TZOFFSETFROM:-0500
TZOFFSETTO:-0600
TZNAME:CST
DTSTART:20271107T070000
END:STANDARD
END:VTIMEZONE
BEGIN:VEVENT
DTSTART;TZID=America/Chicago:20260516T100000
DTEND;TZID=America/Chicago:20260516T130000
DTSTAMP:20260424T163213
CREATED:20260423T194929Z
LAST-MODIFIED:20260423T194929Z
UID:10029811-1778925600-1778936400@www.goeldorado.com
SUMMARY:Neighbors Helping Neighbors Community Food Giveaway
DESCRIPTION:
URL:https://www.goeldorado.com/event/neighbors-helping-neighbors-community-food-giveaway/
LOCATION:College Avenue Church of Christ\, 1817 N. College Ave.\, El Dorado\, AR\, 71730\, United States
CATEGORIES:Clubs/Organizations,Community,Family and Children
ATTACH;FMTTYPE=image/jpeg:https://www.goeldorado.com/wp-content/uploads/2026/04/Neighbor-Helping-Neighbor-Community-Event.jpg
END:VEVENT
BEGIN:VEVENT
DTSTART;TZID=America/Chicago:20260523T100000
DTEND;TZID=America/Chicago:20260523T130000
DTSTAMP:20260424T163213
CREATED:20260423T195031Z
LAST-MODIFIED:20260423T195031Z
UID:10029812-1779530400-1779541200@www.goeldorado.com
SUMMARY:Neighbors Helping Neighbors Community Food Giveaway
DESCRIPTION:
URL:https://www.goeldorado.com/event/neighbors-helping-neighbors-community-food-giveaway-2/
LOCATION:College Avenue Church of Christ\, 1817 N. College Ave.\, El Dorado\, AR\, 71730\, United States
CATEGORIES:Clubs/Organizations,Community
ATTACH;FMTTYPE=image/jpeg:https://www.goeldorado.com/wp-content/uploads/2026/04/Neighbor-Helping-Neighbor-Community-Event.jpg
END:VEVENT
END:VCALENDAR