BEGIN:VCALENDAR
VERSION:2.0
PRODID:-//El Dorado, Arkansas - ECPv6.15.20//NONSGML v1.0//EN
CALSCALE:GREGORIAN
METHOD:PUBLISH
X-WR-CALNAME:El Dorado, Arkansas
X-ORIGINAL-URL:https://www.goeldorado.com
X-WR-CALDESC:Events for El Dorado, Arkansas
REFRESH-INTERVAL;VALUE=DURATION:PT1H
X-Robots-Tag:noindex
X-PUBLISHED-TTL:PT1H
BEGIN:VTIMEZONE
TZID:America/Chicago
BEGIN:DAYLIGHT
TZOFFSETFROM:-0600
TZOFFSETTO:-0500
TZNAME:CDT
DTSTART:20230312T080000
END:DAYLIGHT
BEGIN:STANDARD
TZOFFSETFROM:-0500
TZOFFSETTO:-0600
TZNAME:CST
DTSTART:20231105T070000
END:STANDARD
BEGIN:DAYLIGHT
TZOFFSETFROM:-0600
TZOFFSETTO:-0500
TZNAME:CDT
DTSTART:20240310T080000
END:DAYLIGHT
BEGIN:STANDARD
TZOFFSETFROM:-0500
TZOFFSETTO:-0600
TZNAME:CST
DTSTART:20241103T070000
END:STANDARD
BEGIN:DAYLIGHT
TZOFFSETFROM:-0600
TZOFFSETTO:-0500
TZNAME:CDT
DTSTART:20250309T080000
END:DAYLIGHT
BEGIN:STANDARD
TZOFFSETFROM:-0500
TZOFFSETTO:-0600
TZNAME:CST
DTSTART:20251102T070000
END:STANDARD
BEGIN:DAYLIGHT
TZOFFSETFROM:-0600
TZOFFSETTO:-0500
TZNAME:CDT
DTSTART:20260308T080000
END:DAYLIGHT
BEGIN:STANDARD
TZOFFSETFROM:-0500
TZOFFSETTO:-0600
TZNAME:CST
DTSTART:20261101T070000
END:STANDARD
END:VTIMEZONE
BEGIN:VEVENT
DTSTART;TZID=America/Chicago:20250211T153000
DTEND;TZID=America/Chicago:20250211T183000
DTSTAMP:20260422T042208
CREATED:20250210T183148Z
LAST-MODIFIED:20250214T192859Z
UID:10023818-1739287800-1739298600@www.goeldorado.com
SUMMARY:Mobile Health Unit at El Dorado High School
DESCRIPTION:The UAMS Mobile Health Unit will be at El Dorado High school on 2/11/25 from 3:30-6:30 offering HPV vaccines and education\, Community Resource Guidance\, Program Enrollment\, and scheduling Prenatal Appointments.
URL:https://www.goeldorado.com/event/mobile-health-unit-at-el-dorado-high-school/
LOCATION:El Dorado High School
CATEGORIES:Community,Education,Family and Children,Schools
END:VEVENT
BEGIN:VEVENT
DTSTART;TZID=America/Chicago:20240113T180000
DTEND;TZID=America/Chicago:20240113T200000
DTSTAMP:20260422T042208
CREATED:20240104T204056Z
LAST-MODIFIED:20240104T204056Z
UID:10017760-1705168800-1705176000@www.goeldorado.com
SUMMARY:Dr MLK Jr Banquet presented by The Self Culture Club
DESCRIPTION:Guest Speaker: \nDr Ezinne Nwude \n  \nTickets $30 may be purchased from any Self Culture Club Member
URL:https://www.goeldorado.com/event/dr-mlk-jr-banquet-presented-by-the-self-culture-club/
LOCATION:El Dorado High School
CATEGORIES:Business,Community,Holiday
END:VEVENT
END:VCALENDAR