BEGIN:VCALENDAR
VERSION:2.0
PRODID:-//El Dorado, Arkansas - ECPv6.15.20//NONSGML v1.0//EN
CALSCALE:GREGORIAN
METHOD:PUBLISH
X-ORIGINAL-URL:https://www.goeldorado.com
X-WR-CALDESC:Events for El Dorado, Arkansas
REFRESH-INTERVAL;VALUE=DURATION:PT1H
X-Robots-Tag:noindex
X-PUBLISHED-TTL:PT1H
BEGIN:VTIMEZONE
TZID:America/Chicago
BEGIN:DAYLIGHT
TZOFFSETFROM:-0600
TZOFFSETTO:-0500
TZNAME:CDT
DTSTART:20220313T080000
END:DAYLIGHT
BEGIN:STANDARD
TZOFFSETFROM:-0500
TZOFFSETTO:-0600
TZNAME:CST
DTSTART:20221106T070000
END:STANDARD
BEGIN:DAYLIGHT
TZOFFSETFROM:-0600
TZOFFSETTO:-0500
TZNAME:CDT
DTSTART:20230312T080000
END:DAYLIGHT
BEGIN:STANDARD
TZOFFSETFROM:-0500
TZOFFSETTO:-0600
TZNAME:CST
DTSTART:20231105T070000
END:STANDARD
BEGIN:DAYLIGHT
TZOFFSETFROM:-0600
TZOFFSETTO:-0500
TZNAME:CDT
DTSTART:20240310T080000
END:DAYLIGHT
BEGIN:STANDARD
TZOFFSETFROM:-0500
TZOFFSETTO:-0600
TZNAME:CST
DTSTART:20241103T070000
END:STANDARD
BEGIN:DAYLIGHT
TZOFFSETFROM:-0600
TZOFFSETTO:-0500
TZNAME:CDT
DTSTART:20250309T080000
END:DAYLIGHT
BEGIN:STANDARD
TZOFFSETFROM:-0500
TZOFFSETTO:-0600
TZNAME:CST
DTSTART:20251102T070000
END:STANDARD
END:VTIMEZONE
BEGIN:VEVENT
DTSTART;TZID=America/Chicago:20241015T160000
DTEND;TZID=America/Chicago:20241015T180000
DTSTAMP:20260420T073538
CREATED:20241001T135738Z
LAST-MODIFIED:20241001T135738Z
UID:10022515-1729008000-1729015200@www.goeldorado.com
SUMMARY:Celebrating 90 years Reception at First Financial Bank
DESCRIPTION:
URL:https://www.goeldorado.com/event/celebrating-90-years-reception-at-first-financial-bank/
LOCATION:First Financial Bank\, 300 E Peach\, El Dorado\, AR\, 71730\, United States
CATEGORIES:Business
ATTACH;FMTTYPE=image/png:https://www.goeldorado.com/wp-content/uploads/2024/10/Screenshot-76.png
END:VEVENT
BEGIN:VEVENT
DTSTART;TZID=America/Chicago:20230627T180000
DTEND;TZID=America/Chicago:20230627T190000
DTSTAMP:20260420T073538
CREATED:20230525T202025Z
LAST-MODIFIED:20230525T202025Z
UID:10014271-1687888800-1687892400@www.goeldorado.com
SUMMARY:The CALL Mix & Mingle
DESCRIPTION:
URL:https://www.goeldorado.com/event/the-call-mix-mingle/
LOCATION:First Financial Bank\, 300 E Peach\, El Dorado\, AR\, 71730\, United States
CATEGORIES:Community
ATTACH;FMTTYPE=image/jpeg:https://www.goeldorado.com/wp-content/uploads/2023/05/the-call.jpg
ORGANIZER;CN="The CALL in Union and Calhoun Counties":MAILTO:khicks@thecallinarkansas.org
END:VEVENT
BEGIN:VEVENT
DTSTART;TZID=America/Chicago:20230327T153000
DTEND;TZID=America/Chicago:20230327T173000
DTSTAMP:20260420T073538
CREATED:20230321T154305Z
LAST-MODIFIED:20230321T154305Z
UID:10013154-1679931000-1679938200@www.goeldorado.com
SUMMARY:Meet & Greet with Coach Hill
DESCRIPTION:Join us to welcome El Dorado’s new Head Football Coach\, Chris Hill!
URL:https://www.goeldorado.com/event/meet-greet-with-coach-hill/
LOCATION:First Financial Bank\, 300 E Peach\, El Dorado\, AR\, 71730\, United States
CATEGORIES:Community,Recreation & Sports,Schools
ATTACH;FMTTYPE=image/jpeg:https://www.goeldorado.com/wp-content/uploads/2023/03/meet-coach-hill.jpg
END:VEVENT
END:VCALENDAR