BEGIN:VCALENDAR
VERSION:2.0
PRODID:-//El Dorado, Arkansas - ECPv6.15.20//NONSGML v1.0//EN
CALSCALE:GREGORIAN
METHOD:PUBLISH
X-WR-CALNAME:El Dorado, Arkansas
X-ORIGINAL-URL:https://www.goeldorado.com
X-WR-CALDESC:Events for El Dorado, Arkansas
REFRESH-INTERVAL;VALUE=DURATION:PT1H
X-Robots-Tag:noindex
X-PUBLISHED-TTL:PT1H
BEGIN:VTIMEZONE
TZID:America/Chicago
BEGIN:DAYLIGHT
TZOFFSETFROM:-0600
TZOFFSETTO:-0500
TZNAME:CDT
DTSTART:20220313T080000
END:DAYLIGHT
BEGIN:STANDARD
TZOFFSETFROM:-0500
TZOFFSETTO:-0600
TZNAME:CST
DTSTART:20221106T070000
END:STANDARD
BEGIN:DAYLIGHT
TZOFFSETFROM:-0600
TZOFFSETTO:-0500
TZNAME:CDT
DTSTART:20230312T080000
END:DAYLIGHT
BEGIN:STANDARD
TZOFFSETFROM:-0500
TZOFFSETTO:-0600
TZNAME:CST
DTSTART:20231105T070000
END:STANDARD
BEGIN:DAYLIGHT
TZOFFSETFROM:-0600
TZOFFSETTO:-0500
TZNAME:CDT
DTSTART:20240310T080000
END:DAYLIGHT
BEGIN:STANDARD
TZOFFSETFROM:-0500
TZOFFSETTO:-0600
TZNAME:CST
DTSTART:20241103T070000
END:STANDARD
BEGIN:DAYLIGHT
TZOFFSETFROM:-0600
TZOFFSETTO:-0500
TZNAME:CDT
DTSTART:20250309T080000
END:DAYLIGHT
BEGIN:STANDARD
TZOFFSETFROM:-0500
TZOFFSETTO:-0600
TZNAME:CST
DTSTART:20251102T070000
END:STANDARD
END:VTIMEZONE
BEGIN:VEVENT
DTSTART;VALUE=DATE:20241012
DTEND;VALUE=DATE:20241013
DTSTAMP:20260422T042230
CREATED:20240909T145348Z
LAST-MODIFIED:20240910T184239Z
UID:10021878-1728691200-1728777599@www.goeldorado.com
SUMMARY:SouthArk Athletics Golf Tournament
DESCRIPTION:The SouthArk Stars Athletic Department is hosting a golf tournament to benefit the athletic department. The four-person scramble will be held at the Lions Club Golf Course on October 12 beginning at 9:00 AM. Team registration is $300 and individual registration is $75. Sponsorships are also available! All proceeds will support expenses related to athletic travel\, lodging\, uniforms\, meals\, and scholarships for student athletes.
URL:https://www.goeldorado.com/event/southark-athletics-golf-tournament/
LOCATION:Lions Club Golf Course\, 1420 E. 19th Street\, El Dorado\, AR\, 71730
CATEGORIES:Recreation & Sports
ATTACH;FMTTYPE=image/jpeg:https://www.goeldorado.com/wp-content/uploads/2024/09/golf-tournament.jpg
END:VEVENT
BEGIN:VEVENT
DTSTART;VALUE=DATE:20230916
DTEND;VALUE=DATE:20230917
DTSTAMP:20260422T042230
CREATED:20230713T163613Z
LAST-MODIFIED:20230713T163620Z
UID:10014472-1694822400-1694908799@www.goeldorado.com
SUMMARY:First Financial Bank SHARE Benefit Gold Tournament
DESCRIPTION:
URL:https://www.goeldorado.com/event/first-financial-bank-share-benefit-gold-tournament/
LOCATION:Lions Club Golf Course\, 1420 E. 19th Street\, El Dorado\, AR\, 71730
CATEGORIES:Community,Recreation & Sports
ATTACH;FMTTYPE=image/png:https://www.goeldorado.com/wp-content/uploads/2023/07/352469012_1385476558683800_1267246283167767471_n.png
ORGANIZER;CN="SHARE Foundation":MAILTO:acooley@sharefoundation.com
END:VEVENT
BEGIN:VEVENT
DTSTART;TZID=America/Chicago:20230617T090000
DTEND;TZID=America/Chicago:20230617T090000
DTSTAMP:20260422T042230
CREATED:20230425T174755Z
LAST-MODIFIED:20230508T204121Z
UID:10013402-1686992400-1686992400@www.goeldorado.com
SUMMARY:Jim W. Bennett Memorial Golf Tournament UCAPS Benefit
DESCRIPTION:UCAPS presents the Jim W. Bennett Memorial Golf Tournament \n18-hole tournament 2-man teams. Entry fee $150 per team \nProceeds to benefit UCAPS Transport and Vet expenses for abused and abandoned animals of Union County \nSponsorships available
URL:https://www.goeldorado.com/event/jim-w-bennett-memorial-golf-tournament/
LOCATION:Lions Club Golf Course\, 1420 E. 19th Street\, El Dorado\, AR\, 71730
CATEGORIES:Clubs/Organizations,Community
ATTACH;FMTTYPE=image/jpeg:https://www.goeldorado.com/wp-content/uploads/2023/04/345426346_2229129573957261_2925302718191767140_n.jpg
END:VEVENT
BEGIN:VEVENT
DTSTART;VALUE=DATE:20230612
DTEND;VALUE=DATE:20230616
DTSTAMP:20260422T042230
CREATED:20230522T192514Z
LAST-MODIFIED:20230522T192514Z
UID:10014252-1686528000-1686873599@www.goeldorado.com
SUMMARY:Junior Golf Camp w/ KidsNGolf
DESCRIPTION:  \nKidsNGolf announces their 2023 El Dorado Junior Golf Camp for Union County boys and girls held at the Lions Club Golf Course\, 9:00am. to noon\, Monday through Thursday mornings\, June 12 – 15\, 2023.  Golf instruction tailored to individual age and skill levels is provided for boys and girls ages 8 to 14.  Leading the instruction will be the coaches and staff from KidsNGolf.  Cost for this junior golf camp is $50. \n“Since 2014 this has been an annual community event and is such a great way for kids to start their summer\,” said Art Noyes Executive Director of KidsNGolf.  “Golf camp lets us introduce the game of golf to many young people who have never been on a golf course before.” \nTo ensure adequate student-to-coach ratios\, the golf camp can accommodate only the first 30 young people who sign-up.  Mornings are divided into 45-minute instruction segments with coaches assigned to groups of students based on proficiency levels. Each day there will also be the very important time set aside to discuss the life skills and values that are inherent in the game of golf and important in life.  Mornings will end with lunch on the front clubhouse patio.  . \nOn Thursday\, awards are given to recognize players’ efforts\, conduct and improvement throughout the week. Parents and family members are welcome to attend that morning. \nFor information about this golf camp\, call Art Noyes at 870/299-0192\,   A number of scholarships are available. Registration forms are available at the Lions Club Pro Shop or go to www.kidsngolf.org.
URL:https://www.goeldorado.com/event/junior-golf-camp-w-kidsngolf/
LOCATION:Lions Club Golf Course\, 1420 E. 19th Street\, El Dorado\, AR\, 71730
CATEGORIES:Community,Family and Children,Recreation & Sports
END:VEVENT
BEGIN:VEVENT
DTSTART;VALUE=DATE:20230422
DTEND;VALUE=DATE:20230424
DTSTAMP:20260422T042230
CREATED:20230131T163543Z
LAST-MODIFIED:20230410T150111Z
UID:10012017-1682121600-1682294399@www.goeldorado.com
SUMMARY:El Dorado Service League Golf Tournament
DESCRIPTION:More information HERE!   \nContact Chelsey Owens or Tanya Golden for Registration information: \nchelsowens84@gmail.com or 870-918-9553 \ngoldenbet@suddenlink.net \n 
URL:https://www.goeldorado.com/event/el-dorado-service-league-golf-tournament/
LOCATION:Lions Club Golf Course\, 1420 E. 19th Street\, El Dorado\, AR\, 71730
CATEGORIES:Community,Recreation & Sports
ATTACH;FMTTYPE=image/jpeg:https://www.goeldorado.com/wp-content/uploads/2023/01/ESL-2023-Golf-Tournament.jpg
END:VEVENT
END:VCALENDAR