BEGIN:VCALENDAR
VERSION:2.0
PRODID:-//El Dorado, Arkansas - ECPv6.15.20//NONSGML v1.0//EN
CALSCALE:GREGORIAN
METHOD:PUBLISH
X-ORIGINAL-URL:https://www.goeldorado.com
X-WR-CALDESC:Events for El Dorado, Arkansas
REFRESH-INTERVAL;VALUE=DURATION:PT1H
X-Robots-Tag:noindex
X-PUBLISHED-TTL:PT1H
BEGIN:VTIMEZONE
TZID:America/Chicago
BEGIN:DAYLIGHT
TZOFFSETFROM:-0600
TZOFFSETTO:-0500
TZNAME:CDT
DTSTART:20220313T080000
END:DAYLIGHT
BEGIN:STANDARD
TZOFFSETFROM:-0500
TZOFFSETTO:-0600
TZNAME:CST
DTSTART:20221106T070000
END:STANDARD
BEGIN:DAYLIGHT
TZOFFSETFROM:-0600
TZOFFSETTO:-0500
TZNAME:CDT
DTSTART:20230312T080000
END:DAYLIGHT
BEGIN:STANDARD
TZOFFSETFROM:-0500
TZOFFSETTO:-0600
TZNAME:CST
DTSTART:20231105T070000
END:STANDARD
BEGIN:DAYLIGHT
TZOFFSETFROM:-0600
TZOFFSETTO:-0500
TZNAME:CDT
DTSTART:20240310T080000
END:DAYLIGHT
BEGIN:STANDARD
TZOFFSETFROM:-0500
TZOFFSETTO:-0600
TZNAME:CST
DTSTART:20241103T070000
END:STANDARD
BEGIN:DAYLIGHT
TZOFFSETFROM:-0600
TZOFFSETTO:-0500
TZNAME:CDT
DTSTART:20250309T080000
END:DAYLIGHT
BEGIN:STANDARD
TZOFFSETFROM:-0500
TZOFFSETTO:-0600
TZNAME:CST
DTSTART:20251102T070000
END:STANDARD
END:VTIMEZONE
BEGIN:VEVENT
DTSTART;TZID=America/Chicago:20241224T173000
DTEND;TZID=America/Chicago:20241224T183000
DTSTAMP:20260420T005752
CREATED:20241220T180407Z
LAST-MODIFIED:20241220T180407Z
UID:10023633-1735061400-1735065000@www.goeldorado.com
SUMMARY:Christmas Eve Service @ St Paul Global Methodist Church
DESCRIPTION:Saint Paul is having a Christmas Eve service and that’s on Christmas Eve at 5:30 it’s going to be a service of Carol’s\, Candles\, and Communion.
URL:https://www.goeldorado.com/event/christmas-eve-service-st-paul-global-methodist-church/
LOCATION:St Paul Methodist Church\, 700 W 8th St\, El Dorado\, AR\, 71730\, United States
CATEGORIES:Holiday
END:VEVENT
BEGIN:VEVENT
DTSTART;TZID=America/Chicago:20241030T173000
DTEND;TZID=America/Chicago:20241030T190000
DTSTAMP:20260420T005752
CREATED:20241023T203030Z
LAST-MODIFIED:20241023T203030Z
UID:10023184-1730309400-1730314800@www.goeldorado.com
SUMMARY:Trunk or Treat at St. Paul Methodist Church
DESCRIPTION:Trunk or Treat! \nWhere: St. Paul Methodist Church (700 W. 8th Street\, El Dorado)\nWhen: Wednesday\, October 30th\nTime: 5:30 p.m. to 7 p.m. \nFor questions\, contact Pastor John Moore at winwithjohnmoore@hotmail.com \n 
URL:https://www.goeldorado.com/event/trunk-or-treat-at-st-paul-methodist-church/
LOCATION:St Paul Methodist Church\, 700 W 8th St\, El Dorado\, AR\, 71730\, United States
CATEGORIES:Clubs/Organizations,Community,Family and Children,Festivals & Celebrations
END:VEVENT
BEGIN:VEVENT
DTSTART;TZID=America/Chicago:20230722T180000
DTEND;TZID=America/Chicago:20230722T200000
DTSTAMP:20260420T005752
CREATED:20230508T204334Z
LAST-MODIFIED:20230508T204334Z
UID:10014180-1690048800-1690056000@www.goeldorado.com
SUMMARY:A King's First Queen: Mother & Son Dance
DESCRIPTION:
URL:https://www.goeldorado.com/event/a-kings-first-queen-mother-son-dance/
LOCATION:St Paul Methodist Church\, 700 W 8th St\, El Dorado\, AR\, 71730\, United States
CATEGORIES:Community,Family and Children
ATTACH;FMTTYPE=image/jpeg:https://www.goeldorado.com/wp-content/uploads/2023/05/345471081_1168005631261034_6532847638360703330_n.jpg
END:VEVENT
BEGIN:VEVENT
DTSTART;TZID=America/Chicago:20230401T170000
DTEND;TZID=America/Chicago:20230401T200000
DTSTAMP:20260420T005752
CREATED:20230316T142007Z
LAST-MODIFIED:20230322T162221Z
UID:10012659-1680368400-1680379200@www.goeldorado.com
SUMMARY:Father & Daughter Ball
DESCRIPTION:
URL:https://www.goeldorado.com/event/father-daughter-ball/
LOCATION:St Paul Methodist Church\, 700 W 8th St\, El Dorado\, AR\, 71730\, United States
CATEGORIES:Arts & Culture,Community,Family and Children
ATTACH;FMTTYPE=image/jpeg:https://www.goeldorado.com/wp-content/uploads/2023/03/father-daughter-ball.jpg
END:VEVENT
END:VCALENDAR